BEGIN:VCALENDAR
VERSION:2.0
PRODID:-//Rink 25 - Seaford - ECPv6.15.20//NONSGML v1.0//EN
CALSCALE:GREGORIAN
METHOD:PUBLISH
X-ORIGINAL-URL:https://www.unitedskates.com/seaford
X-WR-CALDESC:Events for Rink 25 - Seaford
REFRESH-INTERVAL;VALUE=DURATION:PT1H
X-Robots-Tag:noindex
X-PUBLISHED-TTL:PT1H
BEGIN:VTIMEZONE
TZID:America/New_York
BEGIN:DAYLIGHT
TZOFFSETFROM:-0500
TZOFFSETTO:-0400
TZNAME:EDT
DTSTART:20240310T070000
END:DAYLIGHT
BEGIN:STANDARD
TZOFFSETFROM:-0400
TZOFFSETTO:-0500
TZNAME:EST
DTSTART:20241103T060000
END:STANDARD
BEGIN:DAYLIGHT
TZOFFSETFROM:-0500
TZOFFSETTO:-0400
TZNAME:EDT
DTSTART:20250309T070000
END:DAYLIGHT
BEGIN:STANDARD
TZOFFSETFROM:-0400
TZOFFSETTO:-0500
TZNAME:EST
DTSTART:20251102T060000
END:STANDARD
BEGIN:DAYLIGHT
TZOFFSETFROM:-0500
TZOFFSETTO:-0400
TZNAME:EDT
DTSTART:20260308T070000
END:DAYLIGHT
BEGIN:STANDARD
TZOFFSETFROM:-0400
TZOFFSETTO:-0500
TZNAME:EST
DTSTART:20261101T060000
END:STANDARD
END:VTIMEZONE
BEGIN:VEVENT
DTSTART;TZID=America/New_York:20251005T193000
DTEND;TZID=America/New_York:20251005T213000
DTSTAMP:20260423T023105
CREATED:20250922T165821Z
LAST-MODIFIED:20250924T142408Z
UID:24930-1759692600-1759699800@www.unitedskates.com
SUMMARY:$5 Skate Night
DESCRIPTION:🛼💸 Cheap Skate Night is BACK! 💸🛼\nRoll in without breaking the bank — it’s the ultimate budget-friendly skate session! \n📍 United Skates of America – Seaford\n🗓️ 10/5/25\n⏰ 7:30pm-9:30pm\n🎟️ Admission: $5 \n  \nClick Here for Tickets \nWhether you’re perfecting your spins or just vibing to the music\, Cheap Skate Night is the place to be. Bring your crew\, lace up\, and let the good times roll — without emptying your wallet! 🪙
URL:https://www.unitedskates.com/seaford/event/5-skate-night-2/
CATEGORIES:Family Events,Public Skates,Special Events
ATTACH;FMTTYPE=image/jpeg:https://unitedskates-assets.sfo3.digitaloceanspaces.com/wp-content/uploads/sites/11/2025/09/5-sunday-10-5-25.jpg
END:VEVENT
END:VCALENDAR