BEGIN:VCALENDAR
VERSION:2.0
PRODID:-//Rink 25 - Seaford - ECPv6.15.20//NONSGML v1.0//EN
CALSCALE:GREGORIAN
METHOD:PUBLISH
X-ORIGINAL-URL:https://www.unitedskates.com/seaford
X-WR-CALDESC:Events for Rink 25 - Seaford
REFRESH-INTERVAL;VALUE=DURATION:PT1H
X-Robots-Tag:noindex
X-PUBLISHED-TTL:PT1H
BEGIN:VTIMEZONE
TZID:America/New_York
BEGIN:DAYLIGHT
TZOFFSETFROM:-0500
TZOFFSETTO:-0400
TZNAME:EDT
DTSTART:20240310T070000
END:DAYLIGHT
BEGIN:STANDARD
TZOFFSETFROM:-0400
TZOFFSETTO:-0500
TZNAME:EST
DTSTART:20241103T060000
END:STANDARD
BEGIN:DAYLIGHT
TZOFFSETFROM:-0500
TZOFFSETTO:-0400
TZNAME:EDT
DTSTART:20250309T070000
END:DAYLIGHT
BEGIN:STANDARD
TZOFFSETFROM:-0400
TZOFFSETTO:-0500
TZNAME:EST
DTSTART:20251102T060000
END:STANDARD
BEGIN:DAYLIGHT
TZOFFSETFROM:-0500
TZOFFSETTO:-0400
TZNAME:EDT
DTSTART:20260308T070000
END:DAYLIGHT
BEGIN:STANDARD
TZOFFSETFROM:-0400
TZOFFSETTO:-0500
TZNAME:EST
DTSTART:20261101T060000
END:STANDARD
END:VTIMEZONE
BEGIN:VEVENT
DTSTART;TZID=America/New_York:20251003T183000
DTEND;TZID=America/New_York:20251003T203000
DTSTAMP:20260423T022951
CREATED:20250526T201442Z
LAST-MODIFIED:20250815T133705Z
UID:24055-1759516200-1759523400@www.unitedskates.com
SUMMARY:Taylor Release Party
DESCRIPTION:🌟 Taylor Swift Album Release Party 🌟\n🎤 “Life of a Showgirl” Launch Celebration 🎶 \nJoin us for a night of music\, skating\, and Swiftie fun at United Skates! \n📅 Date: Friday\, October 3\n🕡 Time: 6:30 PM – 8:30 PM\n📍 Location: United Skates \n🎟️ Admission: \n\n$15.50 online\n$16.50 at the door\nSkate rental: $7\nNon-skating adults: $6\n\n✨ Celebrate the release of Taylor Swift’s “Life of a Showgirl” album with: \n\nRoller skating to your favorite Taylor hits\nThemed decorations and vibes\nFun for fans of all ages!\n\nDon’t miss this unforgettable Swiftie celebration! 💃🛼 \nClick Here for Tickets \n\nAll Guests entering the facility must have a waiver filled out prior to arrival \n\nClick Here for Waiver \n\nNo refunds day of the event or after.
URL:https://www.unitedskates.com/seaford/event/glow-in-dark-family-skate-2025-10-03/
LOCATION:United Skates
CATEGORIES:Family Events,Public Skates,Special Events
ATTACH;FMTTYPE=image/jpeg:https://unitedskates-assets.sfo3.digitaloceanspaces.com/wp-content/uploads/sites/11/2025/05/taylor-album-release-party.jpg
END:VEVENT
BEGIN:VEVENT
DTSTART;TZID=America/New_York:20251003T210000
DTEND;TZID=America/New_York:20251003T233000
DTSTAMP:20260423T022951
CREATED:20250924T195256Z
LAST-MODIFIED:20250924T195256Z
UID:24982-1759525200-1759534200@www.unitedskates.com
SUMMARY:Glow in the Dark Gospel Night
DESCRIPTION:🛼 Glow in the Dark Gospel Skate Night\nJoin us for an electrifying evening of faith\, fun\, and fellowship! This special event features glow-in-the-dark skating\, unlimited pizza and soft drinks\, and a vibrant gospel atmosphere perfect for youth groups\, ministries\, families\, and friends. \n🎟️ $25 includes admission\, skate rental\, and unlimited pizza & drinks\n👥 Non-skating adults: $10 with unlimited pizza & drinks\n✨ Advanced reservations include reserved seating\n📞 Call 516-795-5474 ext 0 or 📧 email unitedskatessales@gmail.com to book\n🌟 All are welcome! Let’s roll together in celebration and community. \n 
URL:https://www.unitedskates.com/seaford/event/glow-in-the-dark-gospel-night/
LOCATION:United Skates
CATEGORIES:Family Events,Public Skates,Special Events
ATTACH;FMTTYPE=image/png:https://unitedskates-assets.sfo3.digitaloceanspaces.com/wp-content/uploads/sites/11/2025/09/October-Gospel-10-3-25.png
END:VEVENT
END:VCALENDAR