BEGIN:VCALENDAR
VERSION:2.0
PRODID:-//Rink 25 - Seaford - ECPv6.15.20//NONSGML v1.0//EN
CALSCALE:GREGORIAN
METHOD:PUBLISH
X-ORIGINAL-URL:https://www.unitedskates.com/seaford
X-WR-CALDESC:Events for Rink 25 - Seaford
REFRESH-INTERVAL;VALUE=DURATION:PT1H
X-Robots-Tag:noindex
X-PUBLISHED-TTL:PT1H
BEGIN:VTIMEZONE
TZID:America/New_York
BEGIN:DAYLIGHT
TZOFFSETFROM:-0500
TZOFFSETTO:-0400
TZNAME:EDT
DTSTART:20240310T070000
END:DAYLIGHT
BEGIN:STANDARD
TZOFFSETFROM:-0400
TZOFFSETTO:-0500
TZNAME:EST
DTSTART:20241103T060000
END:STANDARD
BEGIN:DAYLIGHT
TZOFFSETFROM:-0500
TZOFFSETTO:-0400
TZNAME:EDT
DTSTART:20250309T070000
END:DAYLIGHT
BEGIN:STANDARD
TZOFFSETFROM:-0400
TZOFFSETTO:-0500
TZNAME:EST
DTSTART:20251102T060000
END:STANDARD
BEGIN:DAYLIGHT
TZOFFSETFROM:-0500
TZOFFSETTO:-0400
TZNAME:EDT
DTSTART:20260308T070000
END:DAYLIGHT
BEGIN:STANDARD
TZOFFSETFROM:-0400
TZOFFSETTO:-0500
TZNAME:EST
DTSTART:20261101T060000
END:STANDARD
END:VTIMEZONE
BEGIN:VEVENT
DTSTART;TZID=America/New_York:20250924T093000
DTEND;TZID=America/New_York:20250924T113000
DTSTAMP:20260423T184417
CREATED:20250728T222447Z
LAST-MODIFIED:20250918T161209Z
UID:24160-1758706200-1758713400@www.unitedskates.com
SUMMARY:Early Bird with Stitch
DESCRIPTION:🌞🛼 Early Bird Skate with Stitch! 🛼🌞\n📅 Date: Wednesday\, September 24\n⏰ Time: 9:30 AM – 11:30 AM\n🎟️ Admission: $16 per child\n(includes skating\, skate rental\, a slice of pizza\, and a drink)\n👨‍👩‍👧 Spectating Adults: $7\n(includes admission\, pizza\, and a drink) \nStart your day with some magical morning fun! Join Stitch for a special early bird skate session filled with music\, movement\, and a tasty treat. \n📍 Location: United Skates of America\n🎫 Get your tickets Here \nCostumes encouraged – fun guaranteed!
URL:https://www.unitedskates.com/seaford/event/early-bird-with-stitch/
LOCATION:United Skates Of America Seaford\, 1276 Hicksville Rd.\, Seaford\, NY\, 11783\, United States
CATEGORIES:Family Events,Public Skates,Special Events
ATTACH;FMTTYPE=image/jpeg:https://unitedskates-assets.sfo3.digitaloceanspaces.com/wp-content/uploads/sites/11/2025/07/stitch-skate-9-24-25.jpg
END:VEVENT
BEGIN:VEVENT
DTSTART;TZID=America/New_York:20250924T120000
DTEND;TZID=America/New_York:20250924T140000
DTSTAMP:20260423T184417
CREATED:20250728T212935Z
LAST-MODIFIED:20250923T202709Z
UID:24149-1758715200-1758722400@www.unitedskates.com
SUMMARY:Public Skate
DESCRIPTION:Come join us for a fun-filled day of skating at United Skates of America Roller Skating Center! Whether you’re a beginner or a pro\, this event is perfect for all ages and skill levels. Grab your friends and family for a day full of laughter\, music\, and of course\, skating! Lace up your skates and hit the rink for a day you won’t forget. See you there! \nTickets Must be purchased in advance \nClick Here for Tickets \nAll Guests entering the facility skating & non-skating must have a waiver. \nPlease complete waiver prior to arrival. \nAll Ticket sales are final. \n  \n  \n  \n 
URL:https://www.unitedskates.com/seaford/event/public-skate-78/
LOCATION:United Skates Of America Seaford\, 1276 Hicksville Rd.\, Seaford\, NY\, 11783\, United States
CATEGORIES:Family Events,Public Skates,Special Events
ATTACH;FMTTYPE=image/jpeg:https://unitedskates-assets.sfo3.digitaloceanspaces.com/wp-content/uploads/sites/11/2025/09/School-Is-Out-Flyer-sept-Days.jpg
END:VEVENT
BEGIN:VEVENT
DTSTART;TZID=America/New_York:20250924T143000
DTEND;TZID=America/New_York:20250924T163000
DTSTAMP:20260423T184417
CREATED:20250728T213224Z
LAST-MODIFIED:20250923T202740Z
UID:24151-1758724200-1758731400@www.unitedskates.com
SUMMARY:Public Skate
DESCRIPTION:Come join us for a fun-filled day of skating at United Skates of America Roller Skating Center! Whether you’re a beginner or a pro\, this event is perfect for all ages and skill levels. Grab your friends and family for a day full of laughter\, music\, and of course\, skating! Lace up your skates and hit the rink for a day you won’t forget. See you there! \nTickets Must be purchased in advance \nClick Here For Tickets \nAll Guests entering the facility skating & non-skating must have a waiver. \nPlease complete waiver prior to arrival. \nAll Ticket sales are final.
URL:https://www.unitedskates.com/seaford/event/public-skate-79/
LOCATION:United Skates Of America Seaford\, 1276 Hicksville Rd.\, Seaford\, NY\, 11783\, United States
CATEGORIES:Family Events,Public Skates,Special Events
ATTACH;FMTTYPE=image/jpeg:https://unitedskates-assets.sfo3.digitaloceanspaces.com/wp-content/uploads/sites/11/2025/09/School-Is-Out-Flyer-sept-Days.jpg
END:VEVENT
BEGIN:VEVENT
DTSTART;TZID=America/New_York:20250924T183000
DTEND;TZID=America/New_York:20250924T203000
DTSTAMP:20260423T184417
CREATED:20250804T202002Z
LAST-MODIFIED:20250804T202937Z
UID:24355-1758738600-1758745800@www.unitedskates.com
SUMMARY:Cheap Skate
DESCRIPTION:🛼💸 Cheap Skate Wednesday! 💸🛼\n📅 Wednesday\, September 24\, 2025\n🕙 6:30pm-8:30pm\n📍 United Skates of America \n🎟️ Admission: $8\n👟 Skate Rental: $7\n👨‍👩‍👧‍👦 Non-Skating Adults: $6 \n 
URL:https://www.unitedskates.com/seaford/event/cheap-skate-26/
LOCATION:United Skates Of America Seaford\, 1276 Hicksville Rd.\, Seaford\, NY\, 11783\, United States
CATEGORIES:Family Events,Public Skates,Special Events
ATTACH;FMTTYPE=image/jpeg:https://unitedskates-assets.sfo3.digitaloceanspaces.com/wp-content/uploads/sites/11/2025/08/cheap-skate-9-24-25.jpg
END:VEVENT
BEGIN:VEVENT
DTSTART;TZID=America/New_York:20250924T210000
DTEND;TZID=America/New_York:20250925T000000
DTSTAMP:20260423T184417
CREATED:20250702T172643Z
LAST-MODIFIED:20260222T150048Z
UID:24949-1758747600-1758758400@www.unitedskates.com
SUMMARY:Why Not Wednesday Adult Skate
DESCRIPTION:Adult Night Skate \nMust be over the age of 18 \nAdmission is $15.50 \nSkate Rental is $7 \nDJ D \nPlease Fill out your waiver prior to arrival \nClick Here for Waiver
URL:https://www.unitedskates.com/seaford/event/why-not-wednesday-adult-skate/2025-09-24/
CATEGORIES:Adult Events,Public Skates,Special Events
ATTACH;FMTTYPE=image/jpeg:https://unitedskates-assets.sfo3.digitaloceanspaces.com/wp-content/uploads/sites/11/2022/05/Why-Not-Wednesdays-Adult-Skate.jpg
END:VEVENT
END:VCALENDAR