BEGIN:VCALENDAR
VERSION:2.0
PRODID:-//Rink 25 - Seaford - ECPv6.15.20//NONSGML v1.0//EN
CALSCALE:GREGORIAN
METHOD:PUBLISH
X-WR-CALNAME:Rink 25 - Seaford
X-ORIGINAL-URL:https://www.unitedskates.com/seaford
X-WR-CALDESC:Events for Rink 25 - Seaford
REFRESH-INTERVAL;VALUE=DURATION:PT1H
X-Robots-Tag:noindex
X-PUBLISHED-TTL:PT1H
BEGIN:VTIMEZONE
TZID:America/New_York
BEGIN:DAYLIGHT
TZOFFSETFROM:-0500
TZOFFSETTO:-0400
TZNAME:EDT
DTSTART:20240310T070000
END:DAYLIGHT
BEGIN:STANDARD
TZOFFSETFROM:-0400
TZOFFSETTO:-0500
TZNAME:EST
DTSTART:20241103T060000
END:STANDARD
BEGIN:DAYLIGHT
TZOFFSETFROM:-0500
TZOFFSETTO:-0400
TZNAME:EDT
DTSTART:20250309T070000
END:DAYLIGHT
BEGIN:STANDARD
TZOFFSETFROM:-0400
TZOFFSETTO:-0500
TZNAME:EST
DTSTART:20251102T060000
END:STANDARD
BEGIN:DAYLIGHT
TZOFFSETFROM:-0500
TZOFFSETTO:-0400
TZNAME:EDT
DTSTART:20260308T070000
END:DAYLIGHT
BEGIN:STANDARD
TZOFFSETFROM:-0400
TZOFFSETTO:-0500
TZNAME:EST
DTSTART:20261101T060000
END:STANDARD
END:VTIMEZONE
BEGIN:VEVENT
DTSTART;TZID=America/New_York:20250920T100000
DTEND;TZID=America/New_York:20250920T120000
DTSTAMP:20260423T093651
CREATED:20250829T182200Z
LAST-MODIFIED:20250829T184853Z
UID:24797-1758362400-1758369600@www.unitedskates.com
SUMMARY:Pikachu's Fall Party
DESCRIPTION:🍂⚡ Pikachu’s Fall Festival is coming to United Skates of America in Seaford\, NY — and it’s shaping up to be a cozy\, colorful celebration! \n🎉 Event Highlights\n\n📅 Date: Saturday\, September 20\n🕙 Time: 10:00 AM – 12:00 PM\n🎟️ Admission:\n\nSkating Guests: $8\nSkate Rental: $7\nNon-Skating Adults: $6\n\n\n\n🧡 What to Expect\n\nMeet & greet with Fall-themed Pikachu\nTrivia\, games\, and photo ops\nFamily-friendly vibes with a seasonal twist\n\nClick Here for Tickets
URL:https://www.unitedskates.com/seaford/event/pikachus-fall-party/
LOCATION:United Skates Of America Seaford\, 1276 Hicksville Rd.\, Seaford\, NY\, 11783\, United States
CATEGORIES:Family Events,Public Skates,Special Events
ATTACH;FMTTYPE=image/jpeg:https://unitedskates-assets.sfo3.digitaloceanspaces.com/wp-content/uploads/sites/11/2025/08/Pikachus-Fall-Fest-Weekend.jpg
END:VEVENT
BEGIN:VEVENT
DTSTART;TZID=America/New_York:20250920T150000
DTEND;TZID=America/New_York:20250920T170000
DTSTAMP:20260423T093651
CREATED:20250306T170141Z
LAST-MODIFIED:20251113T185854Z
UID:23688-1758380400-1758387600@www.unitedskates.com
SUMMARY:Public Skating
DESCRIPTION:All Children & Skating Adults Admission is $16.50 \nSkate Rental is $7 \nNon Skating Adults $6 \nOnline Ticket Prices \nAll Children & Skating Adults Admission is $15.50 \nSkate Rental is $7 \nNon Skating Adults $6 \nClick Here for Tickets \nAll Guests entering the facility skating & non-skating must have a waiver. \nPlease complete waiver prior to arrival. \nPlease click here for the Waiver \nNo refunds. \nAll Sales are final
URL:https://www.unitedskates.com/seaford/event/public-skating-19-2025-05-03/2025-09-20/
CATEGORIES:Family Events,Public Skates,Special Events
ATTACH;FMTTYPE=image/jpeg:https://unitedskates-assets.sfo3.digitaloceanspaces.com/wp-content/uploads/sites/11/2022/05/Public-Skate-1200x900-1.jpg
END:VEVENT
BEGIN:VEVENT
DTSTART;TZID=America/New_York:20250920T200000
DTEND;TZID=America/New_York:20250920T220000
DTSTAMP:20260423T093651
CREATED:20250104T135246Z
LAST-MODIFIED:20250104T135246Z
UID:24266-1758398400-1758405600@www.unitedskates.com
SUMMARY:$5 Glow In Dark Hip Hop Skate Night
DESCRIPTION:All Children & Skating Adults Admission is $5 \nSkate Rental is $7 \nNon Skating Adults $ \nOnline Ticket Prices \nAll Children & Skating Adults Admission is $5 \nSkate Rental is $7 \nNon Skating Adults $5 \nClick Here for Tickets \nAll Guests entering the facility skating & non-skating must have a waiver. \nPlease complete waiver prior to arrival. \nPlease click here for the Waiver \nNo refunds Day of the event of after.
URL:https://www.unitedskates.com/seaford/event/glow-in-dark-hip-hop-skate-night-2025-05-03-2025-07-12/2025-09-20/
LOCATION:United Skates Of America Seaford\, 1276 Hicksville Rd.\, Seaford\, NY\, 11783\, United States
CATEGORIES:Family Events,Public Skates,Special Events
ATTACH;FMTTYPE=image/jpeg:https://unitedskates-assets.sfo3.digitaloceanspaces.com/wp-content/uploads/sites/11/2025/01/5.00-Saturdays.jpg
END:VEVENT
END:VCALENDAR