BEGIN:VCALENDAR
VERSION:2.0
PRODID:-//Rink 25 - Seaford - ECPv6.15.20//NONSGML v1.0//EN
CALSCALE:GREGORIAN
METHOD:PUBLISH
X-ORIGINAL-URL:https://www.unitedskates.com/seaford
X-WR-CALDESC:Events for Rink 25 - Seaford
REFRESH-INTERVAL;VALUE=DURATION:PT1H
X-Robots-Tag:noindex
X-PUBLISHED-TTL:PT1H
BEGIN:VTIMEZONE
TZID:America/New_York
BEGIN:DAYLIGHT
TZOFFSETFROM:-0500
TZOFFSETTO:-0400
TZNAME:EDT
DTSTART:20240310T070000
END:DAYLIGHT
BEGIN:STANDARD
TZOFFSETFROM:-0400
TZOFFSETTO:-0500
TZNAME:EST
DTSTART:20241103T060000
END:STANDARD
BEGIN:DAYLIGHT
TZOFFSETFROM:-0500
TZOFFSETTO:-0400
TZNAME:EDT
DTSTART:20250309T070000
END:DAYLIGHT
BEGIN:STANDARD
TZOFFSETFROM:-0400
TZOFFSETTO:-0500
TZNAME:EST
DTSTART:20251102T060000
END:STANDARD
BEGIN:DAYLIGHT
TZOFFSETFROM:-0500
TZOFFSETTO:-0400
TZNAME:EDT
DTSTART:20260308T070000
END:DAYLIGHT
BEGIN:STANDARD
TZOFFSETFROM:-0400
TZOFFSETTO:-0500
TZNAME:EST
DTSTART:20261101T060000
END:STANDARD
END:VTIMEZONE
BEGIN:VEVENT
DTSTART;TZID=America/New_York:20250914T170000
DTEND;TZID=America/New_York:20250914T190000
DTSTAMP:20260423T111400
CREATED:20250512T174943Z
LAST-MODIFIED:20250826T203842Z
UID:23873-1757869200-1757876400@www.unitedskates.com
SUMMARY:Public Skate
DESCRIPTION:🌸🎶 HELLO KITTY K-POP SKATE PARTY! 🎶🌸\n📍 United Skates of America – September 14th  | 5–7 PM \n💖 Calling all K-pop fans & Hello Kitty lovers! 💖\nGet ready to roll into the cutest skate party of the year! 🎀✨ \n🎟️ Admission\n💵 $16.50 at the door\n💻 $15.50 online\n🛼 Skate Rental: $7\n👨‍👩‍👧 Non-skating adults: $6 \n🌟 VIP Upgrade – $35\nIncludes:\n🛼 Admission + Skates\n🐱 Cat Ears\n🎮 $5 Game Card\n🌈 Glow Stick \n🎉 Music\, lights\, games\, and all the Hello Kitty vibes you can handle!\n📸 Snap pics\, dance to your fave K-pop hits\, and make memories! \n🎫 Grab your tickets now before they sell out!\n👉 Click Here for Tickets \n  \nAll Guests entering the facility skating & non-skating must have a waiver. \nPlease complete waiver prior to arrival. \nPlease click here for the Waiver \nNo refunds All Sales Final
URL:https://www.unitedskates.com/seaford/event/2025-09-14/
CATEGORIES:Family Events,Public Skates,Special Events
ATTACH;FMTTYPE=image/jpeg:https://unitedskates-assets.sfo3.digitaloceanspaces.com/wp-content/uploads/sites/11/2025/05/kpop-hello-kitty-9-14-25.jpg
END:VEVENT
END:VCALENDAR