BEGIN:VCALENDAR
VERSION:2.0
PRODID:-//Rink 25 - Seaford - ECPv6.15.20//NONSGML v1.0//EN
CALSCALE:GREGORIAN
METHOD:PUBLISH
X-WR-CALNAME:Rink 25 - Seaford
X-ORIGINAL-URL:https://www.unitedskates.com/seaford
X-WR-CALDESC:Events for Rink 25 - Seaford
REFRESH-INTERVAL;VALUE=DURATION:PT1H
X-Robots-Tag:noindex
X-PUBLISHED-TTL:PT1H
BEGIN:VTIMEZONE
TZID:America/New_York
BEGIN:DAYLIGHT
TZOFFSETFROM:-0500
TZOFFSETTO:-0400
TZNAME:EDT
DTSTART:20240310T070000
END:DAYLIGHT
BEGIN:STANDARD
TZOFFSETFROM:-0400
TZOFFSETTO:-0500
TZNAME:EST
DTSTART:20241103T060000
END:STANDARD
BEGIN:DAYLIGHT
TZOFFSETFROM:-0500
TZOFFSETTO:-0400
TZNAME:EDT
DTSTART:20250309T070000
END:DAYLIGHT
BEGIN:STANDARD
TZOFFSETFROM:-0400
TZOFFSETTO:-0500
TZNAME:EST
DTSTART:20251102T060000
END:STANDARD
BEGIN:DAYLIGHT
TZOFFSETFROM:-0500
TZOFFSETTO:-0400
TZNAME:EDT
DTSTART:20260308T070000
END:DAYLIGHT
BEGIN:STANDARD
TZOFFSETFROM:-0400
TZOFFSETTO:-0500
TZNAME:EST
DTSTART:20261101T060000
END:STANDARD
END:VTIMEZONE
BEGIN:VEVENT
DTSTART;TZID=America/New_York:20250829T093000
DTEND;TZID=America/New_York:20250901T173000
DTSTAMP:20260423T123307
CREATED:20250808T175811Z
LAST-MODIFIED:20250808T175811Z
UID:24395-1756459800-1756747800@www.unitedskates.com
SUMMARY:Labor Day Weekend
DESCRIPTION:Labor Day Weekend Skate Pass – Only $75!\nCelebrate the holiday with food\, fun\, and skating for the whole crew! \nThis $112 value includes:🛼 4 Admissions🛼 4 Skate Rentals🍕 1 Large Cheese Pizza🥤 1 Pitcher of Soda \nAll for just $75.00! \n📆 Redeemable August 29 – September 1❗ Not valid during sessions on Saturday 8/31 from 7:30–9:30pm or Monday 9/1 from 2:00–5:30pm📍 United Skates of America – Seaford\, NJ \nRestrictions apply. Offer valid during select family public skate times. \nGet Tickets Here
URL:https://www.unitedskates.com/seaford/event/labor-day-weekend/
CATEGORIES:Family Events,Public Skates,Special Events
ATTACH;FMTTYPE=image/jpeg:https://unitedskates-assets.sfo3.digitaloceanspaces.com/wp-content/uploads/sites/11/2025/08/25-Labor-Day-Weekend-Pass.jpg
END:VEVENT
BEGIN:VEVENT
DTSTART;TZID=America/New_York:20250831T170000
DTEND;TZID=America/New_York:20250831T200000
DTSTAMP:20260423T123307
CREATED:20250704T154530Z
LAST-MODIFIED:20250704T154530Z
UID:24032-1756659600-1756670400@www.unitedskates.com
SUMMARY:$5 Sunday
DESCRIPTION:🎉🛼 $5 Sunday Fun Night! 🛼🎉\nBring the whole family for an evening of skating\, music\, and memories! \n🕢 Time: 5:00PM – 8:00 PM\n💵 Admission: Just $5 per person\n🛼 Skate Rental: $7 \n🎶 Great music • 🍕 Tasty snacks • 😄 Family-friendly fun \nDon’t miss this awesome night of affordable fun — perfect for all ages! \n👉 Grab your tickets Click Here
URL:https://www.unitedskates.com/seaford/event/5-sunday/2025-08-31/
LOCATION:United Skates
CATEGORIES:Family Events,Special Events
ATTACH;FMTTYPE=image/jpeg:https://unitedskates-assets.sfo3.digitaloceanspaces.com/wp-content/uploads/sites/11/2025/07/Sunday-Special.jpg
END:VEVENT
BEGIN:VEVENT
DTSTART;TZID=America/New_York:20250831T203000
DTEND;TZID=America/New_York:20250831T223000
DTSTAMP:20260423T123307
CREATED:20250806T185246Z
LAST-MODIFIED:20250813T174810Z
UID:24389-1756672200-1756679400@www.unitedskates.com
SUMMARY:Skate Jam
DESCRIPTION:$12 admission \nSpectator $6 \nClick Here for Tickets
URL:https://www.unitedskates.com/seaford/event/skate-jam-18/
LOCATION:United Skates Of America Seaford\, 1276 Hicksville Rd.\, Seaford\, NY\, 11783\, United States
CATEGORIES:Family Events,Public Skates,Special Events
ATTACH;FMTTYPE=image/jpeg:https://unitedskates-assets.sfo3.digitaloceanspaces.com/wp-content/uploads/sites/11/2025/03/1-Labor-Day-Weekend-Pass-1.jpg
END:VEVENT
END:VCALENDAR