BEGIN:VCALENDAR
VERSION:2.0
PRODID:-//Rink 25 - Seaford - ECPv6.15.20//NONSGML v1.0//EN
CALSCALE:GREGORIAN
METHOD:PUBLISH
X-WR-CALNAME:Rink 25 - Seaford
X-ORIGINAL-URL:https://www.unitedskates.com/seaford
X-WR-CALDESC:Events for Rink 25 - Seaford
REFRESH-INTERVAL;VALUE=DURATION:PT1H
X-Robots-Tag:noindex
X-PUBLISHED-TTL:PT1H
BEGIN:VTIMEZONE
TZID:America/New_York
BEGIN:DAYLIGHT
TZOFFSETFROM:-0500
TZOFFSETTO:-0400
TZNAME:EDT
DTSTART:20240310T070000
END:DAYLIGHT
BEGIN:STANDARD
TZOFFSETFROM:-0400
TZOFFSETTO:-0500
TZNAME:EST
DTSTART:20241103T060000
END:STANDARD
BEGIN:DAYLIGHT
TZOFFSETFROM:-0500
TZOFFSETTO:-0400
TZNAME:EDT
DTSTART:20250309T070000
END:DAYLIGHT
BEGIN:STANDARD
TZOFFSETFROM:-0400
TZOFFSETTO:-0500
TZNAME:EST
DTSTART:20251102T060000
END:STANDARD
BEGIN:DAYLIGHT
TZOFFSETFROM:-0500
TZOFFSETTO:-0400
TZNAME:EDT
DTSTART:20260308T070000
END:DAYLIGHT
BEGIN:STANDARD
TZOFFSETFROM:-0400
TZOFFSETTO:-0500
TZNAME:EST
DTSTART:20261101T060000
END:STANDARD
END:VTIMEZONE
BEGIN:VEVENT
DTSTART;TZID=America/New_York:20250829T093000
DTEND;TZID=America/New_York:20250901T173000
DTSTAMP:20260423T183555
CREATED:20250808T175811Z
LAST-MODIFIED:20250808T175811Z
UID:24395-1756459800-1756747800@www.unitedskates.com
SUMMARY:Labor Day Weekend
DESCRIPTION:Labor Day Weekend Skate Pass – Only $75!\nCelebrate the holiday with food\, fun\, and skating for the whole crew! \nThis $112 value includes:🛼 4 Admissions🛼 4 Skate Rentals🍕 1 Large Cheese Pizza🥤 1 Pitcher of Soda \nAll for just $75.00! \n📆 Redeemable August 29 – September 1❗ Not valid during sessions on Saturday 8/31 from 7:30–9:30pm or Monday 9/1 from 2:00–5:30pm📍 United Skates of America – Seaford\, NJ \nRestrictions apply. Offer valid during select family public skate times. \nGet Tickets Here
URL:https://www.unitedskates.com/seaford/event/labor-day-weekend/
CATEGORIES:Family Events,Public Skates,Special Events
ATTACH;FMTTYPE=image/jpeg:https://unitedskates-assets.sfo3.digitaloceanspaces.com/wp-content/uploads/sites/11/2025/08/25-Labor-Day-Weekend-Pass.jpg
END:VEVENT
BEGIN:VEVENT
DTSTART;TZID=America/New_York:20250829T183000
DTEND;TZID=America/New_York:20250829T203000
DTSTAMP:20260423T183555
CREATED:20250526T201442Z
LAST-MODIFIED:20250820T155714Z
UID:24050-1756492200-1756499400@www.unitedskates.com
SUMMARY:Zombie Skate Party
DESCRIPTION:ZOMBIES TAKEOVER at United Skates! \n Friday\, August 29th\n 6:30 PM – 8:30 PM\n United Skates of America – Seaford\n\n\nCalling all Zoms\, Poms\, and Werewolves! \nJoin us for a night straight out of Seabrook with music\, games\, and fun inspired by Disney’s ZOMBIES movies!\n\n\n Skate to the biggest hits from all 4 ZOMBIES movies\n Show off your smarts in ZOMBIES trivia\n Play themed games and win cool prizes\n Enjoy tasty snacks\n And don’t forget the surprises lurking around every corner!\n\n\n Admission:\n\n\n$16.50 at the door\n$15.50 online\nSkate rental: $7\nNon-skating adults: $6\n Get your tickets now: Click Here for Tickets\n\n\n Dress up as your favorite ZOMBIES character and bring your best Seabrook spirit!\nLet’s make this a night to remember—Zombietown style! \n\n\nAll Guests entering the facility must have a waiver filled out prior to arrival \n\nClick Here for Waiver \n\nNo refunds day of the event or after.
URL:https://www.unitedskates.com/seaford/event/glow-in-dark-family-skate-2025-08-29/
LOCATION:United Skates
CATEGORIES:Family Events,Public Skates,Special Events
ATTACH;FMTTYPE=image/jpeg:https://unitedskates-assets.sfo3.digitaloceanspaces.com/wp-content/uploads/sites/11/2025/05/Zombies-Skate-Party-2025.jpg
END:VEVENT
BEGIN:VEVENT
DTSTART;TZID=America/New_York:20250829T213000
DTEND;TZID=America/New_York:20250829T233000
DTSTAMP:20260423T183555
CREATED:20250806T181307Z
LAST-MODIFIED:20250806T181307Z
UID:24377-1756503000-1756510200@www.unitedskates.com
SUMMARY:Late Night Skate
DESCRIPTION:
URL:https://www.unitedskates.com/seaford/event/late-night-skate-7/
CATEGORIES:Family Events,Public Skates,Special Events
ATTACH;FMTTYPE=image/jpeg:https://unitedskates-assets.sfo3.digitaloceanspaces.com/wp-content/uploads/sites/11/2025/03/1-Labor-Day-Weekend-Pass-1.jpg
END:VEVENT
END:VCALENDAR