BEGIN:VCALENDAR
VERSION:2.0
PRODID:-//Rink 25 - Seaford - ECPv6.15.20//NONSGML v1.0//EN
CALSCALE:GREGORIAN
METHOD:PUBLISH
X-WR-CALNAME:Rink 25 - Seaford
X-ORIGINAL-URL:https://www.unitedskates.com/seaford
X-WR-CALDESC:Events for Rink 25 - Seaford
REFRESH-INTERVAL;VALUE=DURATION:PT1H
X-Robots-Tag:noindex
X-PUBLISHED-TTL:PT1H
BEGIN:VTIMEZONE
TZID:America/New_York
BEGIN:DAYLIGHT
TZOFFSETFROM:-0500
TZOFFSETTO:-0400
TZNAME:EDT
DTSTART:20240310T070000
END:DAYLIGHT
BEGIN:STANDARD
TZOFFSETFROM:-0400
TZOFFSETTO:-0500
TZNAME:EST
DTSTART:20241103T060000
END:STANDARD
BEGIN:DAYLIGHT
TZOFFSETFROM:-0500
TZOFFSETTO:-0400
TZNAME:EDT
DTSTART:20250309T070000
END:DAYLIGHT
BEGIN:STANDARD
TZOFFSETFROM:-0400
TZOFFSETTO:-0500
TZNAME:EST
DTSTART:20251102T060000
END:STANDARD
BEGIN:DAYLIGHT
TZOFFSETFROM:-0500
TZOFFSETTO:-0400
TZNAME:EDT
DTSTART:20260308T070000
END:DAYLIGHT
BEGIN:STANDARD
TZOFFSETFROM:-0400
TZOFFSETTO:-0500
TZNAME:EST
DTSTART:20261101T060000
END:STANDARD
END:VTIMEZONE
BEGIN:VEVENT
DTSTART;TZID=America/New_York:20250826T163000
DTEND;TZID=America/New_York:20250826T183000
DTSTAMP:20260423T123251
CREATED:20250826T152152Z
LAST-MODIFIED:20250826T155426Z
UID:24740-1756225800-1756233000@www.unitedskates.com
SUMMARY:Public Skate
DESCRIPTION:$16.50 admission \n$7.00 Skate Rental
URL:https://www.unitedskates.com/seaford/event/public-skate-81/
LOCATION:United Skates Of America Seaford\, 1276 Hicksville Rd.\, Seaford\, NY\, 11783\, United States
CATEGORIES:Family Events,Public Skates,Special Events
ATTACH;FMTTYPE=image/jpeg:https://unitedskates-assets.sfo3.digitaloceanspaces.com/wp-content/uploads/sites/11/2022/05/Public-Skate-1200x900-1.jpg
END:VEVENT
BEGIN:VEVENT
DTSTART;TZID=America/New_York:20250826T190000
DTEND;TZID=America/New_York:20250826T210000
DTSTAMP:20260423T123251
CREATED:20250606T162716Z
LAST-MODIFIED:20250826T152259Z
UID:24724-1756234800-1756242000@www.unitedskates.com
SUMMARY:R&B Glow Skate
DESCRIPTION:  \n\n🌟🎧 TUESDAY NIGHT VIBES! 🎧🌟\n🛼 Glow in the Dark R&B Skate Party 🛼\n📅 Every Tuesday | 🕖 7PM – 9PM \nSlide into the groove under the neon lights! Whether you’re skating or just soaking in the smooth R&B beats\, it’s the perfect way to light up your week. 💃🕺 \n🎟️ Admission:\n✨ At the door: $16.50\n✨ Online: $15.50\n✨ Skate Rental: $7\n✨ Non-Skating Adults: $6 \n💥 Good vibes. Great music. Glowing wheels.\n🎫 Grab your tickets now and let’s roll   Click Here for Tickets \n\nAll Guests entering the facility skating & non-skating must have a waiver. \nPlease complete waiver prior to arrival. \nPlease click here for the Waiver \nNo refunds All Sales Final
URL:https://www.unitedskates.com/seaford/event/rb-glow-skate/2025-08-26/
LOCATION:United Skates Of America Seaford\, 1276 Hicksville Rd.\, Seaford\, NY\, 11783\, United States
CATEGORIES:Family Events,Public Skates,Special Events
ATTACH;FMTTYPE=image/jpeg:https://unitedskates-assets.sfo3.digitaloceanspaces.com/wp-content/uploads/sites/11/2025/06/Glow-in-the-Dark-rnb-Skate-2025-25.jpg
END:VEVENT
END:VCALENDAR