BEGIN:VCALENDAR
VERSION:2.0
PRODID:-//Rink 25 - Seaford - ECPv6.15.20//NONSGML v1.0//EN
CALSCALE:GREGORIAN
METHOD:PUBLISH
X-WR-CALNAME:Rink 25 - Seaford
X-ORIGINAL-URL:https://www.unitedskates.com/seaford
X-WR-CALDESC:Events for Rink 25 - Seaford
REFRESH-INTERVAL;VALUE=DURATION:PT1H
X-Robots-Tag:noindex
X-PUBLISHED-TTL:PT1H
BEGIN:VTIMEZONE
TZID:America/New_York
BEGIN:DAYLIGHT
TZOFFSETFROM:-0500
TZOFFSETTO:-0400
TZNAME:EDT
DTSTART:20240310T070000
END:DAYLIGHT
BEGIN:STANDARD
TZOFFSETFROM:-0400
TZOFFSETTO:-0500
TZNAME:EST
DTSTART:20241103T060000
END:STANDARD
BEGIN:DAYLIGHT
TZOFFSETFROM:-0500
TZOFFSETTO:-0400
TZNAME:EDT
DTSTART:20250309T070000
END:DAYLIGHT
BEGIN:STANDARD
TZOFFSETFROM:-0400
TZOFFSETTO:-0500
TZNAME:EST
DTSTART:20251102T060000
END:STANDARD
BEGIN:DAYLIGHT
TZOFFSETFROM:-0500
TZOFFSETTO:-0400
TZNAME:EDT
DTSTART:20260308T070000
END:DAYLIGHT
BEGIN:STANDARD
TZOFFSETFROM:-0400
TZOFFSETTO:-0500
TZNAME:EST
DTSTART:20261101T060000
END:STANDARD
END:VTIMEZONE
BEGIN:VEVENT
DTSTART;TZID=America/New_York:20250824T170000
DTEND;TZID=America/New_York:20250824T200000
DTSTAMP:20260423T123309
CREATED:20250704T154530Z
LAST-MODIFIED:20250704T154530Z
UID:24031-1756054800-1756065600@www.unitedskates.com
SUMMARY:$5 Sunday
DESCRIPTION:🎉🛼 $5 Sunday Fun Night! 🛼🎉\nBring the whole family for an evening of skating\, music\, and memories! \n🕢 Time: 5:00PM – 8:00 PM\n💵 Admission: Just $5 per person\n🛼 Skate Rental: $7 \n🎶 Great music • 🍕 Tasty snacks • 😄 Family-friendly fun \nDon’t miss this awesome night of affordable fun — perfect for all ages! \n👉 Grab your tickets Click Here
URL:https://www.unitedskates.com/seaford/event/5-sunday/2025-08-24/
LOCATION:United Skates
CATEGORIES:Family Events,Special Events
ATTACH;FMTTYPE=image/jpeg:https://unitedskates-assets.sfo3.digitaloceanspaces.com/wp-content/uploads/sites/11/2025/07/Sunday-Special.jpg
END:VEVENT
END:VCALENDAR