BEGIN:VCALENDAR
VERSION:2.0
PRODID:-//Rink 25 - Seaford - ECPv6.15.20//NONSGML v1.0//EN
CALSCALE:GREGORIAN
METHOD:PUBLISH
X-ORIGINAL-URL:https://www.unitedskates.com/seaford
X-WR-CALDESC:Events for Rink 25 - Seaford
REFRESH-INTERVAL;VALUE=DURATION:PT1H
X-Robots-Tag:noindex
X-PUBLISHED-TTL:PT1H
BEGIN:VTIMEZONE
TZID:America/New_York
BEGIN:DAYLIGHT
TZOFFSETFROM:-0500
TZOFFSETTO:-0400
TZNAME:EDT
DTSTART:20240310T070000
END:DAYLIGHT
BEGIN:STANDARD
TZOFFSETFROM:-0400
TZOFFSETTO:-0500
TZNAME:EST
DTSTART:20241103T060000
END:STANDARD
BEGIN:DAYLIGHT
TZOFFSETFROM:-0500
TZOFFSETTO:-0400
TZNAME:EDT
DTSTART:20250309T070000
END:DAYLIGHT
BEGIN:STANDARD
TZOFFSETFROM:-0400
TZOFFSETTO:-0500
TZNAME:EST
DTSTART:20251102T060000
END:STANDARD
BEGIN:DAYLIGHT
TZOFFSETFROM:-0500
TZOFFSETTO:-0400
TZNAME:EDT
DTSTART:20260308T070000
END:DAYLIGHT
BEGIN:STANDARD
TZOFFSETFROM:-0400
TZOFFSETTO:-0500
TZNAME:EST
DTSTART:20261101T060000
END:STANDARD
END:VTIMEZONE
BEGIN:VEVENT
DTSTART;TZID=America/New_York:20250819T163000
DTEND;TZID=America/New_York:20250819T183000
DTSTAMP:20260423T171248
CREATED:20250701T201855Z
LAST-MODIFIED:20250815T172632Z
UID:23723-1755621000-1755628200@www.unitedskates.com
SUMMARY:💙 Smurf-tastic Skate Party
DESCRIPTION:💙 Smurf-tastic Skate Party Alert! Get ready to go blue and groove at the Smurfs Skate Party! \n📅 Date: Tuesday\, August 19th \n🕟 Time: 4:30 PM – 6:30 PM \n📍 Location: United Skates of America\, Seaford\, NY \nWhether you’re Papa Smurf\, Smurfette\, or just a fan of fun\, this party is your chance to roll into a magical mushroom village on wheels! \n🛼 Party Details: \n\n🎟️ Admission: $16.50\n🛼 Skate Rental: $7\n🚶 Non-skating Adults: $6\n💻 Online Tickets: $15.50\n\n🎉 Expect smurfy music\, blue-tiful decorations\, and a chance to meet your favorite Smurfs! Costumes are highly encouraged—bonus points for the bluest outfit in the rink.
URL:https://www.unitedskates.com/seaford/event/%f0%9f%92%99-smurf-tastic-skate-party/
CATEGORIES:Family Events,Public Skates,Special Events
ATTACH;FMTTYPE=image/jpeg:https://unitedskates-assets.sfo3.digitaloceanspaces.com/wp-content/uploads/sites/11/2025/07/smurfs-skate-august-1.jpg
END:VEVENT
END:VCALENDAR