BEGIN:VCALENDAR
VERSION:2.0
PRODID:-//Rink 25 - Seaford - ECPv6.15.20//NONSGML v1.0//EN
CALSCALE:GREGORIAN
METHOD:PUBLISH
X-ORIGINAL-URL:https://www.unitedskates.com/seaford
X-WR-CALDESC:Events for Rink 25 - Seaford
REFRESH-INTERVAL;VALUE=DURATION:PT1H
X-Robots-Tag:noindex
X-PUBLISHED-TTL:PT1H
BEGIN:VTIMEZONE
TZID:America/New_York
BEGIN:DAYLIGHT
TZOFFSETFROM:-0500
TZOFFSETTO:-0400
TZNAME:EDT
DTSTART:20240310T070000
END:DAYLIGHT
BEGIN:STANDARD
TZOFFSETFROM:-0400
TZOFFSETTO:-0500
TZNAME:EST
DTSTART:20241103T060000
END:STANDARD
BEGIN:DAYLIGHT
TZOFFSETFROM:-0500
TZOFFSETTO:-0400
TZNAME:EDT
DTSTART:20250309T070000
END:DAYLIGHT
BEGIN:STANDARD
TZOFFSETFROM:-0400
TZOFFSETTO:-0500
TZNAME:EST
DTSTART:20251102T060000
END:STANDARD
BEGIN:DAYLIGHT
TZOFFSETFROM:-0500
TZOFFSETTO:-0400
TZNAME:EDT
DTSTART:20260308T070000
END:DAYLIGHT
BEGIN:STANDARD
TZOFFSETFROM:-0400
TZOFFSETTO:-0500
TZNAME:EST
DTSTART:20261101T060000
END:STANDARD
END:VTIMEZONE
BEGIN:VEVENT
DTSTART;TZID=America/New_York:20250812T163000
DTEND;TZID=America/New_York:20250812T183000
DTSTAMP:20260423T111211
CREATED:20250701T184410Z
LAST-MODIFIED:20250704T142538Z
UID:23719-1755016200-1755023400@www.unitedskates.com
SUMMARY:Pokemon Skate Party
DESCRIPTION:🕹️ Calling All Trainers! Get ready to roll into adventure at the Pokémon Skate Party! \n📅 Date: Monday\, August 12th \n🕟 Time: 4:30 PM – 6:30 PM \n📍 Location: United Skates of America\, Seaford\, NY \nWhether you’re Team Pikachu or Team Charmander\, this party is your chance to skate\, play\, and catch some fun! \n🎉 Party Details: \n\n🎟️ Admission: $16.50\n🛼 Skate Rental: $7\n🚶 Non-skating Adults: $6\n💻 Online Tickets: $15.50\n\n🎈 Meet your favorite Pokémon characters\, groove to themed music\, and show off your best Poké-style on the rink. Costumes encouraged—bonus points if you come dressed as your favorite Pokémon! \nClick Here for Tickets \n 
URL:https://www.unitedskates.com/seaford/event/pokemon-skate-party/
CATEGORIES:Family Events,Public Skates,Special Events
ATTACH;FMTTYPE=image/jpeg:https://unitedskates-assets.sfo3.digitaloceanspaces.com/wp-content/uploads/sites/11/2025/07/pokemon-aug-2025.jpg
END:VEVENT
END:VCALENDAR