BEGIN:VCALENDAR
VERSION:2.0
PRODID:-//Rink 25 - Seaford - ECPv6.15.20//NONSGML v1.0//EN
CALSCALE:GREGORIAN
METHOD:PUBLISH
X-ORIGINAL-URL:https://www.unitedskates.com/seaford
X-WR-CALDESC:Events for Rink 25 - Seaford
REFRESH-INTERVAL;VALUE=DURATION:PT1H
X-Robots-Tag:noindex
X-PUBLISHED-TTL:PT1H
BEGIN:VTIMEZONE
TZID:America/New_York
BEGIN:DAYLIGHT
TZOFFSETFROM:-0500
TZOFFSETTO:-0400
TZNAME:EDT
DTSTART:20240310T070000
END:DAYLIGHT
BEGIN:STANDARD
TZOFFSETFROM:-0400
TZOFFSETTO:-0500
TZNAME:EST
DTSTART:20241103T060000
END:STANDARD
BEGIN:DAYLIGHT
TZOFFSETFROM:-0500
TZOFFSETTO:-0400
TZNAME:EDT
DTSTART:20250309T070000
END:DAYLIGHT
BEGIN:STANDARD
TZOFFSETFROM:-0400
TZOFFSETTO:-0500
TZNAME:EST
DTSTART:20251102T060000
END:STANDARD
BEGIN:DAYLIGHT
TZOFFSETFROM:-0500
TZOFFSETTO:-0400
TZNAME:EDT
DTSTART:20260308T070000
END:DAYLIGHT
BEGIN:STANDARD
TZOFFSETFROM:-0400
TZOFFSETTO:-0500
TZNAME:EST
DTSTART:20261101T060000
END:STANDARD
END:VTIMEZONE
BEGIN:VEVENT
DTSTART;TZID=America/New_York:20250729T163000
DTEND;TZID=America/New_York:20250729T183000
DTSTAMP:20260423T171323
CREATED:20250526T182551Z
LAST-MODIFIED:20250701T181916Z
UID:23340-1753806600-1753813800@www.unitedskates.com
SUMMARY:Fortnite Skate Party
DESCRIPTION:🛼🎮 Fortnite Skate Party! 🎮🛼\n📅  July 29\n🕓 4:30 PM – 6:30 PM\n📍 United Skates of America – Seaford \n🎟️ Admission: \n\n$15.50 Online\n$16.50 At the Door\n$6 Non-Skating Adults\n$7 Skate Rental\n\n🕹️ Drop in for an epic time! Meet Fortnite characters\, show off your best dance moves\, and skate to the beat of the Battle Bus! \n🎫 Grab your tickets now:\n👉 Click Here for Tickets
URL:https://www.unitedskates.com/seaford/event/fortnite-skate-party/
LOCATION:United Skates Of America Seaford\, 1276 Hicksville Rd.\, Seaford\, NY\, 11783\, United States
CATEGORIES:Family Events,Public Skates,Special Events
ATTACH;FMTTYPE=image/jpeg:https://unitedskates-assets.sfo3.digitaloceanspaces.com/wp-content/uploads/sites/11/2025/05/fortnite-7-29-25-1.jpg
END:VEVENT
END:VCALENDAR