BEGIN:VCALENDAR
VERSION:2.0
PRODID:-//Rink 25 - Seaford - ECPv6.15.20//NONSGML v1.0//EN
CALSCALE:GREGORIAN
METHOD:PUBLISH
X-WR-CALNAME:Rink 25 - Seaford
X-ORIGINAL-URL:https://www.unitedskates.com/seaford
X-WR-CALDESC:Events for Rink 25 - Seaford
REFRESH-INTERVAL;VALUE=DURATION:PT1H
X-Robots-Tag:noindex
X-PUBLISHED-TTL:PT1H
BEGIN:VTIMEZONE
TZID:America/New_York
BEGIN:DAYLIGHT
TZOFFSETFROM:-0500
TZOFFSETTO:-0400
TZNAME:EDT
DTSTART:20240310T070000
END:DAYLIGHT
BEGIN:STANDARD
TZOFFSETFROM:-0400
TZOFFSETTO:-0500
TZNAME:EST
DTSTART:20241103T060000
END:STANDARD
BEGIN:DAYLIGHT
TZOFFSETFROM:-0500
TZOFFSETTO:-0400
TZNAME:EDT
DTSTART:20250309T070000
END:DAYLIGHT
BEGIN:STANDARD
TZOFFSETFROM:-0400
TZOFFSETTO:-0500
TZNAME:EST
DTSTART:20251102T060000
END:STANDARD
BEGIN:DAYLIGHT
TZOFFSETFROM:-0500
TZOFFSETTO:-0400
TZNAME:EDT
DTSTART:20260308T070000
END:DAYLIGHT
BEGIN:STANDARD
TZOFFSETFROM:-0400
TZOFFSETTO:-0500
TZNAME:EST
DTSTART:20261101T060000
END:STANDARD
END:VTIMEZONE
BEGIN:VEVENT
DTSTART;TZID=America/New_York:20250722T163000
DTEND;TZID=America/New_York:20250722T183000
DTSTAMP:20260424T002349
CREATED:20250526T175036Z
LAST-MODIFIED:20250526T180632Z
UID:23334-1753201800-1753209000@www.unitedskates.com
SUMMARY:Minion Luau
DESCRIPTION:💛🛼 Minion Skate Party! 🛼💛\n📅 Monday\, July 22\n🕓 4:30 PM – 6:30 PM\n📍 United Skates of America – Seaford \n🎟️ Admission: \n\n$15.50 Online\n$16.50 At the Door\n$6 Non-Skating Adults\n$7 Skate Rental\n\n🍌 Come skate with your favorite Minions\, take fun photos\, and enjoy a despicably awesome time! \n🎫 Grab your tickets now:\n👉Click Here for Tickets \nTickets are non-refundable
URL:https://www.unitedskates.com/seaford/event/minion-luau/
LOCATION:United Skates Of America Seaford\, 1276 Hicksville Rd.\, Seaford\, NY\, 11783\, United States
CATEGORIES:Family Events,Public Skates,Special Events
ATTACH;FMTTYPE=image/jpeg:https://unitedskates-assets.sfo3.digitaloceanspaces.com/wp-content/uploads/sites/11/2025/05/minion-July-2025.jpg
END:VEVENT
END:VCALENDAR