BEGIN:VCALENDAR
VERSION:2.0
PRODID:-//Rink 25 - Seaford - ECPv6.15.20//NONSGML v1.0//EN
CALSCALE:GREGORIAN
METHOD:PUBLISH
X-ORIGINAL-URL:https://www.unitedskates.com/seaford
X-WR-CALDESC:Events for Rink 25 - Seaford
REFRESH-INTERVAL;VALUE=DURATION:PT1H
X-Robots-Tag:noindex
X-PUBLISHED-TTL:PT1H
BEGIN:VTIMEZONE
TZID:America/New_York
BEGIN:DAYLIGHT
TZOFFSETFROM:-0500
TZOFFSETTO:-0400
TZNAME:EDT
DTSTART:20240310T070000
END:DAYLIGHT
BEGIN:STANDARD
TZOFFSETFROM:-0400
TZOFFSETTO:-0500
TZNAME:EST
DTSTART:20241103T060000
END:STANDARD
BEGIN:DAYLIGHT
TZOFFSETFROM:-0500
TZOFFSETTO:-0400
TZNAME:EDT
DTSTART:20250309T070000
END:DAYLIGHT
BEGIN:STANDARD
TZOFFSETFROM:-0400
TZOFFSETTO:-0500
TZNAME:EST
DTSTART:20251102T060000
END:STANDARD
BEGIN:DAYLIGHT
TZOFFSETFROM:-0500
TZOFFSETTO:-0400
TZNAME:EDT
DTSTART:20260308T070000
END:DAYLIGHT
BEGIN:STANDARD
TZOFFSETFROM:-0400
TZOFFSETTO:-0500
TZNAME:EST
DTSTART:20261101T060000
END:STANDARD
END:VTIMEZONE
BEGIN:VEVENT
DTSTART;TZID=America/New_York:20250712T200000
DTEND;TZID=America/New_York:20250712T220000
DTSTAMP:20260424T003549
CREATED:20250104T135246Z
LAST-MODIFIED:20250804T152908Z
UID:23164-1752350400-1752357600@www.unitedskates.com
SUMMARY:$5 Glow In Dark Hip Hop Skate Night
DESCRIPTION:All Children & Skating Adults Admission is $5 \nSkate Rental is $7 \nNon Skating Adults $ \nOnline Ticket Prices \nAll Children & Skating Adults Admission is $5 \nSkate Rental is $7 \nNon Skating Adults $5 \nClick Here for Tickets \nAll Guests entering the facility skating & non-skating must have a waiver. \nPlease complete waiver prior to arrival. \nPlease click here for the Waiver \nNo refunds Day of the event of after.
URL:https://www.unitedskates.com/seaford/event/glow-in-dark-hip-hop-skate-night-2025-05-03-2025-07-12/2025-07-12/
LOCATION:United Skates Of America Seaford\, 1276 Hicksville Rd.\, Seaford\, NY\, 11783\, United States
CATEGORIES:Family Events,Public Skates,Special Events
ATTACH;FMTTYPE=image/jpeg:https://unitedskates-assets.sfo3.digitaloceanspaces.com/wp-content/uploads/sites/11/2025/01/5.00-Saturdays.jpg
END:VEVENT
BEGIN:VEVENT
DTSTART;TZID=America/New_York:20250712T223000
DTEND;TZID=America/New_York:20250713T013000
DTSTAMP:20260424T003549
CREATED:20250707T181104Z
LAST-MODIFIED:20250707T194035Z
UID:23932-1752359400-1752370200@www.unitedskates.com
SUMMARY:Second Saturday
DESCRIPTION:This event is exclusively for adults looking to let loose and skate the night away. \nLong Island’s ONLY Saturday Late Night Skate with DJ Arson! \nTickets are $17 online/ $20 at the door \nSkates are $7 \n  \nClick Here for Tickets
URL:https://www.unitedskates.com/seaford/event/second-saturday/
CATEGORIES:Adult Events,Special Events
ATTACH;FMTTYPE=image/jpeg:https://unitedskates-assets.sfo3.digitaloceanspaces.com/wp-content/uploads/sites/11/2025/07/IMG_8863.jpg
END:VEVENT
END:VCALENDAR