BEGIN:VCALENDAR
VERSION:2.0
PRODID:-//Rink 25 - Seaford - ECPv6.15.20//NONSGML v1.0//EN
CALSCALE:GREGORIAN
METHOD:PUBLISH
X-WR-CALNAME:Rink 25 - Seaford
X-ORIGINAL-URL:https://www.unitedskates.com/seaford
X-WR-CALDESC:Events for Rink 25 - Seaford
REFRESH-INTERVAL;VALUE=DURATION:PT1H
X-Robots-Tag:noindex
X-PUBLISHED-TTL:PT1H
BEGIN:VTIMEZONE
TZID:America/New_York
BEGIN:DAYLIGHT
TZOFFSETFROM:-0500
TZOFFSETTO:-0400
TZNAME:EDT
DTSTART:20240310T070000
END:DAYLIGHT
BEGIN:STANDARD
TZOFFSETFROM:-0400
TZOFFSETTO:-0500
TZNAME:EST
DTSTART:20241103T060000
END:STANDARD
BEGIN:DAYLIGHT
TZOFFSETFROM:-0500
TZOFFSETTO:-0400
TZNAME:EDT
DTSTART:20250309T070000
END:DAYLIGHT
BEGIN:STANDARD
TZOFFSETFROM:-0400
TZOFFSETTO:-0500
TZNAME:EST
DTSTART:20251102T060000
END:STANDARD
BEGIN:DAYLIGHT
TZOFFSETFROM:-0500
TZOFFSETTO:-0400
TZNAME:EDT
DTSTART:20260308T070000
END:DAYLIGHT
BEGIN:STANDARD
TZOFFSETFROM:-0400
TZOFFSETTO:-0500
TZNAME:EST
DTSTART:20261101T060000
END:STANDARD
END:VTIMEZONE
BEGIN:VEVENT
DTSTART;TZID=America/New_York:20250708T163000
DTEND;TZID=America/New_York:20250708T183000
DTSTAMP:20260424T014036
CREATED:20250516T193820Z
LAST-MODIFIED:20250516T194833Z
UID:23144-1751992200-1751999400@www.unitedskates.com
SUMMARY:Stitch Skate Party
DESCRIPTION:🌺🛼 Stitch & Angel Skate Party! 🛼🌺\n✨ Get ready for a magical luau on wheels! ✨ \n📅 Tuesday\, July 8th\n🕟 4:30 PM – 6:30 PM\n📍 United Skates\n💰 Door Price: $16.50 | Online: $15.50\n🎟️ Skate Rental: $7 | Non-Skating Adults: $7 \n🌴 🏝️ Island vibes\, great music\, and tons of fun with Stitch & Angel! Bring your best skate moves and enjoy an unforgettable evening. Dress in your favorite Hawaiian gear and let’s roll into paradise! 🏝️🌴 \n🔥 Click Here for Tickets 🔥 \n#StitchAndAngelSkateParty #UnitedSkates #LuauOnWheels #SkateFun
URL:https://www.unitedskates.com/seaford/event/stitch-skate-party/
LOCATION:United Skates Of America Seaford\, 1276 Hicksville Rd.\, Seaford\, NY\, 11783\, United States
CATEGORIES:Family Events,Public Skates,Special Events
ATTACH;FMTTYPE=image/jpeg:https://unitedskates-assets.sfo3.digitaloceanspaces.com/wp-content/uploads/sites/11/2025/05/luau-7-8-25.jpg
END:VEVENT
END:VCALENDAR