BEGIN:VCALENDAR
VERSION:2.0
PRODID:-//Rink 25 - Seaford - ECPv6.15.20//NONSGML v1.0//EN
CALSCALE:GREGORIAN
METHOD:PUBLISH
X-ORIGINAL-URL:https://www.unitedskates.com/seaford
X-WR-CALDESC:Events for Rink 25 - Seaford
REFRESH-INTERVAL;VALUE=DURATION:PT1H
X-Robots-Tag:noindex
X-PUBLISHED-TTL:PT1H
BEGIN:VTIMEZONE
TZID:America/New_York
BEGIN:DAYLIGHT
TZOFFSETFROM:-0500
TZOFFSETTO:-0400
TZNAME:EDT
DTSTART:20240310T070000
END:DAYLIGHT
BEGIN:STANDARD
TZOFFSETFROM:-0400
TZOFFSETTO:-0500
TZNAME:EST
DTSTART:20241103T060000
END:STANDARD
BEGIN:DAYLIGHT
TZOFFSETFROM:-0500
TZOFFSETTO:-0400
TZNAME:EDT
DTSTART:20250309T070000
END:DAYLIGHT
BEGIN:STANDARD
TZOFFSETFROM:-0400
TZOFFSETTO:-0500
TZNAME:EST
DTSTART:20251102T060000
END:STANDARD
BEGIN:DAYLIGHT
TZOFFSETFROM:-0500
TZOFFSETTO:-0400
TZNAME:EDT
DTSTART:20260308T070000
END:DAYLIGHT
BEGIN:STANDARD
TZOFFSETFROM:-0400
TZOFFSETTO:-0500
TZNAME:EST
DTSTART:20261101T060000
END:STANDARD
END:VTIMEZONE
BEGIN:VEVENT
DTSTART;TZID=America/New_York:20250704T140000
DTEND;TZID=America/New_York:20250704T180000
DTSTAMP:20260423T182733
CREATED:20250526T185758Z
LAST-MODIFIED:20250526T190250Z
UID:23344-1751637600-1751652000@www.unitedskates.com
SUMMARY:Party In the USA
DESCRIPTION:🛼 Party In the USA! 🛼\n✨ The ultimate holiday skate celebration! ✨ \n📅 Friday July 4th\n🕑 2:00 PM – 4:00 PM\n📍 United Skates\n💰 Door Price: $25 | Online: $24\n🎟️ Includes admission\, unlimited pizza & soda\, and surprise mystery character guests! \n🍕🥤 Skate\, feast\, and enjoy an unforgettable party with exciting surprises throughout the session! Who will the mystery guests be? You’ll have to roll in to find out! 🏆🎭 \n🔥Click Here for Tickets 🔥 \n#partyintheusa #UnitedSkates #PizzaParty #MysteryGuests \n  \n  \n  \n 
URL:https://www.unitedskates.com/seaford/event/party-in-the-usa-4/
LOCATION:United Skates Of America Seaford\, 1276 Hicksville Rd.\, Seaford\, NY\, 11783\, United States
CATEGORIES:Family Events,Public Skates,Special Events
ATTACH;FMTTYPE=image/jpeg:https://unitedskates-assets.sfo3.digitaloceanspaces.com/wp-content/uploads/sites/11/2025/05/Party-In-USA-4th-of-July-2025.jpg
END:VEVENT
BEGIN:VEVENT
DTSTART;TZID=America/New_York:20250704T183000
DTEND;TZID=America/New_York:20250704T203000
DTSTAMP:20260423T182733
CREATED:20250526T194144Z
LAST-MODIFIED:20250526T194144Z
UID:23351-1751653800-1751661000@www.unitedskates.com
SUMMARY:Cosmic 4th of July Skate
DESCRIPTION:🎆🛼 4th of July Skate Party! 🛼🎆\n📅 Friday\, July 4th\n🕡 6:30 PM – 8:30 PM\n📍 United Skates of America – Seaford \n🎟️ Admission: \n\n$20 Online\n$21 At the Door\n✅ Includes: Skate Rental\, $10 Game Card\, and an Ice Pop!\n$6 Non-Skating Adults\n\n🇺🇸 Celebrate Independence Day with skating\, games\, and cool treats! Bring your friends and family for a night of red\, white\, and roll! \n🎫 Get your tickets now:\n👉 Click Here for Tickets
URL:https://www.unitedskates.com/seaford/event/cosmic-4th-of-july-skate/
CATEGORIES:Family Events,Public Skates,Special Events
ATTACH;FMTTYPE=image/jpeg:https://unitedskates-assets.sfo3.digitaloceanspaces.com/wp-content/uploads/sites/11/2025/05/cosmic-skate-7-4-25.jpg
END:VEVENT
END:VCALENDAR