BEGIN:VCALENDAR
VERSION:2.0
PRODID:-//Rink 25 - Seaford - ECPv6.15.20//NONSGML v1.0//EN
CALSCALE:GREGORIAN
METHOD:PUBLISH
X-ORIGINAL-URL:https://www.unitedskates.com/seaford
X-WR-CALDESC:Events for Rink 25 - Seaford
REFRESH-INTERVAL;VALUE=DURATION:PT1H
X-Robots-Tag:noindex
X-PUBLISHED-TTL:PT1H
BEGIN:VTIMEZONE
TZID:America/New_York
BEGIN:DAYLIGHT
TZOFFSETFROM:-0500
TZOFFSETTO:-0400
TZNAME:EDT
DTSTART:20240310T070000
END:DAYLIGHT
BEGIN:STANDARD
TZOFFSETFROM:-0400
TZOFFSETTO:-0500
TZNAME:EST
DTSTART:20241103T060000
END:STANDARD
BEGIN:DAYLIGHT
TZOFFSETFROM:-0500
TZOFFSETTO:-0400
TZNAME:EDT
DTSTART:20250309T070000
END:DAYLIGHT
BEGIN:STANDARD
TZOFFSETFROM:-0400
TZOFFSETTO:-0500
TZNAME:EST
DTSTART:20251102T060000
END:STANDARD
BEGIN:DAYLIGHT
TZOFFSETFROM:-0500
TZOFFSETTO:-0400
TZNAME:EDT
DTSTART:20260308T070000
END:DAYLIGHT
BEGIN:STANDARD
TZOFFSETFROM:-0400
TZOFFSETTO:-0500
TZNAME:EST
DTSTART:20261101T060000
END:STANDARD
END:VTIMEZONE
BEGIN:VEVENT
DTSTART;TZID=America/New_York:20250701T163000
DTEND;TZID=America/New_York:20250701T183000
DTSTAMP:20260424T014527
CREATED:20250516T201042Z
LAST-MODIFIED:20250519T182139Z
UID:23149-1751387400-1751394600@www.unitedskates.com
SUMMARY:Olaf's Beach Party Summer Kickoff!
DESCRIPTION:🌞🏝️ Olaf’s Beach Party Summer Kickoff! 🏝️🌞\n✨ Get ready for the coolest summer party on skates! ✨ \n📅 Monday\, July 1st\n🕟 4:30 PM – 6:30 PM\n📍 United Skates\n💰 Door Price: $16.50 | Online: $15.50\n🎟️ Skate Rental: $7 | Non-Skating Adults: $7 \n🏖️ ❄️ Olaf is bringing the beach vibes! Kick off summer with a sun-soaked skate party filled with tropical tunes\, summer fun\, and icy surprises. Dress in your best beachwear and roll into summer in style! ❄️🏖️ \n🎉 PLUS—don’t miss the epic mini beach ball fight in the last 15 minutes! Get ready to dodge\, dive\, and have a blast with your friends! 🌊🏐 \n🔥Click Here for Tickets 🔥 \n 
URL:https://www.unitedskates.com/seaford/event/olafs-beach-party-summer-kickoff/
CATEGORIES:Family Events,Public Skates,Special Events
ATTACH;FMTTYPE=image/jpeg:https://unitedskates-assets.sfo3.digitaloceanspaces.com/wp-content/uploads/sites/11/2025/05/Olaf-Beach-Party-7-1-25.jpg
END:VEVENT
END:VCALENDAR