BEGIN:VCALENDAR
VERSION:2.0
PRODID:-//Rink 25 - Seaford - ECPv6.15.20//NONSGML v1.0//EN
CALSCALE:GREGORIAN
METHOD:PUBLISH
X-ORIGINAL-URL:https://www.unitedskates.com/seaford
X-WR-CALDESC:Events for Rink 25 - Seaford
REFRESH-INTERVAL;VALUE=DURATION:PT1H
X-Robots-Tag:noindex
X-PUBLISHED-TTL:PT1H
BEGIN:VTIMEZONE
TZID:America/New_York
BEGIN:DAYLIGHT
TZOFFSETFROM:-0500
TZOFFSETTO:-0400
TZNAME:EDT
DTSTART:20240310T070000
END:DAYLIGHT
BEGIN:STANDARD
TZOFFSETFROM:-0400
TZOFFSETTO:-0500
TZNAME:EST
DTSTART:20241103T060000
END:STANDARD
BEGIN:DAYLIGHT
TZOFFSETFROM:-0500
TZOFFSETTO:-0400
TZNAME:EDT
DTSTART:20250309T070000
END:DAYLIGHT
BEGIN:STANDARD
TZOFFSETFROM:-0400
TZOFFSETTO:-0500
TZNAME:EST
DTSTART:20251102T060000
END:STANDARD
BEGIN:DAYLIGHT
TZOFFSETFROM:-0500
TZOFFSETTO:-0400
TZNAME:EDT
DTSTART:20260308T070000
END:DAYLIGHT
BEGIN:STANDARD
TZOFFSETFROM:-0400
TZOFFSETTO:-0500
TZNAME:EST
DTSTART:20261101T060000
END:STANDARD
END:VTIMEZONE
BEGIN:VEVENT
DTSTART;TZID=America/New_York:20250625T133000
DTEND;TZID=America/New_York:20250625T153000
DTSTAMP:20260424T184524
CREATED:20250619T200322Z
LAST-MODIFIED:20250620T171048Z
UID:23570-1750858200-1750865400@www.unitedskates.com
SUMMARY:Public Skate
DESCRIPTION:🎉🛼 School’s Out Early – Time to Skate! 🛼🎉\nThe weather’s heating up\, but it’s always cool at United Skates – Seaford! \n📅 Special Afternoon Session: 1:30 PM – 3:30 PM\n💵 Admission:\n• $16.50 at the door\n• $15.50 online\n🛼 Skate Rental: $7\n👨‍👩‍👧‍👦 Non-Skating Adults: $6 \nBring the kids for an afternoon of fun\, music\, and skating in our air-conditioned rink! \n🎟️ Grab your tickets now Click Here for Tickets\n📍 Location: United Skates of America – Seaford \nDon’t miss out — let the good times roll! 🎶✨
URL:https://www.unitedskates.com/seaford/event/public-skate-72/2025-06-25/
CATEGORIES:Family Events,Public Skates,Special Events
ATTACH;FMTTYPE=image/jpeg:https://unitedskates-assets.sfo3.digitaloceanspaces.com/wp-content/uploads/sites/11/2023/06/Summer-Fun-Skate-1200x1200-1.jpg
END:VEVENT
BEGIN:VEVENT
DTSTART;TZID=America/New_York:20250625T183000
DTEND;TZID=America/New_York:20250625T203000
DTSTAMP:20260424T184524
CREATED:20250515T163723Z
LAST-MODIFIED:20250630T152838Z
UID:23125-1750876200-1750883400@www.unitedskates.com
SUMMARY:Eat\, Play & Skate
DESCRIPTION:For just $26 at the door / $25 online\, skaters get:\n✨ Admission\n✨ Skate rental\n✨ A slice of pizza\n✨ A drink\n✨ A 20 credit  game card \n👟 Not skating? No problem!\nJust $7 gets you:\n🍕 Admission\n🍕 Pizza\n🥤 A drink \n🎟️ Grab your tickets online & save! \nClick Here for Tickets \nAll Guests entering the facility skating & non-skating must have a waiver. \nPlease complete waiver prior to arrival. \nPlease click here for the Waiver \nNo refunds All Sales Final
URL:https://www.unitedskates.com/seaford/event/eat-play-skate/
CATEGORIES:Family Events,Public Skates,Special Events
ATTACH;FMTTYPE=image/jpeg:https://unitedskates-assets.sfo3.digitaloceanspaces.com/wp-content/uploads/sites/11/2025/05/Eat-Skate-n-Play.jpg
END:VEVENT
END:VCALENDAR