BEGIN:VCALENDAR
VERSION:2.0
PRODID:-//Rink 25 - Seaford - ECPv6.15.20//NONSGML v1.0//EN
CALSCALE:GREGORIAN
METHOD:PUBLISH
X-WR-CALNAME:Rink 25 - Seaford
X-ORIGINAL-URL:https://www.unitedskates.com/seaford
X-WR-CALDESC:Events for Rink 25 - Seaford
REFRESH-INTERVAL;VALUE=DURATION:PT1H
X-Robots-Tag:noindex
X-PUBLISHED-TTL:PT1H
BEGIN:VTIMEZONE
TZID:America/New_York
BEGIN:DAYLIGHT
TZOFFSETFROM:-0500
TZOFFSETTO:-0400
TZNAME:EDT
DTSTART:20240310T070000
END:DAYLIGHT
BEGIN:STANDARD
TZOFFSETFROM:-0400
TZOFFSETTO:-0500
TZNAME:EST
DTSTART:20241103T060000
END:STANDARD
BEGIN:DAYLIGHT
TZOFFSETFROM:-0500
TZOFFSETTO:-0400
TZNAME:EDT
DTSTART:20250309T070000
END:DAYLIGHT
BEGIN:STANDARD
TZOFFSETFROM:-0400
TZOFFSETTO:-0500
TZNAME:EST
DTSTART:20251102T060000
END:STANDARD
BEGIN:DAYLIGHT
TZOFFSETFROM:-0500
TZOFFSETTO:-0400
TZNAME:EDT
DTSTART:20260308T070000
END:DAYLIGHT
BEGIN:STANDARD
TZOFFSETFROM:-0400
TZOFFSETTO:-0500
TZNAME:EST
DTSTART:20261101T060000
END:STANDARD
END:VTIMEZONE
BEGIN:VEVENT
DTSTART;TZID=America/New_York:20250615T140000
DTEND;TZID=America/New_York:20250615T170000
DTSTAMP:20260424T093529
CREATED:20250430T200945Z
LAST-MODIFIED:20250527T195022Z
UID:23001-1749996000-1750006800@www.unitedskates.com
SUMMARY:Father's Day Skate
DESCRIPTION:🎉 Father’s Day Skate Party 🛼💨 \nDads\, it’s time to swap those dad sneakers for some wheels and roll into Father’s Day like it’s 1985! \n📅 Sunday\, June 15th\n🕒 2:00 PM – 5:00 PM\n💰 $18 at the door | $17 online\n💰 $7 for non-skaters \n💥 Includes:\n✅ Admission 🏆\n✅ Skates  🛼\n✅ A slice of pizza 🍕\n✅ A drink 🥤 \n🎶 RETRO MUSIC GALORE!\nGet ready for a soundtrack packed with dad’s glory-day anthems—funky disco beats\, classic rock riffs\, and guilty-pleasure 90s jams! \n👨‍👧‍👦 Bring your dad\, your dad jokes\, and maybe some kneepads—because let’s be honest\, dad’s “skills” may need a warm-up. \n \nClick Here for Tickets
URL:https://www.unitedskates.com/seaford/event/fathers-day-skate-2/
LOCATION:United Skates Of America Seaford\, 1276 Hicksville Rd.\, Seaford\, NY\, 11783\, United States
CATEGORIES:Public Skates,Special Events
ATTACH;FMTTYPE=image/jpeg:https://unitedskates-assets.sfo3.digitaloceanspaces.com/wp-content/uploads/sites/11/2025/04/Fathers-Day-2025-1.jpg
END:VEVENT
BEGIN:VEVENT
DTSTART;TZID=America/New_York:20250615T173000
DTEND;TZID=America/New_York:20250615T193000
DTSTAMP:20260424T093529
CREATED:20250605T183623Z
LAST-MODIFIED:20250606T152750Z
UID:23449-1750008600-1750015800@www.unitedskates.com
SUMMARY:$5.00 Sunday
DESCRIPTION:🎉 Get Ready for an Epic Family Skate Night! 🛼\n📅 Sunday\, June 15th | 5:30 PM – 7:30 PM\n📍 United Skates of America – Seaford \n🔥 JUST $5 ADMISSION!\nLace up and roll into an unforgettable evening of music\, lights\, and nonstop fun! Whether you’re a skating pro or just starting out\, this is the perfect chance to glide into summer with the whole family. \n👟 Skate Rentals: $7\n🎟️ Grab your tickets now: Click Here \n✨ Don’t miss this high-energy\, budget-friendly night out — it’s the ultimate way to kick off your summer fun! Let’s roll! 🎶💃🕺
URL:https://www.unitedskates.com/seaford/event/5-00-sunday/
LOCATION:United Skates Of America Seaford\, 1276 Hicksville Rd.\, Seaford\, NY\, 11783\, United States
CATEGORIES:Family Events,Public Skates,Special Events
ATTACH;FMTTYPE=image/jpeg:https://unitedskates-assets.sfo3.digitaloceanspaces.com/wp-content/uploads/sites/11/2025/06/5-Sunday.jpg
END:VEVENT
END:VCALENDAR