BEGIN:VCALENDAR
VERSION:2.0
PRODID:-//Rink 25 - Seaford - ECPv6.15.20//NONSGML v1.0//EN
CALSCALE:GREGORIAN
METHOD:PUBLISH
X-WR-CALNAME:Rink 25 - Seaford
X-ORIGINAL-URL:https://www.unitedskates.com/seaford
X-WR-CALDESC:Events for Rink 25 - Seaford
REFRESH-INTERVAL;VALUE=DURATION:PT1H
X-Robots-Tag:noindex
X-PUBLISHED-TTL:PT1H
BEGIN:VTIMEZONE
TZID:America/New_York
BEGIN:DAYLIGHT
TZOFFSETFROM:-0500
TZOFFSETTO:-0400
TZNAME:EDT
DTSTART:20240310T070000
END:DAYLIGHT
BEGIN:STANDARD
TZOFFSETFROM:-0400
TZOFFSETTO:-0500
TZNAME:EST
DTSTART:20241103T060000
END:STANDARD
BEGIN:DAYLIGHT
TZOFFSETFROM:-0500
TZOFFSETTO:-0400
TZNAME:EDT
DTSTART:20250309T070000
END:DAYLIGHT
BEGIN:STANDARD
TZOFFSETFROM:-0400
TZOFFSETTO:-0500
TZNAME:EST
DTSTART:20251102T060000
END:STANDARD
BEGIN:DAYLIGHT
TZOFFSETFROM:-0500
TZOFFSETTO:-0400
TZNAME:EDT
DTSTART:20260308T070000
END:DAYLIGHT
BEGIN:STANDARD
TZOFFSETFROM:-0400
TZOFFSETTO:-0500
TZNAME:EST
DTSTART:20261101T060000
END:STANDARD
END:VTIMEZONE
BEGIN:VEVENT
DTSTART;TZID=America/New_York:20251126T210000
DTEND;TZID=America/New_York:20251127T010000
DTSTAMP:20260420T085835
CREATED:20251103T163111Z
LAST-MODIFIED:20251103T163500Z
UID:25320-1764190800-1764205200@www.unitedskates.com
SUMMARY:Thanksgiving Eve Adult Feast
DESCRIPTION:🦃✨ THANKSGIVING EVE FEAST – ADULT NIGHT (18+ ONLY!) ✨🦃 The BIGGEST party of the year is happening at United Skates of America! \n📅 Wednesday\, Nov. 26 \n🕘 9PM – 1AM \n🔞 18+ Only \n🎟️ Tickets: 👉 21 online (save $!) 👉 $26 at the door \n🎧 Music by: \n🔥 DJ Arson \n🔥 DJ Nile \n🔥 DJ Tone Capo \n🍂 Kick off the holiday weekend with friends\, music\, and nonstop vibes. This is THE Thanksgiving Eve tradition you don’t want to miss! \n🎟️ Grab your advance tickets now before they’re gone!  Click Here for Tickets
URL:https://www.unitedskates.com/seaford/event/thanksgiving-eve-adult-feast/
CATEGORIES:Adult Events,Roller Hockey,Special Events
ATTACH;FMTTYPE=image/png:https://unitedskates-assets.sfo3.digitaloceanspaces.com/wp-content/uploads/sites/11/2025/11/IMG_8432.png
END:VEVENT
END:VCALENDAR