BEGIN:VCALENDAR
VERSION:2.0
PRODID:-//Rink 25 - Seaford - ECPv6.15.20//NONSGML v1.0//EN
CALSCALE:GREGORIAN
METHOD:PUBLISH
X-ORIGINAL-URL:https://www.unitedskates.com/seaford
X-WR-CALDESC:Events for Rink 25 - Seaford
REFRESH-INTERVAL;VALUE=DURATION:PT1H
X-Robots-Tag:noindex
X-PUBLISHED-TTL:PT1H
BEGIN:VTIMEZONE
TZID:America/New_York
BEGIN:DAYLIGHT
TZOFFSETFROM:-0500
TZOFFSETTO:-0400
TZNAME:EDT
DTSTART:20250309T070000
END:DAYLIGHT
BEGIN:STANDARD
TZOFFSETFROM:-0400
TZOFFSETTO:-0500
TZNAME:EST
DTSTART:20251102T060000
END:STANDARD
BEGIN:DAYLIGHT
TZOFFSETFROM:-0500
TZOFFSETTO:-0400
TZNAME:EDT
DTSTART:20260308T070000
END:DAYLIGHT
BEGIN:STANDARD
TZOFFSETFROM:-0400
TZOFFSETTO:-0500
TZNAME:EST
DTSTART:20261101T060000
END:STANDARD
BEGIN:DAYLIGHT
TZOFFSETFROM:-0500
TZOFFSETTO:-0400
TZNAME:EDT
DTSTART:20270314T070000
END:DAYLIGHT
BEGIN:STANDARD
TZOFFSETFROM:-0400
TZOFFSETTO:-0500
TZNAME:EST
DTSTART:20271107T060000
END:STANDARD
END:VTIMEZONE
BEGIN:VEVENT
DTSTART;TZID=America/New_York:20260525T080000
DTEND;TZID=America/New_York:20260525T170000
DTSTAMP:20260421T184251
CREATED:20260318T184500Z
LAST-MODIFIED:20260318T192943Z
UID:27682-1779696000-1779728400@www.unitedskates.com
SUMMARY:🛼 MEMORIAL DAY EXTRAVAGANZA! 🛼
DESCRIPTION:🛼 MEMORIAL DAY EXTRAVAGANZA! 🛼 \nCelebrate Memorial Day with the ultimate family fun day — skating\, characters\, unlimited food\, and nonstop excitement! \nJoin us Monday\, May 25th from 1:30 PM – 5:30 PM for an afternoon packed with energy and surprises. \n🎉 Your Session Includes: \n✔️ Admission \n✔️ Complimentary Skate Rental \n✔️ Unlimited Pizza \n✔️ Unlimited Soda \n✔️ Character Visits Throughout the Session \n✔️ Fun & Photos for the whole family! \n🎟️ Pricing: $23 per person online \n$25 per person at the door \nNon‑skating adults: $10 online | $12 at the door \n🔗 Click Here for Tickets \n  \nKick off summer with skating\, music\, characters\, and patriotic fun — see you on the rink! 🇺🇸✨🛼 \n  \n  \n 
URL:https://www.unitedskates.com/seaford/event/%f0%9f%9b%bc-memorial-day-extravaganza-%f0%9f%9b%bc/
CATEGORIES:Family Events,Public Skates,Special Events
ATTACH;FMTTYPE=image/jpeg:https://unitedskates-assets.sfo3.digitaloceanspaces.com/wp-content/uploads/sites/11/2026/03/Memorial-Day-Extravaganza.jpg
END:VEVENT
END:VCALENDAR