BEGIN:VCALENDAR
VERSION:2.0
PRODID:-//Rink 25 - Seaford - ECPv6.15.20//NONSGML v1.0//EN
CALSCALE:GREGORIAN
METHOD:PUBLISH
X-WR-CALNAME:Rink 25 - Seaford
X-ORIGINAL-URL:https://www.unitedskates.com/seaford
X-WR-CALDESC:Events for Rink 25 - Seaford
REFRESH-INTERVAL;VALUE=DURATION:PT1H
X-Robots-Tag:noindex
X-PUBLISHED-TTL:PT1H
BEGIN:VTIMEZONE
TZID:America/New_York
BEGIN:DAYLIGHT
TZOFFSETFROM:-0500
TZOFFSETTO:-0400
TZNAME:EDT
DTSTART:20250309T070000
END:DAYLIGHT
BEGIN:STANDARD
TZOFFSETFROM:-0400
TZOFFSETTO:-0500
TZNAME:EST
DTSTART:20251102T060000
END:STANDARD
BEGIN:DAYLIGHT
TZOFFSETFROM:-0500
TZOFFSETTO:-0400
TZNAME:EDT
DTSTART:20260308T070000
END:DAYLIGHT
BEGIN:STANDARD
TZOFFSETFROM:-0400
TZOFFSETTO:-0500
TZNAME:EST
DTSTART:20261101T060000
END:STANDARD
BEGIN:DAYLIGHT
TZOFFSETFROM:-0500
TZOFFSETTO:-0400
TZNAME:EDT
DTSTART:20270314T070000
END:DAYLIGHT
BEGIN:STANDARD
TZOFFSETFROM:-0400
TZOFFSETTO:-0500
TZNAME:EST
DTSTART:20271107T060000
END:STANDARD
END:VTIMEZONE
BEGIN:VEVENT
DTSTART;TZID=America/New_York:20260413T103000
DTEND;TZID=America/New_York:20260413T123000
DTSTAMP:20260420T062913
CREATED:20260316T141519Z
LAST-MODIFIED:20260316T141520Z
UID:27648-1776076200-1776083400@www.unitedskates.com
SUMMARY:Tiny Tots
DESCRIPTION:🧸🎉 TINY TOTS SPECIAL EVENT! 🛼✨\nBring your little ones for a morning of skating\, play\, and BIG smiles! This session is perfect for ages 6 & under and packed with fun they’ll love. \n🗓️ Monday\, April 13\n⏰ 10:30 AM – 12:30 PM\n🎟️ $10 per child \n👶 1 adult per child is FREE\n👨‍👩‍👧 Additional adults: $5\n🛼 Small ride‑on toys & shoed parents are welcome on the skate floor! \n🌈 Tiny Tots Time Includes: \n\nFisher Price skates\nColoring station\nFun games\nCharacter visits\nDisney & kid‑friendly music\n\n🍕 Add lunch for just $5\n✨ Glow specials available\n🧸 Bring your own ride‑on toys! \n📍 United Skates of America – Seaford \nA perfect morning for little skaters to explore\, play\, and make memories! 💛🛼
URL:https://www.unitedskates.com/seaford/event/tiny-tots-4/
CATEGORIES:Family Events,Public Skates,Special Events
ATTACH;FMTTYPE=image/png:https://unitedskates-assets.sfo3.digitaloceanspaces.com/wp-content/uploads/sites/11/2026/03/Tiny-Tots-4.13.26-scaled.png
END:VEVENT
END:VCALENDAR