BEGIN:VCALENDAR
VERSION:2.0
PRODID:-//Rink 28 - Rumford - ECPv6.15.20//NONSGML v1.0//EN
CALSCALE:GREGORIAN
METHOD:PUBLISH
X-WR-CALNAME:Rink 28 - Rumford
X-ORIGINAL-URL:https://www.unitedskates.com/rumford
X-WR-CALDESC:Events for Rink 28 - Rumford
REFRESH-INTERVAL;VALUE=DURATION:PT1H
X-Robots-Tag:noindex
X-PUBLISHED-TTL:PT1H
BEGIN:VTIMEZONE
TZID:America/New_York
BEGIN:DAYLIGHT
TZOFFSETFROM:-0500
TZOFFSETTO:-0400
TZNAME:EDT
DTSTART:20250309T070000
END:DAYLIGHT
BEGIN:STANDARD
TZOFFSETFROM:-0400
TZOFFSETTO:-0500
TZNAME:EST
DTSTART:20251102T060000
END:STANDARD
BEGIN:DAYLIGHT
TZOFFSETFROM:-0500
TZOFFSETTO:-0400
TZNAME:EDT
DTSTART:20260308T070000
END:DAYLIGHT
BEGIN:STANDARD
TZOFFSETFROM:-0400
TZOFFSETTO:-0500
TZNAME:EST
DTSTART:20261101T060000
END:STANDARD
BEGIN:DAYLIGHT
TZOFFSETFROM:-0500
TZOFFSETTO:-0400
TZNAME:EDT
DTSTART:20270314T070000
END:DAYLIGHT
BEGIN:STANDARD
TZOFFSETFROM:-0400
TZOFFSETTO:-0500
TZNAME:EST
DTSTART:20271107T060000
END:STANDARD
END:VTIMEZONE
BEGIN:VEVENT
DTSTART;TZID=America/New_York:20260726T110000
DTEND;TZID=America/New_York:20260726T133000
DTSTAMP:20260425T201322
CREATED:20250816T233720Z
LAST-MODIFIED:20260409T191435Z
UID:24622-1785063600-1785072600@www.unitedskates.com
SUMMARY:Public Skate
DESCRIPTION:Skating Admission – $13.50 \nNon-skating Admission – $5\nRollerskate Rental – $5.50\nRollerblade Rental – $6.50 \nLaser Tag and Rock Climbing are available for $6 per person\, per game \nThis skating session is for ages 14 and under and 18 and older. Anyone 15\, 16\, or 17 years old must be accompanied by their parent and a younger sibling and the parent must stay in the building. \nAll adults (18+) who will be skating need to fill out our waiver. Click Here for Electronic waivers. \nAll skating adults are required to wear wristguards. Feel free to stop by our skate counter to borrow a pair during your session!
URL:https://www.unitedskates.com/rumford/event/public-skate-18/2026-07-26/
LOCATION:United Skates Of America  Rumford\, 75 New Road\, Rumford\, RI\, 02916\, United States
CATEGORIES:Family Events,Public Skates,Special Events
ATTACH;FMTTYPE=image/jpeg:https://unitedskates-assets.sfo3.digitaloceanspaces.com/wp-content/uploads/sites/13/2022/05/Public-Skate-1200x900-1.jpg
END:VEVENT
BEGIN:VEVENT
DTSTART;TZID=America/New_York:20260726T140000
DTEND;TZID=America/New_York:20260726T163000
DTSTAMP:20260425T201322
CREATED:20250822T152807Z
LAST-MODIFIED:20260305T153851Z
UID:25036-1785074400-1785083400@www.unitedskates.com
SUMMARY:Public Skate
DESCRIPTION:Skating Admission – $13.50\nNon-skating Admission – $5\nRollerskate Rental – $5.50\nRollerblade Rental – $6.50 \nLaser Tag and Rock Climbing are available for $6 per person\, per game \nThis skating session is for ages 14 and under and 18 and older. Anyone 15\, 16\, or 17 years old must be accompanied by their parent and a younger sibling and the parent must stay in the building. \nAll adults (18+) who will be skating need to fill out our waiver. Click Here for Electronic waivers. \nAll skating adults are required to wear wristguards. Feel free to stop by our skate counter to borrow a pair during your session!
URL:https://www.unitedskates.com/rumford/event/public-skate-19/2026-07-26/
LOCATION:United Skates Of America  Rumford\, 75 New Road\, Rumford\, RI\, 02916\, United States
CATEGORIES:Family Events,Public Skates,Special Events
ATTACH;FMTTYPE=image/jpeg:https://unitedskates-assets.sfo3.digitaloceanspaces.com/wp-content/uploads/sites/13/2022/06/Public-Skate-1200x900-1.jpg
END:VEVENT
BEGIN:VEVENT
DTSTART;TZID=America/New_York:20260726T170000
DTEND;TZID=America/New_York:20260726T193000
DTSTAMP:20260425T201322
CREATED:20250822T152943Z
LAST-MODIFIED:20260305T153839Z
UID:25297-1785085200-1785094200@www.unitedskates.com
SUMMARY:Public Skate
DESCRIPTION:Skating Admission – $13.50\nNon-skating Admission – $5\nRollerskate Rental – $5.50\nRollerblade Rental – $6.50 \nLaser Tag and Rock Climbing are available for $6 per person\, per game \nThis skating session is for ages 14 and under and 18 and older. Anyone 15\, 16\, or 17 years old must be accompanied by their parent and a younger sibling and the parent must stay in the building. \nAll adults (18+) who will be skating need to fill out our waiver. Click Here for Electronic waivers. \nAll skating adults are required to wear wristguards. Feel free to stop by our skate counter to borrow a pair during your session!
URL:https://www.unitedskates.com/rumford/event/public-skate-20/2026-07-26/
LOCATION:United Skates Of America  Rumford\, 75 New Road\, Rumford\, RI\, 02916\, United States
CATEGORIES:Family Events,Public Skates,Special Events
ATTACH;FMTTYPE=image/jpeg:https://unitedskates-assets.sfo3.digitaloceanspaces.com/wp-content/uploads/sites/13/2022/06/Public-Skate-1200x900-1.jpg
END:VEVENT
END:VCALENDAR