BEGIN:VCALENDAR
VERSION:2.0
PRODID:-//Rink 28 - Rumford - ECPv6.15.20//NONSGML v1.0//EN
CALSCALE:GREGORIAN
METHOD:PUBLISH
X-ORIGINAL-URL:https://www.unitedskates.com/rumford
X-WR-CALDESC:Events for Rink 28 - Rumford
REFRESH-INTERVAL;VALUE=DURATION:PT1H
X-Robots-Tag:noindex
X-PUBLISHED-TTL:PT1H
BEGIN:VTIMEZONE
TZID:America/New_York
BEGIN:DAYLIGHT
TZOFFSETFROM:-0500
TZOFFSETTO:-0400
TZNAME:EDT
DTSTART:20250309T070000
END:DAYLIGHT
BEGIN:STANDARD
TZOFFSETFROM:-0400
TZOFFSETTO:-0500
TZNAME:EST
DTSTART:20251102T060000
END:STANDARD
BEGIN:DAYLIGHT
TZOFFSETFROM:-0500
TZOFFSETTO:-0400
TZNAME:EDT
DTSTART:20260308T070000
END:DAYLIGHT
BEGIN:STANDARD
TZOFFSETFROM:-0400
TZOFFSETTO:-0500
TZNAME:EST
DTSTART:20261101T060000
END:STANDARD
BEGIN:DAYLIGHT
TZOFFSETFROM:-0500
TZOFFSETTO:-0400
TZNAME:EDT
DTSTART:20270314T070000
END:DAYLIGHT
BEGIN:STANDARD
TZOFFSETFROM:-0400
TZOFFSETTO:-0500
TZNAME:EST
DTSTART:20271107T060000
END:STANDARD
END:VTIMEZONE
BEGIN:VEVENT
DTSTART;TZID=America/New_York:20260718T100000
DTEND;TZID=America/New_York:20260718T123000
DTSTAMP:20260425T185450
CREATED:20250822T153556Z
LAST-MODIFIED:20260330T182825Z
UID:24828-1784368800-1784377800@www.unitedskates.com
SUMMARY:Public Skate
DESCRIPTION:Skating Admission – $13.00\nNon-skating Admission – $5\nRollerskate Rental – $5.50\nRollerblade Rental – $6.50 \nLaser Tag and Rock Climbing are available for $6 per person\, per game \nThis skating session is for ages 14 and under and 18 and older. Anyone 15\, 16\, or 17 years old must be accompanied by their parent and a younger sibling and the parent must stay in the building. \nAll adults (18+) who will be skating need to fill out our waiver. Click Here for Electronic waivers. \nAll skating adults are required to wear wristguards. Feel free to stop by our skate counter to borrow a pair during your session!
URL:https://www.unitedskates.com/rumford/event/public-skate-21/2026-07-18/
LOCATION:United Skates Of America  Rumford\, 75 New Road\, Rumford\, RI\, 02916\, United States
CATEGORIES:Family Events,Public Skates,Special Events
ATTACH;FMTTYPE=image/jpeg:https://unitedskates-assets.sfo3.digitaloceanspaces.com/wp-content/uploads/sites/13/2022/06/Public-Skate-1200x900-1.jpg
END:VEVENT
BEGIN:VEVENT
DTSTART;TZID=America/New_York:20260718T130000
DTEND;TZID=America/New_York:20260718T153000
DTSTAMP:20260425T185450
CREATED:20250822T153703Z
LAST-MODIFIED:20250822T153703Z
UID:24707-1784379600-1784388600@www.unitedskates.com
SUMMARY:Open Skate
DESCRIPTION:Skating Admission – $13.50\nNon-skating Admission – $5\nRollerskate Rental – $5.50\nRollerblade Rental – $6.50 \nLaser Tag and Rock Climbing are available for $6 per person\, per game \nThis skating session is for ages 14 and under and 18 and older. Anyone 15\, 16\, or 17 years old must be accompanied by their parent and a younger sibling and the parent must stay in the building. \nAll adults (18+) who will be skating need to fill out our waiver. Click Here for Electronic waivers. \nAll skating adults are required to wear wristguards. Feel free to stop by our skate counter to borrow a pair during your session!
URL:https://www.unitedskates.com/rumford/event/open-skate-19/2026-07-18/
LOCATION:United Skates Of America  Rumford\, 75 New Road\, Rumford\, RI\, 02916\, United States
CATEGORIES:Family Events,Public Skates,Special Events
ATTACH;FMTTYPE=image/jpeg:https://unitedskates-assets.sfo3.digitaloceanspaces.com/wp-content/uploads/sites/13/2022/06/Public-Skate-1200x900-1.jpg
END:VEVENT
BEGIN:VEVENT
DTSTART;TZID=America/New_York:20260718T160000
DTEND;TZID=America/New_York:20260718T183000
DTSTAMP:20260425T185450
CREATED:20240830T210119Z
LAST-MODIFIED:20260330T190259Z
UID:24326-1784390400-1784399400@www.unitedskates.com
SUMMARY:Saturday Glow Skate
DESCRIPTION:Join us every Saturday afternoon for our Glow Skate! \nSkating Admission – $14.00\nNon-skating Admission – $5\nRollerskate Rental – $5.50\nRollerblade Rental – $6.50 \nLaser Tag  and Rock Climbing are available for $6 per person per game during any public skating session. \nThis skating session is for ages 14 and under and 18 and older. Anyone 15\, 16\, or 17 years old must be accompanied by their parent and a younger sibling and the parent must stay in the building. \nPlease Note: As of 10/11/2024\, ALL Adults and Children entering the facility will need to fill out our waiver for the day of their visit. Click Here for Electronic waivers.
URL:https://www.unitedskates.com/rumford/event/saturday-glow-skate-4/2026-07-18/
LOCATION:United Skates Of America  Rumford\, 75 New Road\, Rumford\, RI\, 02916\, United States
CATEGORIES:Family Events,Public Skates,Special Events
ATTACH;FMTTYPE=image/jpeg:https://unitedskates-assets.sfo3.digitaloceanspaces.com/wp-content/uploads/sites/13/2022/05/Glow-Skate-1200x900-1.jpg
END:VEVENT
BEGIN:VEVENT
DTSTART;TZID=America/New_York:20260718T190000
DTEND;TZID=America/New_York:20260718T213000
DTSTAMP:20260425T185450
CREATED:20240830T210725Z
LAST-MODIFIED:20240830T210725Z
UID:25130-1784401200-1784410200@www.unitedskates.com
SUMMARY:Saturday Glow Skate
DESCRIPTION:Join us every Saturday night for our Glow Skate! \nSkating Admission – $14.00 \nNon-skating Admission – $5.00 \nRollerskate Rental – $5.50 \nRollerblade Rental – $6.50 \nLaser Tag and Rock Climbing are available for just $6 per person\, per game. \nThis skating session is for ages 14 and under and 18 and older. Anyone 15\, 16\, or 17 years old must be accompanied by their parent and a younger sibling and the parent must stay in the building. \n 
URL:https://www.unitedskates.com/rumford/event/saturday-glow-skate-5/2026-07-18/
LOCATION:United Skates Of America  Rumford\, 75 New Road\, Rumford\, RI\, 02916\, United States
CATEGORIES:Family Events,Public Skates
ATTACH;FMTTYPE=image/jpeg:https://unitedskates-assets.sfo3.digitaloceanspaces.com/wp-content/uploads/sites/13/2022/05/Glow-Skate-1200x900-1.jpg
END:VEVENT
END:VCALENDAR