BEGIN:VCALENDAR
VERSION:2.0
PRODID:-//Rink 28 - Rumford - ECPv6.15.20//NONSGML v1.0//EN
CALSCALE:GREGORIAN
METHOD:PUBLISH
X-WR-CALNAME:Rink 28 - Rumford
X-ORIGINAL-URL:https://www.unitedskates.com/rumford
X-WR-CALDESC:Events for Rink 28 - Rumford
REFRESH-INTERVAL;VALUE=DURATION:PT1H
X-Robots-Tag:noindex
X-PUBLISHED-TTL:PT1H
BEGIN:VTIMEZONE
TZID:America/New_York
BEGIN:DAYLIGHT
TZOFFSETFROM:-0500
TZOFFSETTO:-0400
TZNAME:EDT
DTSTART:20250309T070000
END:DAYLIGHT
BEGIN:STANDARD
TZOFFSETFROM:-0400
TZOFFSETTO:-0500
TZNAME:EST
DTSTART:20251102T060000
END:STANDARD
BEGIN:DAYLIGHT
TZOFFSETFROM:-0500
TZOFFSETTO:-0400
TZNAME:EDT
DTSTART:20260308T070000
END:DAYLIGHT
BEGIN:STANDARD
TZOFFSETFROM:-0400
TZOFFSETTO:-0500
TZNAME:EST
DTSTART:20261101T060000
END:STANDARD
BEGIN:DAYLIGHT
TZOFFSETFROM:-0500
TZOFFSETTO:-0400
TZNAME:EDT
DTSTART:20270314T070000
END:DAYLIGHT
BEGIN:STANDARD
TZOFFSETFROM:-0400
TZOFFSETTO:-0500
TZNAME:EST
DTSTART:20271107T060000
END:STANDARD
END:VTIMEZONE
BEGIN:VEVENT
DTSTART;TZID=America/New_York:20260314T090000
DTEND;TZID=America/New_York:20260314T100000
DTSTAMP:20260425T211921
CREATED:20250906T142744Z
LAST-MODIFIED:20260413T182543Z
UID:23273-1773478800-1773482400@www.unitedskates.com
SUMMARY:Saturday Skate Lessons
DESCRIPTION:We’re here to help skaters both young and old improve their skills so they can have even more fun on wheels! \nJoin us for our skate lessons every Saturday morning from 9am-10am! \nAdmission is $14 for anyone skating\, and includes your skate or blade rental. \nSkate Mates are available for an extra $7. \n  \nOnce the lessons are done\, stay for free and practice your skills during the following public session! \n  \nThis session is for ages 14 and under\, or 18 and older. Anyone 15-17 must be accompanied by their parent and a younger sibling.
URL:https://www.unitedskates.com/rumford/event/saturday-skate-lessons/2026-03-14/
LOCATION:United Skates Of America  Rumford\, 75 New Road\, Rumford\, RI\, 02916\, United States
CATEGORIES:Family Events,Lessons,Public Skates
ATTACH;FMTTYPE=image/jpeg:https://unitedskates-assets.sfo3.digitaloceanspaces.com/wp-content/uploads/sites/13/2022/04/Event-Skate-Lessons.jpg
END:VEVENT
BEGIN:VEVENT
DTSTART;TZID=America/New_York:20260314T100000
DTEND;TZID=America/New_York:20260314T123000
DTSTAMP:20260425T211921
CREATED:20260302T193001Z
LAST-MODIFIED:20260302T193001Z
UID:25651-1773482400-1773491400@www.unitedskates.com
SUMMARY:Mickey & Minnie's St. Patrick's Day Party and Disney Hits Skate
DESCRIPTION:Join us for Mickey & Minnie’s St. Patrick’s Day Party & Disney Hits Skate! Come skating and meet Mickey & Minnie live in person. Enjoy rollerskating\, laser tag\, rock climbing\, arcade games\, free glitter tattoos\, and tons of family fun! \nMickey & Minnie will be available for meet & greets and photo opportunities for your family and will also be having a special dance party at the end of the skating session. \nSkating Admission – $13.50\nNon-skating Admission – $5 \nRollerskate & Trainer Skate Rental – $5.50\nRollerblade Rental – $6.50\nSkate Mate Rental – $7\nYou are welcome to bring your own skates or rollerblades. \nLaser Storm and rock climbing are available for $6 per a person\, per a game. \nMickey & Minnie are available for Disney Hits kids birthday parties! For more info visit Our Birthday Page Here or call us at 401-438-9898. \nThis skating session is for ages 14 and under and 18 and older. Anyone 15\, 16\, or 17 must be accompanied by their own parent and a younger sibling to enter.
URL:https://www.unitedskates.com/rumford/event/mickey-minnies-st-patricks-day-party-and-disney-hits-skate/
LOCATION:United Skates Of America  Rumford\, 75 New Road\, Rumford\, RI\, 02916\, United States
CATEGORIES:Family Events,Public Skates,Special Events
ATTACH;FMTTYPE=image/jpeg:https://unitedskates-assets.sfo3.digitaloceanspaces.com/wp-content/uploads/sites/13/2026/03/Mickey-and-Minnies-St-Patricks-Day-Party-At-United-Skates-RI.jpg
END:VEVENT
BEGIN:VEVENT
DTSTART;TZID=America/New_York:20260314T130000
DTEND;TZID=America/New_York:20260314T153000
DTSTAMP:20260425T211921
CREATED:20250822T153703Z
LAST-MODIFIED:20260110T193312Z
UID:23111-1773493200-1773502200@www.unitedskates.com
SUMMARY:Open Skate
DESCRIPTION:Skating Admission – $13.50\nNon-skating Admission – $5\nRollerskate Rental – $5.50\nRollerblade Rental – $6.50 \nLaser Tag and Rock Climbing are available for $6 per person\, per game \nThis skating session is for ages 14 and under and 18 and older. Anyone 15\, 16\, or 17 years old must be accompanied by their parent and a younger sibling and the parent must stay in the building. \nAll adults (18+) who will be skating need to fill out our waiver. Click Here for Electronic waivers. \nAll skating adults are required to wear wristguards. Feel free to stop by our skate counter to borrow a pair during your session!
URL:https://www.unitedskates.com/rumford/event/open-skate-19/2026-03-14/
LOCATION:United Skates Of America  Rumford\, 75 New Road\, Rumford\, RI\, 02916\, United States
CATEGORIES:Family Events,Public Skates,Special Events
ATTACH;FMTTYPE=image/jpeg:https://unitedskates-assets.sfo3.digitaloceanspaces.com/wp-content/uploads/sites/13/2022/06/Public-Skate-1200x900-1.jpg
END:VEVENT
BEGIN:VEVENT
DTSTART;TZID=America/New_York:20260314T160000
DTEND;TZID=America/New_York:20260314T183000
DTSTAMP:20260425T211921
CREATED:20260302T193857Z
LAST-MODIFIED:20260302T193857Z
UID:25663-1773504000-1773513000@www.unitedskates.com
SUMMARY:The Grinch Steals St. Patrick's Day
DESCRIPTION:The Grinch returns to steal St. Patrick’s Day! \nAdmission includes a green glow stick for our Glow Skate and join us for tons of family fun! Answer The Grinch’s trivia questions or compete in The Grinch’s scavenger hunt for the chance to win a prize! The Grinch will be available for pictures and don’t miss out on our kids dance party with The Grinch at the end of the skating session. \nSkating Admission – $14\nNon-skating Admission – $5\nBoth admissions includes a green glow stick! \nRollerskate & Trainer Rental – $5.50\nRollerblade Rental – $6.50\nSkate Mate Rental – $7\nYou are welcome to bring your own skates or rollerblades. \nLaser Storm and Rock Climbing are also available for only $6 each. \nBirthdays are available during this session! For more info visit Our Birthday Page Here or call us at 401-438-9898. \nThis skating session is for ages 14 and under and 18 and older. Anyone 15\, 16\, or 17 must be accompanied by their own parent and a younger sibling.
URL:https://www.unitedskates.com/rumford/event/the-grinch-steals-st-patricks-day-2/
LOCATION:United Skates Of America  Rumford\, 75 New Road\, Rumford\, RI\, 02916\, United States
CATEGORIES:Family Events,Public Skates,Special Events
ATTACH;FMTTYPE=image/jpeg:https://unitedskates-assets.sfo3.digitaloceanspaces.com/wp-content/uploads/sites/13/2026/03/The-Grinch-Steals-St.Patricks-Day.jpg
END:VEVENT
BEGIN:VEVENT
DTSTART;TZID=America/New_York:20260314T190000
DTEND;TZID=America/New_York:20260314T213000
DTSTAMP:20260425T211921
CREATED:20240830T210725Z
LAST-MODIFIED:20260122T160633Z
UID:24419-1773514800-1773523800@www.unitedskates.com
SUMMARY:Saturday Glow Skate
DESCRIPTION:Join us every Saturday night for our Glow Skate! \nSkating Admission – $14.00 \nNon-skating Admission – $5.00 \nRollerskate Rental – $5.50 \nRollerblade Rental – $6.50 \nLaser Tag and Rock Climbing are available for just $6 per person\, per game. \nThis skating session is for ages 14 and under and 18 and older. Anyone 15\, 16\, or 17 years old must be accompanied by their parent and a younger sibling and the parent must stay in the building. \n 
URL:https://www.unitedskates.com/rumford/event/saturday-glow-skate-5/2026-03-14/
LOCATION:United Skates Of America  Rumford\, 75 New Road\, Rumford\, RI\, 02916\, United States
CATEGORIES:Family Events,Public Skates
ATTACH;FMTTYPE=image/jpeg:https://unitedskates-assets.sfo3.digitaloceanspaces.com/wp-content/uploads/sites/13/2022/05/Glow-Skate-1200x900-1.jpg
END:VEVENT
END:VCALENDAR