BEGIN:VCALENDAR
VERSION:2.0
PRODID:-//Rink 28 - Rumford - ECPv6.15.20//NONSGML v1.0//EN
CALSCALE:GREGORIAN
METHOD:PUBLISH
X-ORIGINAL-URL:https://www.unitedskates.com/rumford
X-WR-CALDESC:Events for Rink 28 - Rumford
REFRESH-INTERVAL;VALUE=DURATION:PT1H
X-Robots-Tag:noindex
X-PUBLISHED-TTL:PT1H
BEGIN:VTIMEZONE
TZID:America/New_York
BEGIN:DAYLIGHT
TZOFFSETFROM:-0500
TZOFFSETTO:-0400
TZNAME:EDT
DTSTART:20250309T070000
END:DAYLIGHT
BEGIN:STANDARD
TZOFFSETFROM:-0400
TZOFFSETTO:-0500
TZNAME:EST
DTSTART:20251102T060000
END:STANDARD
BEGIN:DAYLIGHT
TZOFFSETFROM:-0500
TZOFFSETTO:-0400
TZNAME:EDT
DTSTART:20260308T070000
END:DAYLIGHT
BEGIN:STANDARD
TZOFFSETFROM:-0400
TZOFFSETTO:-0500
TZNAME:EST
DTSTART:20261101T060000
END:STANDARD
BEGIN:DAYLIGHT
TZOFFSETFROM:-0500
TZOFFSETTO:-0400
TZNAME:EDT
DTSTART:20270314T070000
END:DAYLIGHT
BEGIN:STANDARD
TZOFFSETFROM:-0400
TZOFFSETTO:-0500
TZNAME:EST
DTSTART:20271107T060000
END:STANDARD
END:VTIMEZONE
BEGIN:VEVENT
DTSTART;TZID=America/New_York:20260218T100000
DTEND;TZID=America/New_York:20260218T153000
DTSTAMP:20260425T160409
CREATED:20260129T170804Z
LAST-MODIFIED:20260212T154644Z
UID:25419-1771408800-1771428600@www.unitedskates.com
SUMMARY:Public Skate
DESCRIPTION:The kids will be out of school and we will be open! Join us for one of our special skating events throughout the school vacation week! Come skating\, play laser tag\, climb the rock wall\, play arcade games\, meet characters\, and enjoy tons of family fun!\n\nBuy Your Tickets In Advance By Clicking Here!\nSkating Admission – $13.00\nNon-skating Admission – $5\nRollerskate Rental – $5.50\nRollerblade Rental – $6.50 \nLaser Tag and Rock Climbing are available for $6 per person\, per game \nThis skating session is for ages 14 and under and 18 and older. Anyone 15\, 16\, or 17 years old must be accompanied by their parent and a younger sibling and the parent must stay in the building. \nAll skating adults are required to wear wristguards. Feel free to stop by our skate counter to borrow a pair during your session!
URL:https://www.unitedskates.com/rumford/event/public-skate-24/
LOCATION:United Skates Of America  Rumford\, 75 New Road\, Rumford\, RI\, 02916\, United States
CATEGORIES:Family Events,Public Skates,Special Events
ATTACH;FMTTYPE=image/jpeg:https://unitedskates-assets.sfo3.digitaloceanspaces.com/wp-content/uploads/sites/13/2022/06/Public-Skate-1200x900-1.jpg
END:VEVENT
BEGIN:VEVENT
DTSTART;TZID=America/New_York:20260218T160000
DTEND;TZID=America/New_York:20260218T183000
DTSTAMP:20260425T160409
CREATED:20260211T175213Z
LAST-MODIFIED:20260211T175213Z
UID:25534-1771430400-1771439400@www.unitedskates.com
SUMMARY:All You Can Eat Pizza Skate
DESCRIPTION:The kids will be out of school and we will be open! Join us for one of our special skating events throughout the school vacation week! Come skating\, play laser tag\, climb the rock wall\, play arcade games\, meet characters\, and enjoy tons of family fun!\n\nBuy Your Tickets In Advance By Clicking Here!\nSkating Admission- $15.00\nNon Skating Admission- $5.00\nBoth Admissions include All You Can Eat Cheese Pizza!\n\nRollerskate Rental – $5.50\nRollerblade Rental – $6.50\nSkate Mate Rental – $7\nYou are welcome to bring your own skates or rollerblades.\n\nLaser Tag and Rock Climbing are available for $6 per person per game.\n\nThis skating session is for ages 14 and under and 18 and older. Anyone 15\, 16\, or 17 must be accompanied by their own parent and a younger sibling to enter.
URL:https://www.unitedskates.com/rumford/event/all-you-can-eat-pizza-skate-20/2026-02-18/
LOCATION:United Skates Of America  Rumford\, 75 New Road\, Rumford\, RI\, 02916\, United States
CATEGORIES:Family Events,Public Skates,Special Events
ATTACH;FMTTYPE=image/jpeg:https://unitedskates-assets.sfo3.digitaloceanspaces.com/wp-content/uploads/sites/13/2022/09/AYCE-Skate-1200x900-1.jpg
END:VEVENT
BEGIN:VEVENT
DTSTART;TZID=America/New_York:20260218T190000
DTEND;TZID=America/New_York:20260218T220000
DTSTAMP:20260425T160409
CREATED:20260212T154000Z
LAST-MODIFIED:20260212T154000Z
UID:25550-1771441200-1771452000@www.unitedskates.com
SUMMARY:All You Can Eat Pizza Skate
DESCRIPTION:The kids will be out of school and we will be open! Join us for one of our special skating events throughout the school vacation week! Come skating\, play laser tag\, climb the rock wall\, play arcade games\, meet characters\, and enjoy tons of family fun!\n\nBuy Your Tickets In Advance By Clicking Here!\nSkating Admission- $15.00\nNon Skating Admission- $5.00\nBoth Admissions include All You Can Eat Cheese Pizza!\n\nRollerskate Rental – $5.50\nRollerblade Rental – $6.50\nSkate Mate Rental – $7\nYou are welcome to bring your own skates or rollerblades.\n\nLaser Tag and Rock Climbing are available for $6 per person per game.\n\nThis skating session is for ages 14 and under and 18 and older. Anyone 15\, 16\, or 17 must be accompanied by their own parent and a younger sibling to enter.
URL:https://www.unitedskates.com/rumford/event/all-you-can-eat-pizza-skate-25/
LOCATION:United Skates Of America  Rumford\, 75 New Road\, Rumford\, RI\, 02916\, United States
CATEGORIES:Family Events,Public Skates,Special Events
ATTACH;FMTTYPE=image/jpeg:https://unitedskates-assets.sfo3.digitaloceanspaces.com/wp-content/uploads/sites/13/2022/09/AYCE-Skate-1200x900-1.jpg
END:VEVENT
END:VCALENDAR