BEGIN:VCALENDAR
VERSION:2.0
PRODID:-//Rink 28 - Rumford - ECPv6.15.20//NONSGML v1.0//EN
CALSCALE:GREGORIAN
METHOD:PUBLISH
X-ORIGINAL-URL:https://www.unitedskates.com/rumford
X-WR-CALDESC:Events for Rink 28 - Rumford
REFRESH-INTERVAL;VALUE=DURATION:PT1H
X-Robots-Tag:noindex
X-PUBLISHED-TTL:PT1H
BEGIN:VTIMEZONE
TZID:America/New_York
BEGIN:DAYLIGHT
TZOFFSETFROM:-0500
TZOFFSETTO:-0400
TZNAME:EDT
DTSTART:20250309T070000
END:DAYLIGHT
BEGIN:STANDARD
TZOFFSETFROM:-0400
TZOFFSETTO:-0500
TZNAME:EST
DTSTART:20251102T060000
END:STANDARD
BEGIN:DAYLIGHT
TZOFFSETFROM:-0500
TZOFFSETTO:-0400
TZNAME:EDT
DTSTART:20260308T070000
END:DAYLIGHT
BEGIN:STANDARD
TZOFFSETFROM:-0400
TZOFFSETTO:-0500
TZNAME:EST
DTSTART:20261101T060000
END:STANDARD
BEGIN:DAYLIGHT
TZOFFSETFROM:-0500
TZOFFSETTO:-0400
TZNAME:EDT
DTSTART:20270314T070000
END:DAYLIGHT
BEGIN:STANDARD
TZOFFSETFROM:-0400
TZOFFSETTO:-0500
TZNAME:EST
DTSTART:20271107T060000
END:STANDARD
END:VTIMEZONE
BEGIN:VEVENT
DTSTART;TZID=America/New_York:20260217T100000
DTEND;TZID=America/New_York:20260217T153000
DTSTAMP:20260425T173231
CREATED:20260122T162702Z
LAST-MODIFIED:20260211T172209Z
UID:25242-1771322400-1771342200@www.unitedskates.com
SUMMARY:Spongebob's Bikini Bottom Glow Bash
DESCRIPTION:The kids are out of school and we are open! \nSpongebob & Patrick are throwing a Bikini Bottom Bash! Come skating and meet Spongebob & Patrick during from 11am to 2pm\, answer Spongebob trivia for prizes\, compete in Spongebob’s scavenger hunt\, enjoy Spongebob’s Dance Party\, and more! \n  \nBuy Your Tickets in Advance By Clicking Here! \nSkating Admission – $13\nNon-skating Admission – $5 \nRollerskate & Trainer Skate Rental – $5.50\nRollerblade Rental – $6.50\nSkate Mate Rental – $7\nYou are welcome to bring your own skates or rollerblades. \nLaser Storm and Rock Climbing are also available for only $6 each. \nSpongebob & Patrick are available for kids birthday parties! For more info visit Our Birthday Page Here or call us at 401-438-9898. \nPlease note that all sessions are for ages 14 and under and 18 or older. Anyone 15-17 must be accompanied by a parent and younger sibling to enter.
URL:https://www.unitedskates.com/rumford/event/spongebobs-bikini-bottom-glow-bash-2/
LOCATION:United Skates Of America  Rumford\, 75 New Road\, Rumford\, RI\, 02916\, United States
CATEGORIES:Family Events,Public Skates,Special Events
ATTACH;FMTTYPE=image/jpeg:https://unitedskates-assets.sfo3.digitaloceanspaces.com/wp-content/uploads/sites/13/2026/01/Spongbob-and-Patrick-Bikini-Bottom-Bash-At-United-Skates-RI.jpg
END:VEVENT
BEGIN:VEVENT
DTSTART;TZID=America/New_York:20260217T160000
DTEND;TZID=America/New_York:20260217T183000
DTSTAMP:20260425T173231
CREATED:20260211T173005Z
LAST-MODIFIED:20260212T153754Z
UID:25526-1771344000-1771353000@www.unitedskates.com
SUMMARY:All You Can Eat Pizza Skate
DESCRIPTION:The kids will be out of school and we will be open! Join us for one of our special skating events throughout the school vacation week! Come skating\, play laser tag\, climb the rock wall\, play arcade games\, meet characters\, and enjoy tons of family fun!\n\nBuy Your Tickets In Advance By Clicking Here!\nSkating Admission- $15.00\nNon Skating Admission- $5.00\nBoth Admissions include All You Can Eat Cheese Pizza!\n\nRollerskate Rental – $5.50\nRollerblade Rental – $6.50\nSkate Mate Rental – $7\nYou are welcome to bring your own skates or rollerblades.\n\nLaser Tag and Rock Climbing are available for $6 per person per game.\n\nThis skating session is for ages 14 and under and 18 and older. Anyone 15\, 16\, or 17 must be accompanied by their own parent and a younger sibling to enter.
URL:https://www.unitedskates.com/rumford/event/all-you-can-eat-pizza-skate-18/
LOCATION:United Skates Of America  Rumford\, 75 New Road\, Rumford\, RI\, 02916\, United States
CATEGORIES:Family Events,Public Skates,Special Events
ATTACH;FMTTYPE=image/jpeg:https://unitedskates-assets.sfo3.digitaloceanspaces.com/wp-content/uploads/sites/13/2022/09/AYCE-Skate-1200x900-1.jpg
END:VEVENT
BEGIN:VEVENT
DTSTART;TZID=America/New_York:20260217T190000
DTEND;TZID=America/New_York:20260217T220000
DTSTAMP:20260425T173231
CREATED:20260212T153748Z
LAST-MODIFIED:20260212T153748Z
UID:25548-1771354800-1771365600@www.unitedskates.com
SUMMARY:All You Can Eat Pizza Skate
DESCRIPTION:The kids will be out of school and we will be open! Join us for one of our special skating events throughout the school vacation week! Come skating\, play laser tag\, climb the rock wall\, play arcade games\, meet characters\, and enjoy tons of family fun!\n\nBuy Your Tickets In Advance By Clicking Here!\nSkating Admission- $15.00\nNon Skating Admission- $5.00\nBoth Admissions include All You Can Eat Cheese Pizza!\n\nRollerskate Rental – $5.50\nRollerblade Rental – $6.50\nSkate Mate Rental – $7\nYou are welcome to bring your own skates or rollerblades.\n\nLaser Tag and Rock Climbing are available for $6 per person per game.\n\nThis skating session is for ages 14 and under and 18 and older. Anyone 15\, 16\, or 17 must be accompanied by their own parent and a younger sibling to enter.
URL:https://www.unitedskates.com/rumford/event/all-you-can-eat-pizza-skate-24/
LOCATION:United Skates Of America  Rumford\, 75 New Road\, Rumford\, RI\, 02916\, United States
CATEGORIES:Family Events,Public Skates,Special Events
ATTACH;FMTTYPE=image/jpeg:https://unitedskates-assets.sfo3.digitaloceanspaces.com/wp-content/uploads/sites/13/2022/09/AYCE-Skate-1200x900-1.jpg
END:VEVENT
END:VCALENDAR