BEGIN:VCALENDAR
VERSION:2.0
PRODID:-//Rink 28 - Rumford - ECPv6.15.20//NONSGML v1.0//EN
CALSCALE:GREGORIAN
METHOD:PUBLISH
X-ORIGINAL-URL:https://www.unitedskates.com/rumford
X-WR-CALDESC:Events for Rink 28 - Rumford
REFRESH-INTERVAL;VALUE=DURATION:PT1H
X-Robots-Tag:noindex
X-PUBLISHED-TTL:PT1H
BEGIN:VTIMEZONE
TZID:America/New_York
BEGIN:DAYLIGHT
TZOFFSETFROM:-0500
TZOFFSETTO:-0400
TZNAME:EDT
DTSTART:20250309T070000
END:DAYLIGHT
BEGIN:STANDARD
TZOFFSETFROM:-0400
TZOFFSETTO:-0500
TZNAME:EST
DTSTART:20251102T060000
END:STANDARD
BEGIN:DAYLIGHT
TZOFFSETFROM:-0500
TZOFFSETTO:-0400
TZNAME:EDT
DTSTART:20260308T070000
END:DAYLIGHT
BEGIN:STANDARD
TZOFFSETFROM:-0400
TZOFFSETTO:-0500
TZNAME:EST
DTSTART:20261101T060000
END:STANDARD
BEGIN:DAYLIGHT
TZOFFSETFROM:-0500
TZOFFSETTO:-0400
TZNAME:EDT
DTSTART:20270314T070000
END:DAYLIGHT
BEGIN:STANDARD
TZOFFSETFROM:-0400
TZOFFSETTO:-0500
TZNAME:EST
DTSTART:20271107T060000
END:STANDARD
END:VTIMEZONE
BEGIN:VEVENT
DTSTART;TZID=America/New_York:20260214T090000
DTEND;TZID=America/New_York:20260214T100000
DTSTAMP:20260425T160433
CREATED:20250906T142744Z
LAST-MODIFIED:20260413T182542Z
UID:23269-1771059600-1771063200@www.unitedskates.com
SUMMARY:Saturday Skate Lessons
DESCRIPTION:We’re here to help skaters both young and old improve their skills so they can have even more fun on wheels! \nJoin us for our skate lessons every Saturday morning from 9am-10am! \nAdmission is $14 for anyone skating\, and includes your skate or blade rental. \nSkate Mates are available for an extra $7. \n  \nOnce the lessons are done\, stay for free and practice your skills during the following public session! \n  \nThis session is for ages 14 and under\, or 18 and older. Anyone 15-17 must be accompanied by their parent and a younger sibling.
URL:https://www.unitedskates.com/rumford/event/saturday-skate-lessons/2026-02-14/
LOCATION:United Skates Of America  Rumford\, 75 New Road\, Rumford\, RI\, 02916\, United States
CATEGORIES:Family Events,Lessons,Public Skates
ATTACH;FMTTYPE=image/jpeg:https://unitedskates-assets.sfo3.digitaloceanspaces.com/wp-content/uploads/sites/13/2022/04/Event-Skate-Lessons.jpg
END:VEVENT
BEGIN:VEVENT
DTSTART;TZID=America/New_York:20260214T100000
DTEND;TZID=America/New_York:20260214T123000
DTSTAMP:20260425T160433
CREATED:20260122T160331Z
LAST-MODIFIED:20260122T161251Z
UID:25094-1771063200-1771072200@www.unitedskates.com
SUMMARY:Mickey & Minnie's Valentine's Day Party & Disney Hits Skate
DESCRIPTION:Join us for Mickey & Minnie’s Valentine’s Day Party & Disney Hits Skate! Come skating and meet Mickey & Minnie live in person. Enjoy rollerskating\, laser tag\, rock climbing\, arcade games\, free face painting\, and tons of family fun! \nMickey & Minnie will be available for meet & greets and photo opportunities for your family and will also be having a special dance party at the end of the skating session. \nSkating Admission – $13\nNon-skating Admission – $5 \nRollerskate & Trainer Skate Rental – $5.50\nRollerblade Rental – $6.50\nSkate Mate Rental – $7\nYou are welcome to bring your own skates or rollerblades. \nLaser Storm and rock climbing are available for $6 per a person\, per a game. \nMickey & Minnie are available for Disney Hits kids birthday parties! For more info visit Our Birthday Page Here or call us at 401-438-9898. \nThis skating session is for ages 14 and under and 18 and older. Anyone 15\, 16\, or 17 must be accompanied by their own parent and a younger sibling to enter.
URL:https://www.unitedskates.com/rumford/event/mickey-minnies-valentines-day-party-disney-hits-skate/
LOCATION:United Skates Of America  Rumford\, 75 New Road\, Rumford\, RI\, 02916\, United States
CATEGORIES:Family Events,Public Skates,Special Events
ATTACH;FMTTYPE=image/jpeg:https://unitedskates-assets.sfo3.digitaloceanspaces.com/wp-content/uploads/sites/13/2026/01/Mickey-and-Minnies-Valentines-Day-Party.jpg
END:VEVENT
BEGIN:VEVENT
DTSTART;TZID=America/New_York:20260214T130000
DTEND;TZID=America/New_York:20260214T153000
DTSTAMP:20260425T160433
CREATED:20260111T000704Z
LAST-MODIFIED:20260111T000704Z
UID:24746-1771074000-1771083000@www.unitedskates.com
SUMMARY:Kpop Golden Roll: Rumi's Valentine's Day Party
DESCRIPTION:Bring the family to meet Rumi and come skate and sing along to Rumi’s favorite songs from the movie during our Glow Skate! Admission includes a glow stick\, meet and greet\, and all you can eat cheese pizza! Don’t miss out on our dance party at the end of the skating session. \n🎟 Purchase your tickets in advance By Clicking Here! \nWe are limiting the number admitted so we do highly recommend purchasing your tickets in advance! In the event this session sells out in advance\, we will add an additional day and time. \nSkating Admission – $15.99 \nNon-Skating Admission – $5 \nRollerskate Rental – $5.50 \nRollerblade Rental – $6.50 \nYou are welcome to bring your own skates or blades. \n🌟 Available Now: HUNTR/X VIP Pass – $30 🌟 \nVIP Package includes: \n📀 Admission \n📀 Skate or Blade Rental \n📀 1 Game of Laser Tag \n📀 $5 Game Card \n📀 Saja Soda Pop Boba Drink \n📀 Glow Sword \n📀 Demon Glitter Tattoos \n📀 VIP Wristband with early entry 30 minutes before regular entry! \n✨ Don’t wait! There are limited VIP passes! \nLaser Tag and Rock Climbing are available for $6 per person per game. \nThis skating session is for ages 14 and under and 18 and older. Anyone 15\, 16\, or 17 must be accompanied by their own parent and a younger sibling. \nKpop birthday parties are available during all public skating sessions! For more info visit Our Birthday Page Here or call us at 401-438-9898. Group rates are also available!
URL:https://www.unitedskates.com/rumford/event/kpop-golden-roll-rumis-valentines-day-party-2/
LOCATION:United Skates Of America  Rumford\, 75 New Road\, Rumford\, RI\, 02916\, United States
CATEGORIES:Family Events,Public Skates,Special Events
ATTACH;FMTTYPE=image/jpeg:https://unitedskates-assets.sfo3.digitaloceanspaces.com/wp-content/uploads/sites/13/2026/01/KPop-Rumi-Valentines-Day-Skate.jpg
END:VEVENT
BEGIN:VEVENT
DTSTART;TZID=America/New_York:20260214T160000
DTEND;TZID=America/New_York:20260214T183000
DTSTAMP:20260425T160433
CREATED:20260122T161048Z
LAST-MODIFIED:20260212T155234Z
UID:25137-1771084800-1771093800@www.unitedskates.com
SUMMARY:Annual Family Valentine Skate with Stitch
DESCRIPTION:Join us this Valentine’s Day for tons of family fun and a Disney Hits Party with Stitch! Enjoy skating\, all you can eat pizza\, an ice cream sundae\, glitter tattoos\, meet & greet with Stitch\, games\, prizes\, Stitch’s dance party with confetti explosion\, and more! \nBuy Your Tickets In Advance By Clicking Here! \nSkating Admission – $17.99\nNon-skating Admission – $9.99 \nRollerskate Rental – $5.50\nRollerblade & Trainer Rental – $6.50 \nYou are welcome to bring your own skates or rollerblades. \nBoth admissions include all you can eat cheese pizza\, an ice cream sundae\, glitter tattoos\, meet & greet\, and dance party. The skate floor will be closing 15 minutes before the end of each session for the confetti filled dance party! \nLaser Storm and rock climbing are available for $6 per a person\, per a game. \nNo reservations are needed. \nWe do offer sauce only pizza for anyone with allergies upon request. Our pizza is nut free. The ice cream sundae bar is not nut free but an alternative is provided for those allergic to nuts/dairy. \nThis skating session is for ages 14 and under and 18 and older. Anyone 15\, 16\, or 17 must be accompanied by their own parent and a younger sibling to enter. \nStitch is available for Disney Hits birthday parties! For more info visit Our Birthday Page Here or call us at 401-438-9898.
URL:https://www.unitedskates.com/rumford/event/annual-family-valentine-skate-with-stitch/
LOCATION:United Skates Of America  Rumford\, 75 New Road\, Rumford\, RI\, 02916\, United States
CATEGORIES:Family Events,Public Skates,Special Events
ATTACH;FMTTYPE=image/jpeg:https://unitedskates-assets.sfo3.digitaloceanspaces.com/wp-content/uploads/sites/13/2026/01/Valentine-Skate-with-Stitch-at-United-Skates-RI.jpg
END:VEVENT
BEGIN:VEVENT
DTSTART;TZID=America/New_York:20260214T190000
DTEND;TZID=America/New_York:20260214T213000
DTSTAMP:20260425T160433
CREATED:20260212T155240Z
LAST-MODIFIED:20260212T155240Z
UID:25557-1771095600-1771104600@www.unitedskates.com
SUMMARY:Annual Family Valentine Skate with Stitch
DESCRIPTION:Join us this Valentine’s Day for tons of family fun and a Disney Hits Party with Stitch! Enjoy skating\, all you can eat pizza\, an ice cream sundae\, glitter tattoos\, meet & greet with Stitch\, games\, prizes\, Stitch’s dance party with confetti explosion\, and more! \nBuy Your Tickets In Advance By Clicking Here! \nSkating Admission – $17.99\nNon-skating Admission – $9.99 \nRollerskate Rental – $5.50\nRollerblade & Trainer Rental – $6.50 \nYou are welcome to bring your own skates or rollerblades. \nBoth admissions include all you can eat cheese pizza\, an ice cream sundae\, glitter tattoos\, meet & greet\, and dance party. The skate floor will be closing 15 minutes before the end of each session for the confetti filled dance party! \nLaser Storm and rock climbing are available for $6 per a person\, per a game. \nNo reservations are needed. \nWe do offer sauce only pizza for anyone with allergies upon request. Our pizza is nut free. The ice cream sundae bar is not nut free but an alternative is provided for those allergic to nuts/dairy. \nThis skating session is for ages 14 and under and 18 and older. Anyone 15\, 16\, or 17 must be accompanied by their own parent and a younger sibling to enter. \nStitch is available for Disney Hits birthday parties! For more info visit Our Birthday Page Here or call us at 401-438-9898.
URL:https://www.unitedskates.com/rumford/event/annual-family-valentine-skate-with-stitch-2/
LOCATION:United Skates Of America  Rumford\, 75 New Road\, Rumford\, RI\, 02916\, United States
CATEGORIES:Family Events,Public Skates,Special Events
ATTACH;FMTTYPE=image/jpeg:https://unitedskates-assets.sfo3.digitaloceanspaces.com/wp-content/uploads/sites/13/2026/01/Valentine-Skate-with-Stitch-at-United-Skates-RI.jpg
END:VEVENT
END:VCALENDAR