BEGIN:VCALENDAR
VERSION:2.0
PRODID:-//Rink 28 - Rumford - ECPv6.15.20//NONSGML v1.0//EN
CALSCALE:GREGORIAN
METHOD:PUBLISH
X-ORIGINAL-URL:https://www.unitedskates.com/rumford
X-WR-CALDESC:Events for Rink 28 - Rumford
REFRESH-INTERVAL;VALUE=DURATION:PT1H
X-Robots-Tag:noindex
X-PUBLISHED-TTL:PT1H
BEGIN:VTIMEZONE
TZID:America/New_York
BEGIN:DAYLIGHT
TZOFFSETFROM:-0500
TZOFFSETTO:-0400
TZNAME:EDT
DTSTART:20250309T070000
END:DAYLIGHT
BEGIN:STANDARD
TZOFFSETFROM:-0400
TZOFFSETTO:-0500
TZNAME:EST
DTSTART:20251102T060000
END:STANDARD
BEGIN:DAYLIGHT
TZOFFSETFROM:-0500
TZOFFSETTO:-0400
TZNAME:EDT
DTSTART:20260308T070000
END:DAYLIGHT
BEGIN:STANDARD
TZOFFSETFROM:-0400
TZOFFSETTO:-0500
TZNAME:EST
DTSTART:20261101T060000
END:STANDARD
BEGIN:DAYLIGHT
TZOFFSETFROM:-0500
TZOFFSETTO:-0400
TZNAME:EDT
DTSTART:20270314T070000
END:DAYLIGHT
BEGIN:STANDARD
TZOFFSETFROM:-0400
TZOFFSETTO:-0500
TZNAME:EST
DTSTART:20271107T060000
END:STANDARD
END:VTIMEZONE
BEGIN:VEVENT
DTSTART;TZID=America/New_York:20260213T173000
DTEND;TZID=America/New_York:20260213T220000
DTSTAMP:20260425T212927
CREATED:20260110T195152Z
LAST-MODIFIED:20260110T195152Z
UID:24711-1771003800-1771020000@www.unitedskates.com
SUMMARY:Kpop Golden Roll: Rumi's Valentine's Day Party
DESCRIPTION:Bring the family to meet Rumi and come skate and sing along to Rumi’s favorite songs from the movie during our Glow Skate! Admission includes a glow stick\, meet and greet\, and all you can eat cheese pizza! Don’t miss out on our dance party at the end of the skating session. \n🎟 Purchase your tickets in advance By Clicking Here! \nWe are limiting the number admitted so we do highly recommend purchasing your tickets in advance! In the event this session sells out in advance\, we will add an additional day and time. \nSkating Admission – $15.99 \nNon-Skating Admission – $5 \nRollerskate Rental – $5.50 \nRollerblade Rental – $6.50 \nYou are welcome to bring your own skates or blades. \n🌟 Available Now: HUNTR/X VIP Pass – $30 🌟 \nVIP Package includes: \n📀 Admission \n📀 Skate or Blade Rental \n📀 1 Game of Laser Tag \n📀 $5 Game Card \n📀 Saja Soda Pop Boba Drink \n📀 Glow Sword \n📀 Demon Glitter Tattoos \n📀 VIP Wristband with early entry 30 minutes before regular entry! \n✨ Don’t wait! There are limited VIP passes! \nLaser Tag and Rock Climbing are available for $6 per person per game. \nThis skating session is for ages 14 and under and 18 and older. Anyone 15\, 16\, or 17 must be accompanied by their own parent and a younger sibling. \nKpop birthday parties are available during all public skating sessions! For more info visit Our Birthday Page Here or call us at 401-438-9898. Group rates are also available!
URL:https://www.unitedskates.com/rumford/event/kpop-golden-roll-rumis-valentines-day-party/
LOCATION:United Skates Of America  Rumford\, 75 New Road\, Rumford\, RI\, 02916\, United States
CATEGORIES:Family Events,Public Skates,Special Events
ATTACH;FMTTYPE=image/jpeg:https://unitedskates-assets.sfo3.digitaloceanspaces.com/wp-content/uploads/sites/13/2026/01/KPop-Rumi-Valentines-Day-Skate.jpg
END:VEVENT
BEGIN:VEVENT
DTSTART;TZID=America/New_York:20260213T223000
DTEND;TZID=America/New_York:20260214T010000
DTSTAMP:20260425T212927
CREATED:20260122T155528Z
LAST-MODIFIED:20260122T155528Z
UID:25091-1771021800-1771030800@www.unitedskates.com
SUMMARY:70's 80's & 90's Adult Skate Night
DESCRIPTION:Join us for our Adult Skate Night for ages 18 and up only! \nGrab your friends and relive the good old days\, skating to your favorite 70’s\, 80’s\, and 90’s music. DJ Meatball will also be taking requests all night long. \nAdmission is $20 and includes regular skate rentals. \nRollerblade rentals are $6.50. You are welcome to bring your own skates/blades. \nLaser tag and rock climbing are available for $6 per a person per a game.
URL:https://www.unitedskates.com/rumford/event/70s-80s-90s-adult-skate-night-3/
LOCATION:United Skates Of America  Rumford\, 75 New Road\, Rumford\, RI\, 02916\, United States
CATEGORIES:Adult Events,Public Skates,Special Events
ATTACH;FMTTYPE=image/jpeg:https://unitedskates-assets.sfo3.digitaloceanspaces.com/wp-content/uploads/sites/13/2025/01/Adult-SKate.jpg
END:VEVENT
END:VCALENDAR