BEGIN:VCALENDAR
VERSION:2.0
PRODID:-//Rink 28 - Rumford - ECPv6.15.20//NONSGML v1.0//EN
CALSCALE:GREGORIAN
METHOD:PUBLISH
X-ORIGINAL-URL:https://www.unitedskates.com/rumford
X-WR-CALDESC:Events for Rink 28 - Rumford
REFRESH-INTERVAL;VALUE=DURATION:PT1H
X-Robots-Tag:noindex
X-PUBLISHED-TTL:PT1H
BEGIN:VTIMEZONE
TZID:America/New_York
BEGIN:DAYLIGHT
TZOFFSETFROM:-0500
TZOFFSETTO:-0400
TZNAME:EDT
DTSTART:20250309T070000
END:DAYLIGHT
BEGIN:STANDARD
TZOFFSETFROM:-0400
TZOFFSETTO:-0500
TZNAME:EST
DTSTART:20251102T060000
END:STANDARD
BEGIN:DAYLIGHT
TZOFFSETFROM:-0500
TZOFFSETTO:-0400
TZNAME:EDT
DTSTART:20260308T070000
END:DAYLIGHT
BEGIN:STANDARD
TZOFFSETFROM:-0400
TZOFFSETTO:-0500
TZNAME:EST
DTSTART:20261101T060000
END:STANDARD
BEGIN:DAYLIGHT
TZOFFSETFROM:-0500
TZOFFSETTO:-0400
TZNAME:EDT
DTSTART:20270314T070000
END:DAYLIGHT
BEGIN:STANDARD
TZOFFSETFROM:-0400
TZOFFSETTO:-0500
TZNAME:EST
DTSTART:20271107T060000
END:STANDARD
END:VTIMEZONE
BEGIN:VEVENT
DTSTART;TZID=America/New_York:20260124T090000
DTEND;TZID=America/New_York:20260124T100000
DTSTAMP:20260425T185505
CREATED:20250906T142744Z
LAST-MODIFIED:20260413T182540Z
UID:23266-1769245200-1769248800@www.unitedskates.com
SUMMARY:Saturday Skate Lessons
DESCRIPTION:We’re here to help skaters both young and old improve their skills so they can have even more fun on wheels! \nJoin us for our skate lessons every Saturday morning from 9am-10am! \nAdmission is $14 for anyone skating\, and includes your skate or blade rental. \nSkate Mates are available for an extra $7. \n  \nOnce the lessons are done\, stay for free and practice your skills during the following public session! \n  \nThis session is for ages 14 and under\, or 18 and older. Anyone 15-17 must be accompanied by their parent and a younger sibling.
URL:https://www.unitedskates.com/rumford/event/saturday-skate-lessons/2026-01-24/
LOCATION:United Skates Of America  Rumford\, 75 New Road\, Rumford\, RI\, 02916\, United States
CATEGORIES:Family Events,Lessons,Public Skates
ATTACH;FMTTYPE=image/jpeg:https://unitedskates-assets.sfo3.digitaloceanspaces.com/wp-content/uploads/sites/13/2022/04/Event-Skate-Lessons.jpg
END:VEVENT
BEGIN:VEVENT
DTSTART;TZID=America/New_York:20260124T100000
DTEND;TZID=America/New_York:20260124T123000
DTSTAMP:20260425T185505
CREATED:20260120T164855Z
LAST-MODIFIED:20260120T164855Z
UID:24832-1769248800-1769257800@www.unitedskates.com
SUMMARY:Meet The Heeler Sisters Skate
DESCRIPTION:Join us for a special kids skate and meet the Heeler sisters! \nEnjoy rollerskating\, laser tag\, rock climbing\, arcade games\, tons of family fun\, and photo opportunities and a dance party with the heeler sisters live in person! \nSkating Admission – $12.50\nNon-skating Admission – $5 \nRollerskate Rental – $5.50\nRollerblade Rental – $6.50 \nSkate Mate Rental – $7 \nYou are welcome to bring your own skates or rollerblades. \nLaser Storm & Rock Climbing – $6 per person per game/ticket \nThis skating session is for ages 14 and under and 18 and older. Anyone 15\, 16\, or 17 must be accompanied by their own parent and a younger sibling. \nThe Heeler sisters are available for children’s birthday parties! For more info visit Our Birthday Page Here or call us at 401-438-9898.
URL:https://www.unitedskates.com/rumford/event/meet-the-heeler-sisters-skate-2/
LOCATION:United Skates Of America  Rumford\, 75 New Road\, Rumford\, RI\, 02916\, United States
CATEGORIES:Family Events,Public Skates,Special Events
ATTACH;FMTTYPE=image/jpeg:https://unitedskates-assets.sfo3.digitaloceanspaces.com/wp-content/uploads/sites/13/2025/08/Heeler-Sisters-at-United-Skates.jpg
END:VEVENT
BEGIN:VEVENT
DTSTART;TZID=America/New_York:20260124T130000
DTEND;TZID=America/New_York:20260124T153000
DTSTAMP:20260425T185505
CREATED:20250822T153703Z
LAST-MODIFIED:20260110T193310Z
UID:23104-1769259600-1769268600@www.unitedskates.com
SUMMARY:Open Skate
DESCRIPTION:Skating Admission – $13.50\nNon-skating Admission – $5\nRollerskate Rental – $5.50\nRollerblade Rental – $6.50 \nLaser Tag and Rock Climbing are available for $6 per person\, per game \nThis skating session is for ages 14 and under and 18 and older. Anyone 15\, 16\, or 17 years old must be accompanied by their parent and a younger sibling and the parent must stay in the building. \nAll adults (18+) who will be skating need to fill out our waiver. Click Here for Electronic waivers. \nAll skating adults are required to wear wristguards. Feel free to stop by our skate counter to borrow a pair during your session!
URL:https://www.unitedskates.com/rumford/event/open-skate-19/2026-01-24/
LOCATION:United Skates Of America  Rumford\, 75 New Road\, Rumford\, RI\, 02916\, United States
CATEGORIES:Family Events,Public Skates,Special Events
ATTACH;FMTTYPE=image/jpeg:https://unitedskates-assets.sfo3.digitaloceanspaces.com/wp-content/uploads/sites/13/2022/06/Public-Skate-1200x900-1.jpg
END:VEVENT
BEGIN:VEVENT
DTSTART;TZID=America/New_York:20260124T160000
DTEND;TZID=America/New_York:20260124T183000
DTSTAMP:20260425T185505
CREATED:20240830T210119Z
LAST-MODIFIED:20260330T190252Z
UID:24301-1769270400-1769279400@www.unitedskates.com
SUMMARY:Saturday Glow Skate
DESCRIPTION:Join us every Saturday afternoon for our Glow Skate! \nSkating Admission – $14.00\nNon-skating Admission – $5\nRollerskate Rental – $5.50\nRollerblade Rental – $6.50 \nLaser Tag  and Rock Climbing are available for $6 per person per game during any public skating session. \nThis skating session is for ages 14 and under and 18 and older. Anyone 15\, 16\, or 17 years old must be accompanied by their parent and a younger sibling and the parent must stay in the building. \nPlease Note: As of 10/11/2024\, ALL Adults and Children entering the facility will need to fill out our waiver for the day of their visit. Click Here for Electronic waivers.
URL:https://www.unitedskates.com/rumford/event/saturday-glow-skate-4/2026-01-24/
LOCATION:United Skates Of America  Rumford\, 75 New Road\, Rumford\, RI\, 02916\, United States
CATEGORIES:Family Events,Public Skates,Special Events
ATTACH;FMTTYPE=image/jpeg:https://unitedskates-assets.sfo3.digitaloceanspaces.com/wp-content/uploads/sites/13/2022/05/Glow-Skate-1200x900-1.jpg
END:VEVENT
BEGIN:VEVENT
DTSTART;TZID=America/New_York:20260124T190000
DTEND;TZID=America/New_York:20260124T213000
DTSTAMP:20260425T185505
CREATED:20240830T210725Z
LAST-MODIFIED:20260122T160631Z
UID:24412-1769281200-1769290200@www.unitedskates.com
SUMMARY:Saturday Glow Skate
DESCRIPTION:Join us every Saturday night for our Glow Skate! \nSkating Admission – $14.00 \nNon-skating Admission – $5.00 \nRollerskate Rental – $5.50 \nRollerblade Rental – $6.50 \nLaser Tag and Rock Climbing are available for just $6 per person\, per game. \nThis skating session is for ages 14 and under and 18 and older. Anyone 15\, 16\, or 17 years old must be accompanied by their parent and a younger sibling and the parent must stay in the building. \n 
URL:https://www.unitedskates.com/rumford/event/saturday-glow-skate-5/2026-01-24/
LOCATION:United Skates Of America  Rumford\, 75 New Road\, Rumford\, RI\, 02916\, United States
CATEGORIES:Family Events,Public Skates
ATTACH;FMTTYPE=image/jpeg:https://unitedskates-assets.sfo3.digitaloceanspaces.com/wp-content/uploads/sites/13/2022/05/Glow-Skate-1200x900-1.jpg
END:VEVENT
BEGIN:VEVENT
DTSTART;TZID=America/New_York:20260124T220000
DTEND;TZID=America/New_York:20260125T003000
DTSTAMP:20260425T185505
CREATED:20260124T160343Z
LAST-MODIFIED:20260124T160343Z
UID:25284-1769292000-1769301000@www.unitedskates.com
SUMMARY:Adult Skate Night with DJ Meatball
DESCRIPTION:Join us for a special Adult Skate Night with DJ Meatball and skate to your favorite songs from yesterday to today! \nAdmission is $20 and includes regular skate rentals. Rollerblade rentals are $6.50. You are welcome to bring your own skates/blades. \nLaser tag and rock climbing are available for $6 per a person per a game. \nNo reservations necessary. \nThis event is for ages 18 and older only with valid ID.
URL:https://www.unitedskates.com/rumford/event/adult-skate-night-with-dj-meatball/
LOCATION:United Skates Of America  Rumford\, 75 New Road\, Rumford\, RI\, 02916\, United States
CATEGORIES:Adult Events,Public Skates,Special Events
ATTACH;FMTTYPE=image/jpeg:https://unitedskates-assets.sfo3.digitaloceanspaces.com/wp-content/uploads/sites/13/2025/01/Adult-SKate.jpg
END:VEVENT
END:VCALENDAR