BEGIN:VCALENDAR
VERSION:2.0
PRODID:-//Rink 28 - Rumford - ECPv6.15.20//NONSGML v1.0//EN
CALSCALE:GREGORIAN
METHOD:PUBLISH
X-ORIGINAL-URL:https://www.unitedskates.com/rumford
X-WR-CALDESC:Events for Rink 28 - Rumford
REFRESH-INTERVAL;VALUE=DURATION:PT1H
X-Robots-Tag:noindex
X-PUBLISHED-TTL:PT1H
BEGIN:VTIMEZONE
TZID:America/New_York
BEGIN:DAYLIGHT
TZOFFSETFROM:-0500
TZOFFSETTO:-0400
TZNAME:EDT
DTSTART:20240310T070000
END:DAYLIGHT
BEGIN:STANDARD
TZOFFSETFROM:-0400
TZOFFSETTO:-0500
TZNAME:EST
DTSTART:20241103T060000
END:STANDARD
BEGIN:DAYLIGHT
TZOFFSETFROM:-0500
TZOFFSETTO:-0400
TZNAME:EDT
DTSTART:20250309T070000
END:DAYLIGHT
BEGIN:STANDARD
TZOFFSETFROM:-0400
TZOFFSETTO:-0500
TZNAME:EST
DTSTART:20251102T060000
END:STANDARD
BEGIN:DAYLIGHT
TZOFFSETFROM:-0500
TZOFFSETTO:-0400
TZNAME:EDT
DTSTART:20260308T070000
END:DAYLIGHT
BEGIN:STANDARD
TZOFFSETFROM:-0400
TZOFFSETTO:-0500
TZNAME:EST
DTSTART:20261101T060000
END:STANDARD
BEGIN:DAYLIGHT
TZOFFSETFROM:-0500
TZOFFSETTO:-0400
TZNAME:EDT
DTSTART:20270314T070000
END:DAYLIGHT
BEGIN:STANDARD
TZOFFSETFROM:-0400
TZOFFSETTO:-0500
TZNAME:EST
DTSTART:20271107T060000
END:STANDARD
END:VTIMEZONE
BEGIN:VEVENT
DTSTART;TZID=America/New_York:20251219T173000
DTEND;TZID=America/New_York:20260104T193000
DTSTAMP:20260425T185255
CREATED:20251202T030036Z
LAST-MODIFIED:20251223T143708Z
UID:24041-1766165400-1767555000@www.unitedskates.com
SUMMARY:Winter Break Skate Schedule — School’s Out\, Time to Roll!
DESCRIPTION:School’s out and the fun begins! Join us every day of Winter Break for themed skate sessions\, great music\, family events\, and special holiday celebrations. \nFrom Christmas Eve Skate to New Year’s Eve Parties\, we’ve got something for everyone. \nRoll into the holiday fun!
URL:https://www.unitedskates.com/rumford/event/winter-break-skate-schedule-schools-out-time-to-roll/
LOCATION:RI
CATEGORIES:Family Events,Public Skates,Special Events
ATTACH;FMTTYPE=image/png:https://unitedskates-assets.sfo3.digitaloceanspaces.com/wp-content/uploads/sites/13/2025/12/Updated-Winter-Schedule.png
END:VEVENT
BEGIN:VEVENT
DTSTART;TZID=America/New_York:20260102T100000
DTEND;TZID=America/New_York:20260102T160000
DTSTAMP:20260425T185255
CREATED:20251128T181607Z
LAST-MODIFIED:20251210T212408Z
UID:24023-1767348000-1767369600@www.unitedskates.com
SUMMARY:Glow Skate & Glitter Tattoos
DESCRIPTION:The kids are out of school and we are open for tons of family fun! Come skating and enjoy our world famous glow skate throughout the session\, laser tag\, rock climbing\, games\, and more! Our Glitter Tattoo Station will be open for only $2 per person. \nSkating Admission – $13 \nNon-skating Admission – $5 \nRollerskate Rental – $5.50 \nRollerblade Rental – $6.50 \nSkate Mate Rental – $7 \nYou are welcome to bring your own skates or rollerblades. \nLaser Tag and Rock Climbing are available for $6 per person per game. \nKids birthdays are available during this session! For more info visit https://unitedskatesri.com/parties/kids-birthday-parties/ or call us at 401-438-9898. \nPlease note that all sessions are for ages 14 and under\, and 18 or older. Anyone 15-17 must be accompanied by a parent and younger sibling.
URL:https://www.unitedskates.com/rumford/event/glow-skate-glitter-tattoos/
LOCATION:United Skates Of America  Rumford\, 75 New Road\, Rumford\, RI\, 02916\, United States
CATEGORIES:Family Events,Public Skates,Special Events
ATTACH;FMTTYPE=image/jpeg:https://unitedskates-assets.sfo3.digitaloceanspaces.com/wp-content/uploads/sites/13/2022/05/Glow-Skate-1200x900-1.jpg
END:VEVENT
BEGIN:VEVENT
DTSTART;TZID=America/New_York:20260102T163000
DTEND;TZID=America/New_York:20260102T190000
DTSTAMP:20260425T185255
CREATED:20251202T164753Z
LAST-MODIFIED:20260105T163851Z
UID:24141-1767371400-1767380400@www.unitedskates.com
SUMMARY:All You Can Eat Pizza Skate Night
DESCRIPTION:Do your kids love laser tag? Join us this Friday night for tons of family fun and unlimited laser tag in our Laser Storm Arena for only $8 per person! Plus\, Friday nights include all you can eat cheese pizza with admission!\n\nSkating Admission – $14.50\nNon-Skating Admission – $5\nRollerskate Rental – $5.50\nRollerblade Rental – $6.50 \nUnlimited Laser Tag is only $8 per person!Rock climbing is available for $6 per ticket per person. \nSchedule your birthday party during this session and receive all you can eat cheese pizza for the kids in the party! Learn more about our birthday parties by Clicking Here! \nThis skating session is for ages 14 and under and 18 and older. Anyone 15\, 16\, or 17 years old must be accompanied by their parent and a younger sibling and the parent must stay in the building. \nAll adults (18+) who will be skating need to fill out our waiver. Click Here for Electronic waivers.
URL:https://www.unitedskates.com/rumford/event/all-you-can-eat-pizza-skate-night-6/2026-01-02/
LOCATION:United Skates Of America  Rumford\, 75 New Road\, Rumford\, RI\, 02916\, United States
CATEGORIES:Family Events,Public Skates,Special Events
ATTACH;FMTTYPE=image/jpeg:https://unitedskates-assets.sfo3.digitaloceanspaces.com/wp-content/uploads/sites/13/2022/06/Friday-Night-Pizza-skate-1200x900-1.jpg
END:VEVENT
BEGIN:VEVENT
DTSTART;TZID=America/New_York:20260102T193000
DTEND;TZID=America/New_York:20260102T220000
DTSTAMP:20260425T185255
CREATED:20251202T164753Z
LAST-MODIFIED:20260105T163851Z
UID:24142-1767382200-1767391200@www.unitedskates.com
SUMMARY:All You Can Eat Pizza Skate Night
DESCRIPTION:Do your kids love laser tag? Join us this Friday night for tons of family fun and unlimited laser tag in our Laser Storm Arena for only $8 per person! Plus\, Friday nights include all you can eat cheese pizza with admission!\n\nSkating Admission – $14.50\nNon-Skating Admission – $5\nRollerskate Rental – $5.50\nRollerblade Rental – $6.50 \nUnlimited Laser Tag is only $8 per person!Rock climbing is available for $6 per ticket per person. \nSchedule your birthday party during this session and receive all you can eat cheese pizza for the kids in the party! Learn more about our birthday parties by Clicking Here! \nThis skating session is for ages 14 and under and 18 and older. Anyone 15\, 16\, or 17 years old must be accompanied by their parent and a younger sibling and the parent must stay in the building. \nAll adults (18+) who will be skating need to fill out our waiver. Click Here for Electronic waivers.
URL:https://www.unitedskates.com/rumford/event/all-you-can-eat-pizza-skate-night-6/2026-01-02/3/
LOCATION:United Skates Of America  Rumford\, 75 New Road\, Rumford\, RI\, 02916\, United States
CATEGORIES:Family Events,Public Skates,Special Events
ATTACH;FMTTYPE=image/jpeg:https://unitedskates-assets.sfo3.digitaloceanspaces.com/wp-content/uploads/sites/13/2022/06/Friday-Night-Pizza-skate-1200x900-1.jpg
END:VEVENT
BEGIN:VEVENT
DTSTART;TZID=America/New_York:20260102T223000
DTEND;TZID=America/New_York:20260103T010000
DTSTAMP:20260425T185255
CREATED:20251231T155155Z
LAST-MODIFIED:20251231T155155Z
UID:24595-1767393000-1767402000@www.unitedskates.com
SUMMARY:90's R&B Adult Skate Night
DESCRIPTION:Join us for our Adult Skate Night for ages 18 and up only! Grab your friends and skate to your favorite 90’s R&B music. DJ Junior Jay will be taking your requests all night long. \nAdmission is $20 and includes regular skate rentals. \nRollerblade rentals are $6.50. \nYou are welcome to bring your own skates/blades. \nLaser tag and rock climbing are available for $6 per a person per a game.
URL:https://www.unitedskates.com/rumford/event/90s-rb-adult-skate-night-7/
LOCATION:United Skates Of America  Rumford\, 75 New Road\, Rumford\, RI\, 02916\, United States
CATEGORIES:Adult Events,Public Skates,Special Events
ATTACH;FMTTYPE=image/jpeg:https://unitedskates-assets.sfo3.digitaloceanspaces.com/wp-content/uploads/sites/13/2023/06/317477081_6404126766270622_6932458880565983295_n-1-1.jpg
END:VEVENT
END:VCALENDAR