BEGIN:VCALENDAR
VERSION:2.0
PRODID:-//Rink 28 - Rumford - ECPv6.15.20//NONSGML v1.0//EN
CALSCALE:GREGORIAN
METHOD:PUBLISH
X-WR-CALNAME:Rink 28 - Rumford
X-ORIGINAL-URL:https://www.unitedskates.com/rumford
X-WR-CALDESC:Events for Rink 28 - Rumford
REFRESH-INTERVAL;VALUE=DURATION:PT1H
X-Robots-Tag:noindex
X-PUBLISHED-TTL:PT1H
BEGIN:VTIMEZONE
TZID:America/New_York
BEGIN:DAYLIGHT
TZOFFSETFROM:-0500
TZOFFSETTO:-0400
TZNAME:EDT
DTSTART:20240310T070000
END:DAYLIGHT
BEGIN:STANDARD
TZOFFSETFROM:-0400
TZOFFSETTO:-0500
TZNAME:EST
DTSTART:20241103T060000
END:STANDARD
BEGIN:DAYLIGHT
TZOFFSETFROM:-0500
TZOFFSETTO:-0400
TZNAME:EDT
DTSTART:20250309T070000
END:DAYLIGHT
BEGIN:STANDARD
TZOFFSETFROM:-0400
TZOFFSETTO:-0500
TZNAME:EST
DTSTART:20251102T060000
END:STANDARD
BEGIN:DAYLIGHT
TZOFFSETFROM:-0500
TZOFFSETTO:-0400
TZNAME:EDT
DTSTART:20260308T070000
END:DAYLIGHT
BEGIN:STANDARD
TZOFFSETFROM:-0400
TZOFFSETTO:-0500
TZNAME:EST
DTSTART:20261101T060000
END:STANDARD
BEGIN:DAYLIGHT
TZOFFSETFROM:-0500
TZOFFSETTO:-0400
TZNAME:EDT
DTSTART:20270314T070000
END:DAYLIGHT
BEGIN:STANDARD
TZOFFSETFROM:-0400
TZOFFSETTO:-0500
TZNAME:EST
DTSTART:20271107T060000
END:STANDARD
END:VTIMEZONE
BEGIN:VEVENT
DTSTART;TZID=America/New_York:20251219T173000
DTEND;TZID=America/New_York:20260104T193000
DTSTAMP:20260425T201322
CREATED:20251202T030036Z
LAST-MODIFIED:20251223T143708Z
UID:24041-1766165400-1767555000@www.unitedskates.com
SUMMARY:Winter Break Skate Schedule — School’s Out\, Time to Roll!
DESCRIPTION:School’s out and the fun begins! Join us every day of Winter Break for themed skate sessions\, great music\, family events\, and special holiday celebrations. \nFrom Christmas Eve Skate to New Year’s Eve Parties\, we’ve got something for everyone. \nRoll into the holiday fun!
URL:https://www.unitedskates.com/rumford/event/winter-break-skate-schedule-schools-out-time-to-roll/
LOCATION:RI
CATEGORIES:Family Events,Public Skates,Special Events
ATTACH;FMTTYPE=image/png:https://unitedskates-assets.sfo3.digitaloceanspaces.com/wp-content/uploads/sites/13/2025/12/Updated-Winter-Schedule.png
END:VEVENT
BEGIN:VEVENT
DTSTART;TZID=America/New_York:20251230T100000
DTEND;TZID=America/New_York:20251230T150000
DTSTAMP:20260425T201322
CREATED:20251230T142850Z
LAST-MODIFIED:20251230T142850Z
UID:24592-1767088800-1767106800@www.unitedskates.com
SUMMARY:Spongebob's Bikini Bottom Glow Bash
DESCRIPTION:Spongebob & Patrick are throwing a Bikini Bottom Glow Bash! Come skating and meet Spongebob & Patrick during our Glow Skate\, answer Spongebob trivia for prizes\, compete in Spongebob’s scavenger hunt\, enjoy Spongebob’s Dance Party\, and more! \nSkating Admission – $13 \nNon-skating Admission – $5 \nRollerskate & Trainer Skate Rental – $5.50 \nRollerblade Rental – $6.50 \nSkate Mate Rental – $7 \nYou are welcome to bring your own skates or rollerblades. \nLaser Storm and Rock Climbing are also available for only $6 each. \n \n  \nPlease note that all sessions are for ages 14 and under and 18 or older. Anyone 15-17 must be accompanied by a parent and younger sibling.
URL:https://www.unitedskates.com/rumford/event/spongebobs-bikini-bottom-glow-bash/
LOCATION:United Skates Of America  Rumford\, 75 New Road\, Rumford\, RI\, 02916\, United States
CATEGORIES:Family Events,Public Skates,Special Events
ATTACH;FMTTYPE=image/jpeg:https://unitedskates-assets.sfo3.digitaloceanspaces.com/wp-content/uploads/sites/13/2025/12/Spongebob-glow-bash.jpg
END:VEVENT
BEGIN:VEVENT
DTSTART;TZID=America/New_York:20251230T153000
DTEND;TZID=America/New_York:20251230T180000
DTSTAMP:20260425T201322
CREATED:20251202T171039Z
LAST-MODIFIED:20251204T205235Z
UID:24148-1767108600-1767117600@www.unitedskates.com
SUMMARY:Public Skate
DESCRIPTION:Skating Admission – $13.00\nNon-skating Admission – $5\nRollerskate Rental – $5.50\nRollerblade Rental – $6.50 \nLaser Tag and Rock Climbing are available for $6 per person\, per game \nThis skating session is for ages 14 and under and 18 and older. Anyone 15\, 16\, or 17 years old must be accompanied by their parent and a younger sibling and the parent must stay in the building. \nAll adults (18+) who will be skating need to fill out our waiver. Click Here for Electronic waivers. \nAll skating adults are required to wear wristguards. Feel free to stop by our skate counter to borrow a pair during your session!
URL:https://www.unitedskates.com/rumford/event/public-skate-23/2025-12-30/
LOCATION:United Skates Of America  Rumford\, 75 New Road\, Rumford\, RI\, 02916\, United States
CATEGORIES:Family Events,Public Skates,Special Events
ATTACH;FMTTYPE=image/jpeg:https://unitedskates-assets.sfo3.digitaloceanspaces.com/wp-content/uploads/sites/13/2022/06/Public-Skate-1200x900-1.jpg
END:VEVENT
END:VCALENDAR