BEGIN:VCALENDAR
VERSION:2.0
PRODID:-//Rink 28 - Rumford - ECPv6.15.20//NONSGML v1.0//EN
CALSCALE:GREGORIAN
METHOD:PUBLISH
X-WR-CALNAME:Rink 28 - Rumford
X-ORIGINAL-URL:https://www.unitedskates.com/rumford
X-WR-CALDESC:Events for Rink 28 - Rumford
REFRESH-INTERVAL;VALUE=DURATION:PT1H
X-Robots-Tag:noindex
X-PUBLISHED-TTL:PT1H
BEGIN:VTIMEZONE
TZID:America/New_York
BEGIN:DAYLIGHT
TZOFFSETFROM:-0500
TZOFFSETTO:-0400
TZNAME:EDT
DTSTART:20250309T070000
END:DAYLIGHT
BEGIN:STANDARD
TZOFFSETFROM:-0400
TZOFFSETTO:-0500
TZNAME:EST
DTSTART:20251102T060000
END:STANDARD
BEGIN:DAYLIGHT
TZOFFSETFROM:-0500
TZOFFSETTO:-0400
TZNAME:EDT
DTSTART:20260308T070000
END:DAYLIGHT
BEGIN:STANDARD
TZOFFSETFROM:-0400
TZOFFSETTO:-0500
TZNAME:EST
DTSTART:20261101T060000
END:STANDARD
BEGIN:DAYLIGHT
TZOFFSETFROM:-0500
TZOFFSETTO:-0400
TZNAME:EDT
DTSTART:20270314T070000
END:DAYLIGHT
BEGIN:STANDARD
TZOFFSETFROM:-0400
TZOFFSETTO:-0500
TZNAME:EST
DTSTART:20271107T060000
END:STANDARD
END:VTIMEZONE
BEGIN:VEVENT
DTSTART;TZID=America/New_York:20260425T130000
DTEND;TZID=America/New_York:20260425T153000
DTSTAMP:20260422T112252
CREATED:20250822T153703Z
LAST-MODIFIED:20260110T193315Z
UID:23117-1777122000-1777131000@www.unitedskates.com
SUMMARY:Open Skate
DESCRIPTION:Skating Admission – $13.50\nNon-skating Admission – $5\nRollerskate Rental – $5.50\nRollerblade Rental – $6.50 \nLaser Tag and Rock Climbing are available for $6 per person\, per game \nThis skating session is for ages 14 and under and 18 and older. Anyone 15\, 16\, or 17 years old must be accompanied by their parent and a younger sibling and the parent must stay in the building. \nAll adults (18+) who will be skating need to fill out our waiver. Click Here for Electronic waivers. \nAll skating adults are required to wear wristguards. Feel free to stop by our skate counter to borrow a pair during your session!
URL:https://www.unitedskates.com/rumford/event/open-skate-19/2026-04-25/
LOCATION:United Skates Of America  Rumford\, 75 New Road\, Rumford\, RI\, 02916\, United States
CATEGORIES:Family Events,Public Skates,Special Events
ATTACH;FMTTYPE=image/jpeg:https://unitedskates-assets.sfo3.digitaloceanspaces.com/wp-content/uploads/sites/13/2022/06/Public-Skate-1200x900-1.jpg
END:VEVENT
BEGIN:VEVENT
DTSTART;TZID=America/New_York:20260502T130000
DTEND;TZID=America/New_York:20260502T153000
DTSTAMP:20260422T112252
CREATED:20250822T153703Z
LAST-MODIFIED:20260110T193315Z
UID:23118-1777726800-1777735800@www.unitedskates.com
SUMMARY:Open Skate
DESCRIPTION:Skating Admission – $13.50\nNon-skating Admission – $5\nRollerskate Rental – $5.50\nRollerblade Rental – $6.50 \nLaser Tag and Rock Climbing are available for $6 per person\, per game \nThis skating session is for ages 14 and under and 18 and older. Anyone 15\, 16\, or 17 years old must be accompanied by their parent and a younger sibling and the parent must stay in the building. \nAll adults (18+) who will be skating need to fill out our waiver. Click Here for Electronic waivers. \nAll skating adults are required to wear wristguards. Feel free to stop by our skate counter to borrow a pair during your session!
URL:https://www.unitedskates.com/rumford/event/open-skate-19/2026-05-02/
LOCATION:United Skates Of America  Rumford\, 75 New Road\, Rumford\, RI\, 02916\, United States
CATEGORIES:Family Events,Public Skates,Special Events
ATTACH;FMTTYPE=image/jpeg:https://unitedskates-assets.sfo3.digitaloceanspaces.com/wp-content/uploads/sites/13/2022/06/Public-Skate-1200x900-1.jpg
END:VEVENT
BEGIN:VEVENT
DTSTART;TZID=America/New_York:20260509T130000
DTEND;TZID=America/New_York:20260509T153000
DTSTAMP:20260422T112252
CREATED:20250822T153703Z
LAST-MODIFIED:20260110T193315Z
UID:23119-1778331600-1778340600@www.unitedskates.com
SUMMARY:Open Skate
DESCRIPTION:Skating Admission – $13.50\nNon-skating Admission – $5\nRollerskate Rental – $5.50\nRollerblade Rental – $6.50 \nLaser Tag and Rock Climbing are available for $6 per person\, per game \nThis skating session is for ages 14 and under and 18 and older. Anyone 15\, 16\, or 17 years old must be accompanied by their parent and a younger sibling and the parent must stay in the building. \nAll adults (18+) who will be skating need to fill out our waiver. Click Here for Electronic waivers. \nAll skating adults are required to wear wristguards. Feel free to stop by our skate counter to borrow a pair during your session!
URL:https://www.unitedskates.com/rumford/event/open-skate-19/2026-05-09/
LOCATION:United Skates Of America  Rumford\, 75 New Road\, Rumford\, RI\, 02916\, United States
CATEGORIES:Family Events,Public Skates,Special Events
ATTACH;FMTTYPE=image/jpeg:https://unitedskates-assets.sfo3.digitaloceanspaces.com/wp-content/uploads/sites/13/2022/06/Public-Skate-1200x900-1.jpg
END:VEVENT
BEGIN:VEVENT
DTSTART;TZID=America/New_York:20260516T130000
DTEND;TZID=America/New_York:20260516T153000
DTSTAMP:20260422T112252
CREATED:20250822T153703Z
LAST-MODIFIED:20260110T193316Z
UID:23120-1778936400-1778945400@www.unitedskates.com
SUMMARY:Open Skate
DESCRIPTION:Skating Admission – $13.50\nNon-skating Admission – $5\nRollerskate Rental – $5.50\nRollerblade Rental – $6.50 \nLaser Tag and Rock Climbing are available for $6 per person\, per game \nThis skating session is for ages 14 and under and 18 and older. Anyone 15\, 16\, or 17 years old must be accompanied by their parent and a younger sibling and the parent must stay in the building. \nAll adults (18+) who will be skating need to fill out our waiver. Click Here for Electronic waivers. \nAll skating adults are required to wear wristguards. Feel free to stop by our skate counter to borrow a pair during your session!
URL:https://www.unitedskates.com/rumford/event/open-skate-19/2026-05-16/
LOCATION:United Skates Of America  Rumford\, 75 New Road\, Rumford\, RI\, 02916\, United States
CATEGORIES:Family Events,Public Skates,Special Events
ATTACH;FMTTYPE=image/jpeg:https://unitedskates-assets.sfo3.digitaloceanspaces.com/wp-content/uploads/sites/13/2022/06/Public-Skate-1200x900-1.jpg
END:VEVENT
BEGIN:VEVENT
DTSTART;TZID=America/New_York:20260523T130000
DTEND;TZID=America/New_York:20260523T153000
DTSTAMP:20260422T112252
CREATED:20250822T153703Z
LAST-MODIFIED:20260110T193316Z
UID:23121-1779541200-1779550200@www.unitedskates.com
SUMMARY:Open Skate
DESCRIPTION:Skating Admission – $13.50\nNon-skating Admission – $5\nRollerskate Rental – $5.50\nRollerblade Rental – $6.50 \nLaser Tag and Rock Climbing are available for $6 per person\, per game \nThis skating session is for ages 14 and under and 18 and older. Anyone 15\, 16\, or 17 years old must be accompanied by their parent and a younger sibling and the parent must stay in the building. \nAll adults (18+) who will be skating need to fill out our waiver. Click Here for Electronic waivers. \nAll skating adults are required to wear wristguards. Feel free to stop by our skate counter to borrow a pair during your session!
URL:https://www.unitedskates.com/rumford/event/open-skate-19/2026-05-23/
LOCATION:United Skates Of America  Rumford\, 75 New Road\, Rumford\, RI\, 02916\, United States
CATEGORIES:Family Events,Public Skates,Special Events
ATTACH;FMTTYPE=image/jpeg:https://unitedskates-assets.sfo3.digitaloceanspaces.com/wp-content/uploads/sites/13/2022/06/Public-Skate-1200x900-1.jpg
END:VEVENT
BEGIN:VEVENT
DTSTART;TZID=America/New_York:20260530T130000
DTEND;TZID=America/New_York:20260530T153000
DTSTAMP:20260422T112252
CREATED:20250822T153703Z
LAST-MODIFIED:20260110T193316Z
UID:23122-1780146000-1780155000@www.unitedskates.com
SUMMARY:Open Skate
DESCRIPTION:Skating Admission – $13.50\nNon-skating Admission – $5\nRollerskate Rental – $5.50\nRollerblade Rental – $6.50 \nLaser Tag and Rock Climbing are available for $6 per person\, per game \nThis skating session is for ages 14 and under and 18 and older. Anyone 15\, 16\, or 17 years old must be accompanied by their parent and a younger sibling and the parent must stay in the building. \nAll adults (18+) who will be skating need to fill out our waiver. Click Here for Electronic waivers. \nAll skating adults are required to wear wristguards. Feel free to stop by our skate counter to borrow a pair during your session!
URL:https://www.unitedskates.com/rumford/event/open-skate-19/2026-05-30/
LOCATION:United Skates Of America  Rumford\, 75 New Road\, Rumford\, RI\, 02916\, United States
CATEGORIES:Family Events,Public Skates,Special Events
ATTACH;FMTTYPE=image/jpeg:https://unitedskates-assets.sfo3.digitaloceanspaces.com/wp-content/uploads/sites/13/2022/06/Public-Skate-1200x900-1.jpg
END:VEVENT
BEGIN:VEVENT
DTSTART;TZID=America/New_York:20260606T130000
DTEND;TZID=America/New_York:20260606T153000
DTSTAMP:20260422T112252
CREATED:20250822T153703Z
LAST-MODIFIED:20260110T193317Z
UID:23123-1780750800-1780759800@www.unitedskates.com
SUMMARY:Open Skate
DESCRIPTION:Skating Admission – $13.50\nNon-skating Admission – $5\nRollerskate Rental – $5.50\nRollerblade Rental – $6.50 \nLaser Tag and Rock Climbing are available for $6 per person\, per game \nThis skating session is for ages 14 and under and 18 and older. Anyone 15\, 16\, or 17 years old must be accompanied by their parent and a younger sibling and the parent must stay in the building. \nAll adults (18+) who will be skating need to fill out our waiver. Click Here for Electronic waivers. \nAll skating adults are required to wear wristguards. Feel free to stop by our skate counter to borrow a pair during your session!
URL:https://www.unitedskates.com/rumford/event/open-skate-19/2026-06-06/
LOCATION:United Skates Of America  Rumford\, 75 New Road\, Rumford\, RI\, 02916\, United States
CATEGORIES:Family Events,Public Skates,Special Events
ATTACH;FMTTYPE=image/jpeg:https://unitedskates-assets.sfo3.digitaloceanspaces.com/wp-content/uploads/sites/13/2022/06/Public-Skate-1200x900-1.jpg
END:VEVENT
BEGIN:VEVENT
DTSTART;TZID=America/New_York:20260613T130000
DTEND;TZID=America/New_York:20260613T153000
DTSTAMP:20260422T112252
CREATED:20250822T153703Z
LAST-MODIFIED:20260110T193317Z
UID:23124-1781355600-1781364600@www.unitedskates.com
SUMMARY:Open Skate
DESCRIPTION:Skating Admission – $13.50\nNon-skating Admission – $5\nRollerskate Rental – $5.50\nRollerblade Rental – $6.50 \nLaser Tag and Rock Climbing are available for $6 per person\, per game \nThis skating session is for ages 14 and under and 18 and older. Anyone 15\, 16\, or 17 years old must be accompanied by their parent and a younger sibling and the parent must stay in the building. \nAll adults (18+) who will be skating need to fill out our waiver. Click Here for Electronic waivers. \nAll skating adults are required to wear wristguards. Feel free to stop by our skate counter to borrow a pair during your session!
URL:https://www.unitedskates.com/rumford/event/open-skate-19/2026-06-13/
LOCATION:United Skates Of America  Rumford\, 75 New Road\, Rumford\, RI\, 02916\, United States
CATEGORIES:Family Events,Public Skates,Special Events
ATTACH;FMTTYPE=image/jpeg:https://unitedskates-assets.sfo3.digitaloceanspaces.com/wp-content/uploads/sites/13/2022/06/Public-Skate-1200x900-1.jpg
END:VEVENT
BEGIN:VEVENT
DTSTART;TZID=America/New_York:20260620T130000
DTEND;TZID=America/New_York:20260620T153000
DTSTAMP:20260422T112252
CREATED:20250822T153703Z
LAST-MODIFIED:20260110T193318Z
UID:23125-1781960400-1781969400@www.unitedskates.com
SUMMARY:Open Skate
DESCRIPTION:Skating Admission – $13.50\nNon-skating Admission – $5\nRollerskate Rental – $5.50\nRollerblade Rental – $6.50 \nLaser Tag and Rock Climbing are available for $6 per person\, per game \nThis skating session is for ages 14 and under and 18 and older. Anyone 15\, 16\, or 17 years old must be accompanied by their parent and a younger sibling and the parent must stay in the building. \nAll adults (18+) who will be skating need to fill out our waiver. Click Here for Electronic waivers. \nAll skating adults are required to wear wristguards. Feel free to stop by our skate counter to borrow a pair during your session!
URL:https://www.unitedskates.com/rumford/event/open-skate-19/2026-06-20/
LOCATION:United Skates Of America  Rumford\, 75 New Road\, Rumford\, RI\, 02916\, United States
CATEGORIES:Family Events,Public Skates,Special Events
ATTACH;FMTTYPE=image/jpeg:https://unitedskates-assets.sfo3.digitaloceanspaces.com/wp-content/uploads/sites/13/2022/06/Public-Skate-1200x900-1.jpg
END:VEVENT
BEGIN:VEVENT
DTSTART;TZID=America/New_York:20260627T130000
DTEND;TZID=America/New_York:20260627T153000
DTSTAMP:20260422T112252
CREATED:20250822T153703Z
LAST-MODIFIED:20250822T153703Z
UID:24704-1782565200-1782574200@www.unitedskates.com
SUMMARY:Open Skate
DESCRIPTION:Skating Admission – $13.50\nNon-skating Admission – $5\nRollerskate Rental – $5.50\nRollerblade Rental – $6.50 \nLaser Tag and Rock Climbing are available for $6 per person\, per game \nThis skating session is for ages 14 and under and 18 and older. Anyone 15\, 16\, or 17 years old must be accompanied by their parent and a younger sibling and the parent must stay in the building. \nAll adults (18+) who will be skating need to fill out our waiver. Click Here for Electronic waivers. \nAll skating adults are required to wear wristguards. Feel free to stop by our skate counter to borrow a pair during your session!
URL:https://www.unitedskates.com/rumford/event/open-skate-19/2026-06-27/
LOCATION:United Skates Of America  Rumford\, 75 New Road\, Rumford\, RI\, 02916\, United States
CATEGORIES:Family Events,Public Skates,Special Events
ATTACH;FMTTYPE=image/jpeg:https://unitedskates-assets.sfo3.digitaloceanspaces.com/wp-content/uploads/sites/13/2022/06/Public-Skate-1200x900-1.jpg
END:VEVENT
BEGIN:VEVENT
DTSTART;TZID=America/New_York:20260704T130000
DTEND;TZID=America/New_York:20260704T153000
DTSTAMP:20260422T112252
CREATED:20250822T153703Z
LAST-MODIFIED:20250822T153703Z
UID:24705-1783170000-1783179000@www.unitedskates.com
SUMMARY:Open Skate
DESCRIPTION:Skating Admission – $13.50\nNon-skating Admission – $5\nRollerskate Rental – $5.50\nRollerblade Rental – $6.50 \nLaser Tag and Rock Climbing are available for $6 per person\, per game \nThis skating session is for ages 14 and under and 18 and older. Anyone 15\, 16\, or 17 years old must be accompanied by their parent and a younger sibling and the parent must stay in the building. \nAll adults (18+) who will be skating need to fill out our waiver. Click Here for Electronic waivers. \nAll skating adults are required to wear wristguards. Feel free to stop by our skate counter to borrow a pair during your session!
URL:https://www.unitedskates.com/rumford/event/open-skate-19/2026-07-04/
LOCATION:United Skates Of America  Rumford\, 75 New Road\, Rumford\, RI\, 02916\, United States
CATEGORIES:Family Events,Public Skates,Special Events
ATTACH;FMTTYPE=image/jpeg:https://unitedskates-assets.sfo3.digitaloceanspaces.com/wp-content/uploads/sites/13/2022/06/Public-Skate-1200x900-1.jpg
END:VEVENT
BEGIN:VEVENT
DTSTART;TZID=America/New_York:20260711T130000
DTEND;TZID=America/New_York:20260711T153000
DTSTAMP:20260422T112252
CREATED:20250822T153703Z
LAST-MODIFIED:20250822T153703Z
UID:24706-1783774800-1783783800@www.unitedskates.com
SUMMARY:Open Skate
DESCRIPTION:Skating Admission – $13.50\nNon-skating Admission – $5\nRollerskate Rental – $5.50\nRollerblade Rental – $6.50 \nLaser Tag and Rock Climbing are available for $6 per person\, per game \nThis skating session is for ages 14 and under and 18 and older. Anyone 15\, 16\, or 17 years old must be accompanied by their parent and a younger sibling and the parent must stay in the building. \nAll adults (18+) who will be skating need to fill out our waiver. Click Here for Electronic waivers. \nAll skating adults are required to wear wristguards. Feel free to stop by our skate counter to borrow a pair during your session!
URL:https://www.unitedskates.com/rumford/event/open-skate-19/2026-07-11/
LOCATION:United Skates Of America  Rumford\, 75 New Road\, Rumford\, RI\, 02916\, United States
CATEGORIES:Family Events,Public Skates,Special Events
ATTACH;FMTTYPE=image/jpeg:https://unitedskates-assets.sfo3.digitaloceanspaces.com/wp-content/uploads/sites/13/2022/06/Public-Skate-1200x900-1.jpg
END:VEVENT
BEGIN:VEVENT
DTSTART;TZID=America/New_York:20260718T130000
DTEND;TZID=America/New_York:20260718T153000
DTSTAMP:20260422T112252
CREATED:20250822T153703Z
LAST-MODIFIED:20250822T153703Z
UID:24707-1784379600-1784388600@www.unitedskates.com
SUMMARY:Open Skate
DESCRIPTION:Skating Admission – $13.50\nNon-skating Admission – $5\nRollerskate Rental – $5.50\nRollerblade Rental – $6.50 \nLaser Tag and Rock Climbing are available for $6 per person\, per game \nThis skating session is for ages 14 and under and 18 and older. Anyone 15\, 16\, or 17 years old must be accompanied by their parent and a younger sibling and the parent must stay in the building. \nAll adults (18+) who will be skating need to fill out our waiver. Click Here for Electronic waivers. \nAll skating adults are required to wear wristguards. Feel free to stop by our skate counter to borrow a pair during your session!
URL:https://www.unitedskates.com/rumford/event/open-skate-19/2026-07-18/
LOCATION:United Skates Of America  Rumford\, 75 New Road\, Rumford\, RI\, 02916\, United States
CATEGORIES:Family Events,Public Skates,Special Events
ATTACH;FMTTYPE=image/jpeg:https://unitedskates-assets.sfo3.digitaloceanspaces.com/wp-content/uploads/sites/13/2022/06/Public-Skate-1200x900-1.jpg
END:VEVENT
BEGIN:VEVENT
DTSTART;TZID=America/New_York:20260725T130000
DTEND;TZID=America/New_York:20260725T153000
DTSTAMP:20260422T112252
CREATED:20250822T153703Z
LAST-MODIFIED:20250822T153703Z
UID:24708-1784984400-1784993400@www.unitedskates.com
SUMMARY:Open Skate
DESCRIPTION:Skating Admission – $13.50\nNon-skating Admission – $5\nRollerskate Rental – $5.50\nRollerblade Rental – $6.50 \nLaser Tag and Rock Climbing are available for $6 per person\, per game \nThis skating session is for ages 14 and under and 18 and older. Anyone 15\, 16\, or 17 years old must be accompanied by their parent and a younger sibling and the parent must stay in the building. \nAll adults (18+) who will be skating need to fill out our waiver. Click Here for Electronic waivers. \nAll skating adults are required to wear wristguards. Feel free to stop by our skate counter to borrow a pair during your session!
URL:https://www.unitedskates.com/rumford/event/open-skate-19/2026-07-25/
LOCATION:United Skates Of America  Rumford\, 75 New Road\, Rumford\, RI\, 02916\, United States
CATEGORIES:Family Events,Public Skates,Special Events
ATTACH;FMTTYPE=image/jpeg:https://unitedskates-assets.sfo3.digitaloceanspaces.com/wp-content/uploads/sites/13/2022/06/Public-Skate-1200x900-1.jpg
END:VEVENT
BEGIN:VEVENT
DTSTART;TZID=America/New_York:20260801T130000
DTEND;TZID=America/New_York:20260801T153000
DTSTAMP:20260422T112252
CREATED:20250822T153703Z
LAST-MODIFIED:20250822T153703Z
UID:24709-1785589200-1785598200@www.unitedskates.com
SUMMARY:Open Skate
DESCRIPTION:Skating Admission – $13.50\nNon-skating Admission – $5\nRollerskate Rental – $5.50\nRollerblade Rental – $6.50 \nLaser Tag and Rock Climbing are available for $6 per person\, per game \nThis skating session is for ages 14 and under and 18 and older. Anyone 15\, 16\, or 17 years old must be accompanied by their parent and a younger sibling and the parent must stay in the building. \nAll adults (18+) who will be skating need to fill out our waiver. Click Here for Electronic waivers. \nAll skating adults are required to wear wristguards. Feel free to stop by our skate counter to borrow a pair during your session!
URL:https://www.unitedskates.com/rumford/event/open-skate-19/2026-08-01/
LOCATION:United Skates Of America  Rumford\, 75 New Road\, Rumford\, RI\, 02916\, United States
CATEGORIES:Family Events,Public Skates,Special Events
ATTACH;FMTTYPE=image/jpeg:https://unitedskates-assets.sfo3.digitaloceanspaces.com/wp-content/uploads/sites/13/2022/06/Public-Skate-1200x900-1.jpg
END:VEVENT
BEGIN:VEVENT
DTSTART;TZID=America/New_York:20260808T130000
DTEND;TZID=America/New_York:20260808T153000
DTSTAMP:20260422T112252
CREATED:20250822T153703Z
LAST-MODIFIED:20250822T153703Z
UID:24710-1786194000-1786203000@www.unitedskates.com
SUMMARY:Open Skate
DESCRIPTION:Skating Admission – $13.50\nNon-skating Admission – $5\nRollerskate Rental – $5.50\nRollerblade Rental – $6.50 \nLaser Tag and Rock Climbing are available for $6 per person\, per game \nThis skating session is for ages 14 and under and 18 and older. Anyone 15\, 16\, or 17 years old must be accompanied by their parent and a younger sibling and the parent must stay in the building. \nAll adults (18+) who will be skating need to fill out our waiver. Click Here for Electronic waivers. \nAll skating adults are required to wear wristguards. Feel free to stop by our skate counter to borrow a pair during your session!
URL:https://www.unitedskates.com/rumford/event/open-skate-19/2026-08-08/
LOCATION:United Skates Of America  Rumford\, 75 New Road\, Rumford\, RI\, 02916\, United States
CATEGORIES:Family Events,Public Skates,Special Events
ATTACH;FMTTYPE=image/jpeg:https://unitedskates-assets.sfo3.digitaloceanspaces.com/wp-content/uploads/sites/13/2022/06/Public-Skate-1200x900-1.jpg
END:VEVENT
BEGIN:VEVENT
DTSTART;TZID=America/New_York:20260815T130000
DTEND;TZID=America/New_York:20260815T153000
DTSTAMP:20260422T112252
CREATED:20250822T153703Z
LAST-MODIFIED:20250822T153703Z
UID:24712-1786798800-1786807800@www.unitedskates.com
SUMMARY:Open Skate
DESCRIPTION:Skating Admission – $13.50\nNon-skating Admission – $5\nRollerskate Rental – $5.50\nRollerblade Rental – $6.50 \nLaser Tag and Rock Climbing are available for $6 per person\, per game \nThis skating session is for ages 14 and under and 18 and older. Anyone 15\, 16\, or 17 years old must be accompanied by their parent and a younger sibling and the parent must stay in the building. \nAll adults (18+) who will be skating need to fill out our waiver. Click Here for Electronic waivers. \nAll skating adults are required to wear wristguards. Feel free to stop by our skate counter to borrow a pair during your session!
URL:https://www.unitedskates.com/rumford/event/open-skate-19/2026-08-15/
LOCATION:United Skates Of America  Rumford\, 75 New Road\, Rumford\, RI\, 02916\, United States
CATEGORIES:Family Events,Public Skates,Special Events
ATTACH;FMTTYPE=image/jpeg:https://unitedskates-assets.sfo3.digitaloceanspaces.com/wp-content/uploads/sites/13/2022/06/Public-Skate-1200x900-1.jpg
END:VEVENT
BEGIN:VEVENT
DTSTART;TZID=America/New_York:20260822T130000
DTEND;TZID=America/New_York:20260822T153000
DTSTAMP:20260422T112252
CREATED:20250822T153703Z
LAST-MODIFIED:20250822T153703Z
UID:24713-1787403600-1787412600@www.unitedskates.com
SUMMARY:Open Skate
DESCRIPTION:Skating Admission – $13.50\nNon-skating Admission – $5\nRollerskate Rental – $5.50\nRollerblade Rental – $6.50 \nLaser Tag and Rock Climbing are available for $6 per person\, per game \nThis skating session is for ages 14 and under and 18 and older. Anyone 15\, 16\, or 17 years old must be accompanied by their parent and a younger sibling and the parent must stay in the building. \nAll adults (18+) who will be skating need to fill out our waiver. Click Here for Electronic waivers. \nAll skating adults are required to wear wristguards. Feel free to stop by our skate counter to borrow a pair during your session!
URL:https://www.unitedskates.com/rumford/event/open-skate-19/2026-08-22/
LOCATION:United Skates Of America  Rumford\, 75 New Road\, Rumford\, RI\, 02916\, United States
CATEGORIES:Family Events,Public Skates,Special Events
ATTACH;FMTTYPE=image/jpeg:https://unitedskates-assets.sfo3.digitaloceanspaces.com/wp-content/uploads/sites/13/2022/06/Public-Skate-1200x900-1.jpg
END:VEVENT
BEGIN:VEVENT
DTSTART;TZID=America/New_York:20260829T130000
DTEND;TZID=America/New_York:20260829T153000
DTSTAMP:20260422T112252
CREATED:20250822T153703Z
LAST-MODIFIED:20250822T153703Z
UID:24714-1788008400-1788017400@www.unitedskates.com
SUMMARY:Open Skate
DESCRIPTION:Skating Admission – $13.50\nNon-skating Admission – $5\nRollerskate Rental – $5.50\nRollerblade Rental – $6.50 \nLaser Tag and Rock Climbing are available for $6 per person\, per game \nThis skating session is for ages 14 and under and 18 and older. Anyone 15\, 16\, or 17 years old must be accompanied by their parent and a younger sibling and the parent must stay in the building. \nAll adults (18+) who will be skating need to fill out our waiver. Click Here for Electronic waivers. \nAll skating adults are required to wear wristguards. Feel free to stop by our skate counter to borrow a pair during your session!
URL:https://www.unitedskates.com/rumford/event/open-skate-19/2026-08-29/
LOCATION:United Skates Of America  Rumford\, 75 New Road\, Rumford\, RI\, 02916\, United States
CATEGORIES:Family Events,Public Skates,Special Events
ATTACH;FMTTYPE=image/jpeg:https://unitedskates-assets.sfo3.digitaloceanspaces.com/wp-content/uploads/sites/13/2022/06/Public-Skate-1200x900-1.jpg
END:VEVENT
END:VCALENDAR