BEGIN:VCALENDAR
VERSION:2.0
PRODID:-//Rink 28 - Rumford - ECPv6.15.20//NONSGML v1.0//EN
CALSCALE:GREGORIAN
METHOD:PUBLISH
X-WR-CALNAME:Rink 28 - Rumford
X-ORIGINAL-URL:https://www.unitedskates.com/rumford
X-WR-CALDESC:Events for Rink 28 - Rumford
REFRESH-INTERVAL;VALUE=DURATION:PT1H
X-Robots-Tag:noindex
X-PUBLISHED-TTL:PT1H
BEGIN:VTIMEZONE
TZID:America/New_York
BEGIN:DAYLIGHT
TZOFFSETFROM:-0500
TZOFFSETTO:-0400
TZNAME:EDT
DTSTART:20250309T070000
END:DAYLIGHT
BEGIN:STANDARD
TZOFFSETFROM:-0400
TZOFFSETTO:-0500
TZNAME:EST
DTSTART:20251102T060000
END:STANDARD
BEGIN:DAYLIGHT
TZOFFSETFROM:-0500
TZOFFSETTO:-0400
TZNAME:EDT
DTSTART:20260308T070000
END:DAYLIGHT
BEGIN:STANDARD
TZOFFSETFROM:-0400
TZOFFSETTO:-0500
TZNAME:EST
DTSTART:20261101T060000
END:STANDARD
BEGIN:DAYLIGHT
TZOFFSETFROM:-0500
TZOFFSETTO:-0400
TZNAME:EDT
DTSTART:20270314T070000
END:DAYLIGHT
BEGIN:STANDARD
TZOFFSETFROM:-0400
TZOFFSETTO:-0500
TZNAME:EST
DTSTART:20271107T060000
END:STANDARD
END:VTIMEZONE
BEGIN:VEVENT
DTSTART;TZID=America/New_York:20260429T180000
DTEND;TZID=America/New_York:20260429T203000
DTSTAMP:20260421T044811
CREATED:20250822T153916Z
LAST-MODIFIED:20260129T172115Z
UID:23149-1777485600-1777494600@www.unitedskates.com
SUMMARY:All You Can Eat Pizza Skate
DESCRIPTION:Join us every Wednesday for tons of family fun and all you can eat cheese pizza\, included with admission!\n\nSkating Admission – $14.00\nNon-Skating Admission – $5\nRollerskate Rental – $5.50\nRollerblade Rental – $6.50 \nLaser Tag and Rock climbing is available for $6 per ticket per person. \nSchedule your birthday party during this session and receive all you can eat cheese pizza for the kids in the party! Learn more about our birthday parties by Clicking Here! \nThis skating session is for ages 14 and under and 18 and older. Anyone 15\, 16\, or 17 years old must be accompanied by their parent and a younger sibling and the parent must stay in the building. \nAll adults (18+) who will be skating need to fill out our waiver. Click Here for Electronic waivers.
URL:https://www.unitedskates.com/rumford/event/all-you-can-eat-pizza-skate-17/2026-04-29/
LOCATION:United Skates Of America  Rumford\, 75 New Road\, Rumford\, RI\, 02916\, United States
CATEGORIES:Family Events,Public Skates,Special Events
ATTACH;FMTTYPE=image/jpeg:https://unitedskates-assets.sfo3.digitaloceanspaces.com/wp-content/uploads/sites/13/2022/09/AYCE-Skate-1200x900-1.jpg
END:VEVENT
BEGIN:VEVENT
DTSTART;TZID=America/New_York:20260506T180000
DTEND;TZID=America/New_York:20260506T203000
DTSTAMP:20260421T044811
CREATED:20250822T153916Z
LAST-MODIFIED:20260129T172115Z
UID:23150-1778090400-1778099400@www.unitedskates.com
SUMMARY:All You Can Eat Pizza Skate
DESCRIPTION:Join us every Wednesday for tons of family fun and all you can eat cheese pizza\, included with admission!\n\nSkating Admission – $14.00\nNon-Skating Admission – $5\nRollerskate Rental – $5.50\nRollerblade Rental – $6.50 \nLaser Tag and Rock climbing is available for $6 per ticket per person. \nSchedule your birthday party during this session and receive all you can eat cheese pizza for the kids in the party! Learn more about our birthday parties by Clicking Here! \nThis skating session is for ages 14 and under and 18 and older. Anyone 15\, 16\, or 17 years old must be accompanied by their parent and a younger sibling and the parent must stay in the building. \nAll adults (18+) who will be skating need to fill out our waiver. Click Here for Electronic waivers.
URL:https://www.unitedskates.com/rumford/event/all-you-can-eat-pizza-skate-17/2026-05-06/
LOCATION:United Skates Of America  Rumford\, 75 New Road\, Rumford\, RI\, 02916\, United States
CATEGORIES:Family Events,Public Skates,Special Events
ATTACH;FMTTYPE=image/jpeg:https://unitedskates-assets.sfo3.digitaloceanspaces.com/wp-content/uploads/sites/13/2022/09/AYCE-Skate-1200x900-1.jpg
END:VEVENT
BEGIN:VEVENT
DTSTART;TZID=America/New_York:20260513T180000
DTEND;TZID=America/New_York:20260513T203000
DTSTAMP:20260421T044811
CREATED:20250822T153916Z
LAST-MODIFIED:20260129T172115Z
UID:23151-1778695200-1778704200@www.unitedskates.com
SUMMARY:All You Can Eat Pizza Skate
DESCRIPTION:Join us every Wednesday for tons of family fun and all you can eat cheese pizza\, included with admission!\n\nSkating Admission – $14.00\nNon-Skating Admission – $5\nRollerskate Rental – $5.50\nRollerblade Rental – $6.50 \nLaser Tag and Rock climbing is available for $6 per ticket per person. \nSchedule your birthday party during this session and receive all you can eat cheese pizza for the kids in the party! Learn more about our birthday parties by Clicking Here! \nThis skating session is for ages 14 and under and 18 and older. Anyone 15\, 16\, or 17 years old must be accompanied by their parent and a younger sibling and the parent must stay in the building. \nAll adults (18+) who will be skating need to fill out our waiver. Click Here for Electronic waivers.
URL:https://www.unitedskates.com/rumford/event/all-you-can-eat-pizza-skate-17/2026-05-13/
LOCATION:United Skates Of America  Rumford\, 75 New Road\, Rumford\, RI\, 02916\, United States
CATEGORIES:Family Events,Public Skates,Special Events
ATTACH;FMTTYPE=image/jpeg:https://unitedskates-assets.sfo3.digitaloceanspaces.com/wp-content/uploads/sites/13/2022/09/AYCE-Skate-1200x900-1.jpg
END:VEVENT
BEGIN:VEVENT
DTSTART;TZID=America/New_York:20260520T180000
DTEND;TZID=America/New_York:20260520T203000
DTSTAMP:20260421T044811
CREATED:20250822T153916Z
LAST-MODIFIED:20260129T172116Z
UID:23152-1779300000-1779309000@www.unitedskates.com
SUMMARY:All You Can Eat Pizza Skate
DESCRIPTION:Join us every Wednesday for tons of family fun and all you can eat cheese pizza\, included with admission!\n\nSkating Admission – $14.00\nNon-Skating Admission – $5\nRollerskate Rental – $5.50\nRollerblade Rental – $6.50 \nLaser Tag and Rock climbing is available for $6 per ticket per person. \nSchedule your birthday party during this session and receive all you can eat cheese pizza for the kids in the party! Learn more about our birthday parties by Clicking Here! \nThis skating session is for ages 14 and under and 18 and older. Anyone 15\, 16\, or 17 years old must be accompanied by their parent and a younger sibling and the parent must stay in the building. \nAll adults (18+) who will be skating need to fill out our waiver. Click Here for Electronic waivers.
URL:https://www.unitedskates.com/rumford/event/all-you-can-eat-pizza-skate-17/2026-05-20/
LOCATION:United Skates Of America  Rumford\, 75 New Road\, Rumford\, RI\, 02916\, United States
CATEGORIES:Family Events,Public Skates,Special Events
ATTACH;FMTTYPE=image/jpeg:https://unitedskates-assets.sfo3.digitaloceanspaces.com/wp-content/uploads/sites/13/2022/09/AYCE-Skate-1200x900-1.jpg
END:VEVENT
BEGIN:VEVENT
DTSTART;TZID=America/New_York:20260527T180000
DTEND;TZID=America/New_York:20260527T203000
DTSTAMP:20260421T044811
CREATED:20250822T153916Z
LAST-MODIFIED:20260129T172116Z
UID:23153-1779904800-1779913800@www.unitedskates.com
SUMMARY:All You Can Eat Pizza Skate
DESCRIPTION:Join us every Wednesday for tons of family fun and all you can eat cheese pizza\, included with admission!\n\nSkating Admission – $14.00\nNon-Skating Admission – $5\nRollerskate Rental – $5.50\nRollerblade Rental – $6.50 \nLaser Tag and Rock climbing is available for $6 per ticket per person. \nSchedule your birthday party during this session and receive all you can eat cheese pizza for the kids in the party! Learn more about our birthday parties by Clicking Here! \nThis skating session is for ages 14 and under and 18 and older. Anyone 15\, 16\, or 17 years old must be accompanied by their parent and a younger sibling and the parent must stay in the building. \nAll adults (18+) who will be skating need to fill out our waiver. Click Here for Electronic waivers.
URL:https://www.unitedskates.com/rumford/event/all-you-can-eat-pizza-skate-17/2026-05-27/
LOCATION:United Skates Of America  Rumford\, 75 New Road\, Rumford\, RI\, 02916\, United States
CATEGORIES:Family Events,Public Skates,Special Events
ATTACH;FMTTYPE=image/jpeg:https://unitedskates-assets.sfo3.digitaloceanspaces.com/wp-content/uploads/sites/13/2022/09/AYCE-Skate-1200x900-1.jpg
END:VEVENT
BEGIN:VEVENT
DTSTART;TZID=America/New_York:20260603T180000
DTEND;TZID=America/New_York:20260603T203000
DTSTAMP:20260421T044811
CREATED:20250822T153916Z
LAST-MODIFIED:20260129T172116Z
UID:23154-1780509600-1780518600@www.unitedskates.com
SUMMARY:All You Can Eat Pizza Skate
DESCRIPTION:Join us every Wednesday for tons of family fun and all you can eat cheese pizza\, included with admission!\n\nSkating Admission – $14.00\nNon-Skating Admission – $5\nRollerskate Rental – $5.50\nRollerblade Rental – $6.50 \nLaser Tag and Rock climbing is available for $6 per ticket per person. \nSchedule your birthday party during this session and receive all you can eat cheese pizza for the kids in the party! Learn more about our birthday parties by Clicking Here! \nThis skating session is for ages 14 and under and 18 and older. Anyone 15\, 16\, or 17 years old must be accompanied by their parent and a younger sibling and the parent must stay in the building. \nAll adults (18+) who will be skating need to fill out our waiver. Click Here for Electronic waivers.
URL:https://www.unitedskates.com/rumford/event/all-you-can-eat-pizza-skate-17/2026-06-03/
LOCATION:United Skates Of America  Rumford\, 75 New Road\, Rumford\, RI\, 02916\, United States
CATEGORIES:Family Events,Public Skates,Special Events
ATTACH;FMTTYPE=image/jpeg:https://unitedskates-assets.sfo3.digitaloceanspaces.com/wp-content/uploads/sites/13/2022/09/AYCE-Skate-1200x900-1.jpg
END:VEVENT
BEGIN:VEVENT
DTSTART;TZID=America/New_York:20260610T180000
DTEND;TZID=America/New_York:20260610T203000
DTSTAMP:20260421T044811
CREATED:20250822T153916Z
LAST-MODIFIED:20260129T172116Z
UID:23155-1781114400-1781123400@www.unitedskates.com
SUMMARY:All You Can Eat Pizza Skate
DESCRIPTION:Join us every Wednesday for tons of family fun and all you can eat cheese pizza\, included with admission!\n\nSkating Admission – $14.00\nNon-Skating Admission – $5\nRollerskate Rental – $5.50\nRollerblade Rental – $6.50 \nLaser Tag and Rock climbing is available for $6 per ticket per person. \nSchedule your birthday party during this session and receive all you can eat cheese pizza for the kids in the party! Learn more about our birthday parties by Clicking Here! \nThis skating session is for ages 14 and under and 18 and older. Anyone 15\, 16\, or 17 years old must be accompanied by their parent and a younger sibling and the parent must stay in the building. \nAll adults (18+) who will be skating need to fill out our waiver. Click Here for Electronic waivers.
URL:https://www.unitedskates.com/rumford/event/all-you-can-eat-pizza-skate-17/2026-06-10/
LOCATION:United Skates Of America  Rumford\, 75 New Road\, Rumford\, RI\, 02916\, United States
CATEGORIES:Family Events,Public Skates,Special Events
ATTACH;FMTTYPE=image/jpeg:https://unitedskates-assets.sfo3.digitaloceanspaces.com/wp-content/uploads/sites/13/2022/09/AYCE-Skate-1200x900-1.jpg
END:VEVENT
BEGIN:VEVENT
DTSTART;TZID=America/New_York:20260617T180000
DTEND;TZID=America/New_York:20260617T203000
DTSTAMP:20260421T044811
CREATED:20250822T153916Z
LAST-MODIFIED:20260129T172116Z
UID:23156-1781719200-1781728200@www.unitedskates.com
SUMMARY:All You Can Eat Pizza Skate
DESCRIPTION:Join us every Wednesday for tons of family fun and all you can eat cheese pizza\, included with admission!\n\nSkating Admission – $14.00\nNon-Skating Admission – $5\nRollerskate Rental – $5.50\nRollerblade Rental – $6.50 \nLaser Tag and Rock climbing is available for $6 per ticket per person. \nSchedule your birthday party during this session and receive all you can eat cheese pizza for the kids in the party! Learn more about our birthday parties by Clicking Here! \nThis skating session is for ages 14 and under and 18 and older. Anyone 15\, 16\, or 17 years old must be accompanied by their parent and a younger sibling and the parent must stay in the building. \nAll adults (18+) who will be skating need to fill out our waiver. Click Here for Electronic waivers.
URL:https://www.unitedskates.com/rumford/event/all-you-can-eat-pizza-skate-17/2026-06-17/
LOCATION:United Skates Of America  Rumford\, 75 New Road\, Rumford\, RI\, 02916\, United States
CATEGORIES:Family Events,Public Skates,Special Events
ATTACH;FMTTYPE=image/jpeg:https://unitedskates-assets.sfo3.digitaloceanspaces.com/wp-content/uploads/sites/13/2022/09/AYCE-Skate-1200x900-1.jpg
END:VEVENT
BEGIN:VEVENT
DTSTART;TZID=America/New_York:20260624T180000
DTEND;TZID=America/New_York:20260624T203000
DTSTAMP:20260421T044811
CREATED:20250822T153916Z
LAST-MODIFIED:20260129T172117Z
UID:24775-1782324000-1782333000@www.unitedskates.com
SUMMARY:All You Can Eat Pizza Skate
DESCRIPTION:Join us every Wednesday for tons of family fun and all you can eat cheese pizza\, included with admission!\n\nSkating Admission – $14.00\nNon-Skating Admission – $5\nRollerskate Rental – $5.50\nRollerblade Rental – $6.50 \nLaser Tag and Rock climbing is available for $6 per ticket per person. \nSchedule your birthday party during this session and receive all you can eat cheese pizza for the kids in the party! Learn more about our birthday parties by Clicking Here! \nThis skating session is for ages 14 and under and 18 and older. Anyone 15\, 16\, or 17 years old must be accompanied by their parent and a younger sibling and the parent must stay in the building. \nAll adults (18+) who will be skating need to fill out our waiver. Click Here for Electronic waivers.
URL:https://www.unitedskates.com/rumford/event/all-you-can-eat-pizza-skate-17/2026-06-24/
LOCATION:United Skates Of America  Rumford\, 75 New Road\, Rumford\, RI\, 02916\, United States
CATEGORIES:Family Events,Public Skates,Special Events
ATTACH;FMTTYPE=image/jpeg:https://unitedskates-assets.sfo3.digitaloceanspaces.com/wp-content/uploads/sites/13/2022/09/AYCE-Skate-1200x900-1.jpg
END:VEVENT
END:VCALENDAR