BEGIN:VCALENDAR
VERSION:2.0
PRODID:-//Rink 58 - Raleigh - ECPv6.15.20//NONSGML v1.0//EN
CALSCALE:GREGORIAN
METHOD:PUBLISH
X-ORIGINAL-URL:https://www.unitedskates.com/raleigh
X-WR-CALDESC:Events for Rink 58 - Raleigh
REFRESH-INTERVAL;VALUE=DURATION:PT1H
X-Robots-Tag:noindex
X-PUBLISHED-TTL:PT1H
BEGIN:VTIMEZONE
TZID:America/New_York
BEGIN:DAYLIGHT
TZOFFSETFROM:-0500
TZOFFSETTO:-0400
TZNAME:EDT
DTSTART:20240310T070000
END:DAYLIGHT
BEGIN:STANDARD
TZOFFSETFROM:-0400
TZOFFSETTO:-0500
TZNAME:EST
DTSTART:20241103T060000
END:STANDARD
BEGIN:DAYLIGHT
TZOFFSETFROM:-0500
TZOFFSETTO:-0400
TZNAME:EDT
DTSTART:20250309T070000
END:DAYLIGHT
BEGIN:STANDARD
TZOFFSETFROM:-0400
TZOFFSETTO:-0500
TZNAME:EST
DTSTART:20251102T060000
END:STANDARD
BEGIN:DAYLIGHT
TZOFFSETFROM:-0500
TZOFFSETTO:-0400
TZNAME:EDT
DTSTART:20260308T070000
END:DAYLIGHT
BEGIN:STANDARD
TZOFFSETFROM:-0400
TZOFFSETTO:-0500
TZNAME:EST
DTSTART:20261101T060000
END:STANDARD
END:VTIMEZONE
BEGIN:VEVENT
DTSTART;TZID=America/New_York:20251218T190000
DTEND;TZID=America/New_York:20251218T220000
DTSTAMP:20260423T182721
CREATED:20241008T150446Z
LAST-MODIFIED:20251024T152045Z
UID:22114-1766084400-1766095200@www.unitedskates.com
SUMMARY:United Skates Thursday Adult Night Christmas Skate
DESCRIPTION:$13.00 Admission \n$5.00 Regular Skate Rental $6.00 Rollerblade Rental \nAges 18+ with ID
URL:https://www.unitedskates.com/raleigh/event/carolina-all-star-weekend-4-2025-10-09-2025-12-18/
LOCATION:United Skates Of America Raleigh\, 2901 Trawick Rd.\, Raleigh\, NC\, 27604\, United States
CATEGORIES:Adult Events,Public Skates,Special Events
ATTACH;FMTTYPE=image/png:https://unitedskates-assets.sfo3.digitaloceanspaces.com/wp-content/uploads/sites/22/2024/10/Merry-Christmas-Skate-2025.png
END:VEVENT
END:VCALENDAR