BEGIN:VCALENDAR
VERSION:2.0
PRODID:-//Rink 58 - Raleigh - ECPv6.15.20//NONSGML v1.0//EN
CALSCALE:GREGORIAN
METHOD:PUBLISH
X-WR-CALNAME:Rink 58 - Raleigh
X-ORIGINAL-URL:https://www.unitedskates.com/raleigh
X-WR-CALDESC:Events for Rink 58 - Raleigh
REFRESH-INTERVAL;VALUE=DURATION:PT1H
X-Robots-Tag:noindex
X-PUBLISHED-TTL:PT1H
BEGIN:VTIMEZONE
TZID:America/New_York
BEGIN:DAYLIGHT
TZOFFSETFROM:-0500
TZOFFSETTO:-0400
TZNAME:EDT
DTSTART:20240310T070000
END:DAYLIGHT
BEGIN:STANDARD
TZOFFSETFROM:-0400
TZOFFSETTO:-0500
TZNAME:EST
DTSTART:20241103T060000
END:STANDARD
BEGIN:DAYLIGHT
TZOFFSETFROM:-0500
TZOFFSETTO:-0400
TZNAME:EDT
DTSTART:20250309T070000
END:DAYLIGHT
BEGIN:STANDARD
TZOFFSETFROM:-0400
TZOFFSETTO:-0500
TZNAME:EST
DTSTART:20251102T060000
END:STANDARD
BEGIN:DAYLIGHT
TZOFFSETFROM:-0500
TZOFFSETTO:-0400
TZNAME:EDT
DTSTART:20260308T070000
END:DAYLIGHT
BEGIN:STANDARD
TZOFFSETFROM:-0400
TZOFFSETTO:-0500
TZNAME:EST
DTSTART:20261101T060000
END:STANDARD
END:VTIMEZONE
BEGIN:VEVENT
DTSTART;TZID=America/New_York:20251207T130000
DTEND;TZID=America/New_York:20251207T153000
DTSTAMP:20260423T230347
CREATED:20230127T230717Z
LAST-MODIFIED:20260204T171643Z
UID:19896-1765112400-1765121400@www.unitedskates.com
SUMMARY:Stitch Skate
DESCRIPTION:CLICK OR TAP HERE TO PURCHASE TICKETS \nCLICK OR TAP HERE TO FILL OUT OUR WAIVER \nALL GUESTS ENTERING THE FACILITY MUST FILL OUT A WAIVER \n(Adults must enter the name of all children they are bringing to the facility on their waiver) \nAdmission $13 online and $14 at the door \nSkate Rental $6 \nRollerblade Rental $7 \nSkatemate Rental $6 \n\n\n\nNon-skating Spectator fee $4
URL:https://www.unitedskates.com/raleigh/event/retro-sunday-skate-2024-03-03-2024-10-27-2024-12-22-2025-01-26-2025-04-06/2025-12-07/
LOCATION:United Skates Of America Raleigh\, 2901 Trawick Rd.\, Raleigh\, NC\, 27604\, United States
CATEGORIES:Family Events,Public Skates,Special Events
ATTACH;FMTTYPE=image/jpeg:https://unitedskates-assets.sfo3.digitaloceanspaces.com/wp-content/uploads/sites/22/2023/01/Copy-of-Adult-Skate-Lessons.jpg
END:VEVENT
BEGIN:VEVENT
DTSTART;TZID=America/New_York:20251207T160000
DTEND;TZID=America/New_York:20251207T183000
DTSTAMP:20260423T230347
CREATED:20240924T183545Z
LAST-MODIFIED:20251202T161305Z
UID:22262-1765123200-1765132200@www.unitedskates.com
SUMMARY:6 7 Skate
DESCRIPTION:CLICK OR TAP HERE TO PURCHASE TICKETS \nCLICK OR TAP HERE TO FILL OUT OUR WAIVER \nALL GUESTS ENTERING THE FACILITY MUST FILL OUT A WAIVER \n(Adults must enter the name of all children they are bringing to the facility on their waiver) \nAdmission $6 or $7* \n*$7 admission includes a 10 Credit Game Card \nSkate Rental $6 \nRollerblade Rental $7 \nSkatemate Rental $6 \nNon-skating Spectator $4 \nBirthdays are FUN & welcome on Friday Nights – Find Out About Our 5 STAR Birthday Packages
URL:https://www.unitedskates.com/raleigh/event/friday-night-glow-skate-2024-12-27-2025-01-03-2025-05-09-2025-11-21-2025-12-07/
LOCATION:United Skates Of America Raleigh\, 2901 Trawick Rd.\, Raleigh\, NC\, 27604\, United States
CATEGORIES:Family Events,Public Skates,Special Events
ATTACH;FMTTYPE=image/jpeg:https://unitedskates-assets.sfo3.digitaloceanspaces.com/wp-content/uploads/sites/22/2024/09/6-7-Skate-12-7-25-2025.jpg
END:VEVENT
BEGIN:VEVENT
DTSTART;TZID=America/New_York:20251207T190000
DTEND;TZID=America/New_York:20251207T223000
DTSTAMP:20260423T230347
CREATED:20240919T143517Z
LAST-MODIFIED:20251014T180430Z
UID:20615-1765134000-1765146600@www.unitedskates.com
SUMMARY:Flashback Sunday Adult Skate
DESCRIPTION:CLICK OR TAP HERE TO PURCHASE TICKETS \nCLICK OR TAP HERE TO FILL OUT OUR WAIVER \nALL GUESTS ENTERING THE FACILITY MUST FILL OUT A WAIVER \n$13.00 Admission \n$5.00 Regular Skate Rental \n$6.00 Rollerblade Rental \nAges 18+ with ID
URL:https://www.unitedskates.com/raleigh/event/flashback-sunday-adult-skate-2-2025-04-27/2025-12-07/
LOCATION:United Skates Of America Raleigh\, 2901 Trawick Rd.\, Raleigh\, NC\, 27604\, United States
CATEGORIES:Adult Events,Public Skates
ATTACH;FMTTYPE=image/png:https://unitedskates-assets.sfo3.digitaloceanspaces.com/wp-content/uploads/sites/22/2024/09/Flashback-sunday-new.png
END:VEVENT
END:VCALENDAR