BEGIN:VCALENDAR
VERSION:2.0
PRODID:-//Rink 58 - Raleigh - ECPv6.15.20//NONSGML v1.0//EN
CALSCALE:GREGORIAN
METHOD:PUBLISH
X-WR-CALNAME:Rink 58 - Raleigh
X-ORIGINAL-URL:https://www.unitedskates.com/raleigh
X-WR-CALDESC:Events for Rink 58 - Raleigh
REFRESH-INTERVAL;VALUE=DURATION:PT1H
X-Robots-Tag:noindex
X-PUBLISHED-TTL:PT1H
BEGIN:VTIMEZONE
TZID:America/New_York
BEGIN:DAYLIGHT
TZOFFSETFROM:-0500
TZOFFSETTO:-0400
TZNAME:EDT
DTSTART:20240310T070000
END:DAYLIGHT
BEGIN:STANDARD
TZOFFSETFROM:-0400
TZOFFSETTO:-0500
TZNAME:EST
DTSTART:20241103T060000
END:STANDARD
BEGIN:DAYLIGHT
TZOFFSETFROM:-0500
TZOFFSETTO:-0400
TZNAME:EDT
DTSTART:20250309T070000
END:DAYLIGHT
BEGIN:STANDARD
TZOFFSETFROM:-0400
TZOFFSETTO:-0500
TZNAME:EST
DTSTART:20251102T060000
END:STANDARD
BEGIN:DAYLIGHT
TZOFFSETFROM:-0500
TZOFFSETTO:-0400
TZNAME:EDT
DTSTART:20260308T070000
END:DAYLIGHT
BEGIN:STANDARD
TZOFFSETFROM:-0400
TZOFFSETTO:-0500
TZNAME:EST
DTSTART:20261101T060000
END:STANDARD
END:VTIMEZONE
BEGIN:VEVENT
DTSTART;TZID=America/New_York:20251125T180000
DTEND;TZID=America/New_York:20251130T223000
DTSTAMP:20260424T014011
CREATED:20251110T162426Z
LAST-MODIFIED:20251110T162451Z
UID:22246-1764093600-1764541800@www.unitedskates.com
SUMMARY:🦃 Thanksgiving Break Skates at United Skates Raleigh! 🎉
DESCRIPTION:School’s out — it’s time to roll into the holidays at United Skates Raleigh! 🛼Join us for a full week of Thanksgiving Break fun\, packed with themed skates\, family activities\, and special guests! \n✨ Event Highlights: \n\n\n🧵 Tuesday\, Nov 25: Thanksgiving Break Kickoff with Stitch — Includes a free dinner\, pizza\, and a drink! \n\n\n🦃 Thursday\, Nov 27: Skate Your Turkey Off! after your big meal! \n\n\n🛍️ Black Friday Skates with early and late sessions + Chris Brown Late Skate \n\n\n🎵 Kidz Bop Skates\, Wayback Wednesday\, and Hip Hop Saturday Night \n\n\n🎉 Sunday FunDay and Adult Flashback Skate \n\n\n🎟️ Admission: $10–$15 | Online discounts available | Skate Rental extra \nCelebrate the season with friends\, family\, and nonstop skating fun — only at United Skates of America Raleigh!
URL:https://www.unitedskates.com/raleigh/event/%f0%9f%a6%83-thanksgiving-break-skates-at-united-skates-raleigh-%f0%9f%8e%89/
LOCATION:NC
CATEGORIES:Family Events,Public Skates,Special Events
ATTACH;FMTTYPE=image/jpeg:https://unitedskates-assets.sfo3.digitaloceanspaces.com/wp-content/uploads/sites/22/2025/11/58-Thanksgiving-Break-Roller-Skate-2025-8.5-x-11-in-scaled.jpg
END:VEVENT
BEGIN:VEVENT
DTSTART;TZID=America/New_York:20251130T130000
DTEND;TZID=America/New_York:20251130T153000
DTSTAMP:20260424T014011
CREATED:20250327T174032Z
LAST-MODIFIED:20260204T171540Z
UID:19880-1764507600-1764516600@www.unitedskates.com
SUMMARY:Trolls Skate
DESCRIPTION:CLICK OR TAP HERE TO PURCHASE TICKETS \nCLICK OR TAP HERE TO FILL OUT OUR WAIVER \nALL GUESTS ENTERING THE FACILITY MUST FILL OUT A WAIVER \n(Adults must enter the name of all children they are bringing to the facility on their waiver) \nAdmission $13 online and $14 at the door \nSkate Rental $6 \nRollerblade Rental $7 \nSkatemate Rental $6 \n\n\n \nNon-skating Spectator fee $4
URL:https://www.unitedskates.com/raleigh/event/trolls-skate/2025-11-30/
LOCATION:United Skates Of America Raleigh\, 2901 Trawick Rd.\, Raleigh\, NC\, 27604\, United States
CATEGORIES:Family Events,Public Skates,Special Events
ATTACH;FMTTYPE=image/jpeg:https://unitedskates-assets.sfo3.digitaloceanspaces.com/wp-content/uploads/sites/22/2025/03/Trolls-Skate-1200x1200-1.jpg
END:VEVENT
BEGIN:VEVENT
DTSTART;TZID=America/New_York:20251130T190000
DTEND;TZID=America/New_York:20251130T223000
DTSTAMP:20260424T014011
CREATED:20240919T143517Z
LAST-MODIFIED:20251014T180429Z
UID:20614-1764529200-1764541800@www.unitedskates.com
SUMMARY:Flashback Sunday Adult Skate
DESCRIPTION:CLICK OR TAP HERE TO PURCHASE TICKETS \nCLICK OR TAP HERE TO FILL OUT OUR WAIVER \nALL GUESTS ENTERING THE FACILITY MUST FILL OUT A WAIVER \n$13.00 Admission \n$5.00 Regular Skate Rental \n$6.00 Rollerblade Rental \nAges 18+ with ID
URL:https://www.unitedskates.com/raleigh/event/flashback-sunday-adult-skate-2-2025-04-27/2025-11-30/
LOCATION:United Skates Of America Raleigh\, 2901 Trawick Rd.\, Raleigh\, NC\, 27604\, United States
CATEGORIES:Adult Events,Public Skates
ATTACH;FMTTYPE=image/png:https://unitedskates-assets.sfo3.digitaloceanspaces.com/wp-content/uploads/sites/22/2024/09/Flashback-sunday-new.png
END:VEVENT
END:VCALENDAR