BEGIN:VCALENDAR
VERSION:2.0
PRODID:-//Rink 58 - Raleigh - ECPv6.15.20//NONSGML v1.0//EN
CALSCALE:GREGORIAN
METHOD:PUBLISH
X-WR-CALNAME:Rink 58 - Raleigh
X-ORIGINAL-URL:https://www.unitedskates.com/raleigh
X-WR-CALDESC:Events for Rink 58 - Raleigh
REFRESH-INTERVAL;VALUE=DURATION:PT1H
X-Robots-Tag:noindex
X-PUBLISHED-TTL:PT1H
BEGIN:VTIMEZONE
TZID:America/New_York
BEGIN:DAYLIGHT
TZOFFSETFROM:-0500
TZOFFSETTO:-0400
TZNAME:EDT
DTSTART:20240310T070000
END:DAYLIGHT
BEGIN:STANDARD
TZOFFSETFROM:-0400
TZOFFSETTO:-0500
TZNAME:EST
DTSTART:20241103T060000
END:STANDARD
BEGIN:DAYLIGHT
TZOFFSETFROM:-0500
TZOFFSETTO:-0400
TZNAME:EDT
DTSTART:20250309T070000
END:DAYLIGHT
BEGIN:STANDARD
TZOFFSETFROM:-0400
TZOFFSETTO:-0500
TZNAME:EST
DTSTART:20251102T060000
END:STANDARD
BEGIN:DAYLIGHT
TZOFFSETFROM:-0500
TZOFFSETTO:-0400
TZNAME:EDT
DTSTART:20260308T070000
END:DAYLIGHT
BEGIN:STANDARD
TZOFFSETFROM:-0400
TZOFFSETTO:-0500
TZNAME:EST
DTSTART:20261101T060000
END:STANDARD
END:VTIMEZONE
BEGIN:VEVENT
DTSTART;TZID=America/New_York:20251125T180000
DTEND;TZID=America/New_York:20251130T223000
DTSTAMP:20260424T063637
CREATED:20251110T162426Z
LAST-MODIFIED:20251110T162451Z
UID:22246-1764093600-1764541800@www.unitedskates.com
SUMMARY:🦃 Thanksgiving Break Skates at United Skates Raleigh! 🎉
DESCRIPTION:School’s out — it’s time to roll into the holidays at United Skates Raleigh! 🛼Join us for a full week of Thanksgiving Break fun\, packed with themed skates\, family activities\, and special guests! \n✨ Event Highlights: \n\n\n🧵 Tuesday\, Nov 25: Thanksgiving Break Kickoff with Stitch — Includes a free dinner\, pizza\, and a drink! \n\n\n🦃 Thursday\, Nov 27: Skate Your Turkey Off! after your big meal! \n\n\n🛍️ Black Friday Skates with early and late sessions + Chris Brown Late Skate \n\n\n🎵 Kidz Bop Skates\, Wayback Wednesday\, and Hip Hop Saturday Night \n\n\n🎉 Sunday FunDay and Adult Flashback Skate \n\n\n🎟️ Admission: $10–$15 | Online discounts available | Skate Rental extra \nCelebrate the season with friends\, family\, and nonstop skating fun — only at United Skates of America Raleigh!
URL:https://www.unitedskates.com/raleigh/event/%f0%9f%a6%83-thanksgiving-break-skates-at-united-skates-raleigh-%f0%9f%8e%89/
LOCATION:NC
CATEGORIES:Family Events,Public Skates,Special Events
ATTACH;FMTTYPE=image/jpeg:https://unitedskates-assets.sfo3.digitaloceanspaces.com/wp-content/uploads/sites/22/2025/11/58-Thanksgiving-Break-Roller-Skate-2025-8.5-x-11-in-scaled.jpg
END:VEVENT
BEGIN:VEVENT
DTSTART;TZID=America/New_York:20251126T100000
DTEND;TZID=America/New_York:20251126T120000
DTSTAMP:20260424T063637
CREATED:20250925T150628Z
LAST-MODIFIED:20251016T194942Z
UID:21776-1764151200-1764158400@www.unitedskates.com
SUMMARY:Thanksgiving Break Kidz Bop Skate
DESCRIPTION:CLICK OR TAP HERE TO PURCHASE TICKETS \nCLICK OR TAP HERE TO FILL OUT OUR WAIVER \nALL GUESTS ENTERING THE FACILITY MUST FILL OUT A WAIVER \n(Adults must enter the name of all children they are bringing to the facility on their waiver) \nThanksgiving Break Kidz Bop Skate \nFree Skatemate with Paid Admission \nAdmission $11 Online/$13 at the door \nRegular Skate Rental $6 \nRollerblade Rental $7 \n  \nNon-Skating Adult Spectator Admission $4
URL:https://www.unitedskates.com/raleigh/event/thanksgiving-break-kidz-bop-skate/
LOCATION:United Skates Of America Raleigh\, 2901 Trawick Rd.\, Raleigh\, NC\, 27604\, United States
CATEGORIES:Family Events,Public Skates,Special Events
ATTACH;FMTTYPE=image/png:https://unitedskates-assets.sfo3.digitaloceanspaces.com/wp-content/uploads/sites/22/2025/09/Thanksgiving-Break.png
END:VEVENT
BEGIN:VEVENT
DTSTART;TZID=America/New_York:20251126T123000
DTEND;TZID=America/New_York:20251126T143000
DTSTAMP:20260424T063637
CREATED:20250925T151120Z
LAST-MODIFIED:20251016T195007Z
UID:21780-1764160200-1764167400@www.unitedskates.com
SUMMARY:Thanksgiving Break Public Skate
DESCRIPTION:CLICK OR TAP HERE TO PURCHASE TICKETS \nCLICK OR TAP HERE TO FILL OUT OUR WAIVER \nALL GUESTS ENTERING THE FACILITY MUST FILL OUT A WAIVER \n(Adults must enter the name of all children they are bringing to the facility on their waiver) \nThanksgiving Break Public Skate \nAdmission $11 online/$13 At the door \nRegular Skate Rental $6 \nRollerblade Rental $7 \nSkate Mate Rental $6 \nNon-Skating Adult Admission $4 \nUnited Skates has a clear bag policy \nAll Adults entering the facility must fill out a waiver
URL:https://www.unitedskates.com/raleigh/event/thanksgiving-break-public-skate/
LOCATION:United Skates Of America Raleigh\, 2901 Trawick Rd.\, Raleigh\, NC\, 27604\, United States
CATEGORIES:Family Events,Public Skates,Special Events
ATTACH;FMTTYPE=image/png:https://unitedskates-assets.sfo3.digitaloceanspaces.com/wp-content/uploads/sites/22/2025/09/Thanksgiving-Break.png
END:VEVENT
BEGIN:VEVENT
DTSTART;TZID=America/New_York:20251126T150000
DTEND;TZID=America/New_York:20251126T170000
DTSTAMP:20260424T063637
CREATED:20251016T195457Z
LAST-MODIFIED:20251017T174030Z
UID:21988-1764169200-1764176400@www.unitedskates.com
SUMMARY:Thanksgiving Break Public Skate
DESCRIPTION:CLICK OR TAP HERE TO PURCHASE TICKETS \nCLICK OR TAP HERE TO FILL OUT OUR WAIVER \nALL GUESTS ENTERING THE FACILITY MUST FILL OUT A WAIVER \n(Adults must enter the name of all children they are bringing to the facility on their waiver) \nThanksgiving Break Public Skate \nAdmission $11 online/$13 At the door \nRegular Skate Rental $6 \nRollerblade Rental $7 \nSkate Mate Rental $6 \nNon-Skating Adult Admission $4 \nUnited Skates has a clear bag policy \nAll Adults entering the facility must fill out a waiver
URL:https://www.unitedskates.com/raleigh/event/thanksgiving-break-public-skate-2/
LOCATION:NC
CATEGORIES:Family Events,Public Skates,Special Events
ATTACH;FMTTYPE=image/png:https://unitedskates-assets.sfo3.digitaloceanspaces.com/wp-content/uploads/sites/22/2025/10/Thanksgiving-school-out.png
END:VEVENT
END:VCALENDAR