BEGIN:VCALENDAR
VERSION:2.0
PRODID:-//Rink 58 - Raleigh - ECPv6.15.20//NONSGML v1.0//EN
CALSCALE:GREGORIAN
METHOD:PUBLISH
X-WR-CALNAME:Rink 58 - Raleigh
X-ORIGINAL-URL:https://www.unitedskates.com/raleigh
X-WR-CALDESC:Events for Rink 58 - Raleigh
REFRESH-INTERVAL;VALUE=DURATION:PT1H
X-Robots-Tag:noindex
X-PUBLISHED-TTL:PT1H
BEGIN:VTIMEZONE
TZID:America/New_York
BEGIN:DAYLIGHT
TZOFFSETFROM:-0500
TZOFFSETTO:-0400
TZNAME:EDT
DTSTART:20240310T070000
END:DAYLIGHT
BEGIN:STANDARD
TZOFFSETFROM:-0400
TZOFFSETTO:-0500
TZNAME:EST
DTSTART:20241103T060000
END:STANDARD
BEGIN:DAYLIGHT
TZOFFSETFROM:-0500
TZOFFSETTO:-0400
TZNAME:EDT
DTSTART:20250309T070000
END:DAYLIGHT
BEGIN:STANDARD
TZOFFSETFROM:-0400
TZOFFSETTO:-0500
TZNAME:EST
DTSTART:20251102T060000
END:STANDARD
BEGIN:DAYLIGHT
TZOFFSETFROM:-0500
TZOFFSETTO:-0400
TZNAME:EDT
DTSTART:20260308T070000
END:DAYLIGHT
BEGIN:STANDARD
TZOFFSETFROM:-0400
TZOFFSETTO:-0500
TZNAME:EST
DTSTART:20261101T060000
END:STANDARD
END:VTIMEZONE
BEGIN:VEVENT
DTSTART;TZID=America/New_York:20251101T100000
DTEND;TZID=America/New_York:20251101T123000
DTSTAMP:20260424T110557
CREATED:20240924T184130Z
LAST-MODIFIED:20251030T162556Z
UID:20358-1761991200-1762000200@www.unitedskates.com
SUMMARY:Monster Mash Skate
DESCRIPTION:Last Chance to Show off your costume!!!\nALL ADULT SKATERS AND SPECTATORS MUST FILL OUT A WAIVER BEFORE ENTERING THE BUILDING.\n(For faster check in\, please have your waiver filled out before arrival)\nCLICK OR TAP HERE TO FILL OUT OUR WAIVER \nPurchase your tickets online and save!!!!\n(Tickets purchased online save $1 per admission and have a priority check in line)\nCLICK OR TAP HERE TO PURCHASE TICKETS \nKidz Bop and Disney Super Clean music \nFree Skatemate with Paid Admission \nAdmission $14 when purchased online in advanced\, $15 at the door \nRegular Skate Rental $6 \nRollerblade Rental $7 \nAll adults must fill out a waiver to enter \nUnited Skates Raleigh has a clear bag policy
URL:https://www.unitedskates.com/raleigh/event/kidz-bop-skate-2024-12-21-2025-01-11-2025-01-18-2025-11-01/
LOCATION:United Skates Of America Raleigh\, 2901 Trawick Rd.\, Raleigh\, NC\, 27604\, United States
CATEGORIES:Family Events,Public Skates,Special Events
ATTACH;FMTTYPE=image/png:https://unitedskates-assets.sfo3.digitaloceanspaces.com/wp-content/uploads/sites/22/2024/09/Screenshot-2025-09-24-at-11.19.12-AM.png
END:VEVENT
BEGIN:VEVENT
DTSTART;TZID=America/New_York:20251101T130000
DTEND;TZID=America/New_York:20251101T153000
DTSTAMP:20260424T110557
CREATED:20230127T220007Z
LAST-MODIFIED:20251030T162621Z
UID:19567-1762002000-1762011000@www.unitedskates.com
SUMMARY:Mummy Wrap Skate
DESCRIPTION:ALL ADULT SKATERS AND SPECTATORS MUST FILL OUT A WAIVER BEFORE ENTERING THE BUILDING.\n(For faster check in\, please have your waiver filled out before arrival)\nCLICK OR TAP HERE TO FILL OUT OUR WAIVER \nPurchase your tickets online and save!!!!\n(Tickets purchased online save $1 per admission and have a priority check in line)\nCLICK OR TAP HERE TO PURCHASE TICKETS \n\n\n \nAdmission $14 Online/$15 at the door \n$4.00 Spectator Admission for non-skating chaperones 18+ \n\n\n $6.00 Regular Skate Rental  \n$7.00 Rollerblade Rental \n$6.00 Skatemate Rental \n\n\n Featuring Billboard Hot 100 music…. \nAll adults must fill out a waiver to enter \nUnited Skates Raleigh has a clear bag policy
URL:https://www.unitedskates.com/raleigh/event/public-skating-2024-02-24-2024-09-07-2024-12-21-2025-01-11-2025-11-01/
LOCATION:United Skates Of America Raleigh\, 2901 Trawick Rd.\, Raleigh\, NC\, 27604\, United States
CATEGORIES:Family Events,Public Skates,Special Events
ATTACH;FMTTYPE=image/png:https://unitedskates-assets.sfo3.digitaloceanspaces.com/wp-content/uploads/sites/22/2023/01/Screenshot-2025-09-24-at-11.04.04-AM.png
END:VEVENT
BEGIN:VEVENT
DTSTART;TZID=America/New_York:20251101T160000
DTEND;TZID=America/New_York:20251101T183000
DTSTAMP:20260424T110557
CREATED:20230127T220823Z
LAST-MODIFIED:20230127T220823Z
UID:20514-1762012800-1762021800@www.unitedskates.com
SUMMARY:Public Skating
DESCRIPTION:CLICK OR TAP HERE TO PURCHASE TICKETS \nCLICK OR TAP HERE TO FILL OUT OUR WAIVER \nALL GUESTS ENTERING THE FACILITY MUST FILL OUT A WAIVER \n(Adults must enter the name of all children they are bringing to the facility on their waiver) \n$14 Admission \n\n\n $4.00 Spectator Admission for non-skating chaperones 18+ \n\n\n $6.00 Regular Skate Rental  \n$7.00 Rollerblade Rental \n$6.00 Skatemate Rental \n\n\n Featuring Billboard Hot 100 music….
URL:https://www.unitedskates.com/raleigh/event/public-skating-2-2024-09-07/2025-11-01/
LOCATION:United Skates Of America Raleigh\, 2901 Trawick Rd.\, Raleigh\, NC\, 27604\, United States
CATEGORIES:Family Events,Public Skates
ATTACH;FMTTYPE=image/jpeg:https://unitedskates-assets.sfo3.digitaloceanspaces.com/wp-content/uploads/sites/22/2022/05/Public-Skate-1200x900-1.jpg
END:VEVENT
BEGIN:VEVENT
DTSTART;TZID=America/New_York:20251101T190000
DTEND;TZID=America/New_York:20251101T213000
DTSTAMP:20260424T110557
CREATED:20230127T221822Z
LAST-MODIFIED:20260124T172749Z
UID:20076-1762023600-1762032600@www.unitedskates.com
SUMMARY:Hip Hop Saturday Night
DESCRIPTION:CLICK OR TAP HERE TO PURCHASE TICKETS \nCLICK OR TAP HERE TO FILL OUT OUR WAIVER \nALL GUESTS ENTERING THE FACILITY MUST FILL OUT A WAIVER \n(Adults must enter the name of all children they are bringing to the facility on their waiver) \n$30 Drop off fee (Admission and Skate Rental Included) Applies to anyone under the age of 18 without a parent/guardian’s (age 21+) supervision for the entire skating session. \n\n\n\nAdmission $14 when purchased online in advanced\, $15 at the door \n\n\n $4.00 Spectator Admission for non-skating chaperones 18+ \n\n\n $6.00 Regular Skate Rental  \n$7.00 Rollerblade Rental \n 
URL:https://www.unitedskates.com/raleigh/event/hip-hop-saturday-night-2023-07-01-2024-02-24-2024-09-07-2024-12-21-2025-01-11/2025-11-01/
LOCATION:United Skates Of America Raleigh\, 2901 Trawick Rd.\, Raleigh\, NC\, 27604\, United States
CATEGORIES:Family Events,Public Skates
ATTACH;FMTTYPE=image/jpeg:https://unitedskates-assets.sfo3.digitaloceanspaces.com/wp-content/uploads/sites/22/2023/01/hip-hop-underground-Made-with-PosterMyWall-1.jpg
END:VEVENT
END:VCALENDAR