BEGIN:VCALENDAR
VERSION:2.0
PRODID:-//Rink 58 - Raleigh - ECPv6.15.20//NONSGML v1.0//EN
CALSCALE:GREGORIAN
METHOD:PUBLISH
X-WR-CALNAME:Rink 58 - Raleigh
X-ORIGINAL-URL:https://www.unitedskates.com/raleigh
X-WR-CALDESC:Events for Rink 58 - Raleigh
REFRESH-INTERVAL;VALUE=DURATION:PT1H
X-Robots-Tag:noindex
X-PUBLISHED-TTL:PT1H
BEGIN:VTIMEZONE
TZID:America/New_York
BEGIN:DAYLIGHT
TZOFFSETFROM:-0500
TZOFFSETTO:-0400
TZNAME:EDT
DTSTART:20240310T070000
END:DAYLIGHT
BEGIN:STANDARD
TZOFFSETFROM:-0400
TZOFFSETTO:-0500
TZNAME:EST
DTSTART:20241103T060000
END:STANDARD
BEGIN:DAYLIGHT
TZOFFSETFROM:-0500
TZOFFSETTO:-0400
TZNAME:EDT
DTSTART:20250309T070000
END:DAYLIGHT
BEGIN:STANDARD
TZOFFSETFROM:-0400
TZOFFSETTO:-0500
TZNAME:EST
DTSTART:20251102T060000
END:STANDARD
BEGIN:DAYLIGHT
TZOFFSETFROM:-0500
TZOFFSETTO:-0400
TZNAME:EDT
DTSTART:20260308T070000
END:DAYLIGHT
BEGIN:STANDARD
TZOFFSETFROM:-0400
TZOFFSETTO:-0500
TZNAME:EST
DTSTART:20261101T060000
END:STANDARD
END:VTIMEZONE
BEGIN:VEVENT
DTSTART;TZID=America/New_York:20250829T180000
DTEND;TZID=America/New_York:20250901T203000
DTSTAMP:20260424T094350
CREATED:20250808T183359Z
LAST-MODIFIED:20250808T183359Z
UID:21424-1756490400-1756758600@www.unitedskates.com
SUMMARY:Labor Day Weekend
DESCRIPTION:Labor Day Weekend Skate Pass – Just $59.99!\nCelebrate the holiday with an unbeatable deal on skating\, food\, and fun for the whole family! \nThis $154 value includes:🛼 4 Admissions🛼 4 Skate Rentals🎮 1 Game Card with $20 Credit🍕 1 Whole Cheese Pizza🥤 1 Bottomless Pitcher \nAll for only $59.99! \n📅 Valid August 29 – September 1📍 United Skates of America – Raleigh\, NC \nRestrictions apply. Not valid during Adult Only or Sip & Skates. \nGet Tickets Here
URL:https://www.unitedskates.com/raleigh/event/labor-day-weekend/
LOCATION:NC
CATEGORIES:Family Events,Public Skates,Special Events
ATTACH;FMTTYPE=image/jpeg:https://unitedskates-assets.sfo3.digitaloceanspaces.com/wp-content/uploads/sites/22/2025/08/58-Labor-Day-Weekend-Pass.jpg
END:VEVENT
BEGIN:VEVENT
DTSTART;TZID=America/New_York:20250831T160000
DTEND;TZID=America/New_York:20250831T183000
DTSTAMP:20260424T094350
CREATED:20230127T230717Z
LAST-MODIFIED:20250226T202240Z
UID:19679-1756656000-1756665000@www.unitedskates.com
SUMMARY:Retro Sunday Skate
DESCRIPTION:CLICK OR TAP HERE TO PURCHASE TICKETS \nCLICK OR TAP HERE TO FILL OUT OUR WAIVER \nALL GUESTS ENTERING THE FACILITY MUST FILL OUT A WAIVER \n(Adults must enter the name of all children they are bringing to the facility on their waiver) \nAdmission $13 when purchased online in advanced\, $14 at the door \n\n\n $4.00 Spectator Admission for non-skating chaperones 18+ \n\n\n $6.00 Regular Skate Rental  \n$7.00 Rollerblade Rental \n  \n\n\n\n 
URL:https://www.unitedskates.com/raleigh/event/retro-sunday-skate-2024-03-03-3-2024-03-24-2024-09-08-2024-12-22-2025-01-12/2025-08-31/
LOCATION:United Skates Of America Raleigh\, 2901 Trawick Rd.\, Raleigh\, NC\, 27604\, United States
CATEGORIES:Family Events,Public Skates
ATTACH;FMTTYPE=image/jpeg:https://unitedskates-assets.sfo3.digitaloceanspaces.com/wp-content/uploads/sites/22/2023/01/retro-skate-v1-1200x900-1.jpeg
END:VEVENT
BEGIN:VEVENT
DTSTART;TZID=America/New_York:20250831T190000
DTEND;TZID=America/New_York:20250831T223000
DTSTAMP:20260424T094350
CREATED:20240919T143517Z
LAST-MODIFIED:20251014T180425Z
UID:20601-1756666800-1756679400@www.unitedskates.com
SUMMARY:Flashback Sunday Adult Skate
DESCRIPTION:CLICK OR TAP HERE TO PURCHASE TICKETS \nCLICK OR TAP HERE TO FILL OUT OUR WAIVER \nALL GUESTS ENTERING THE FACILITY MUST FILL OUT A WAIVER \n$13.00 Admission \n$5.00 Regular Skate Rental \n$6.00 Rollerblade Rental \nAges 18+ with ID
URL:https://www.unitedskates.com/raleigh/event/flashback-sunday-adult-skate-2-2025-04-27/2025-08-31/
LOCATION:United Skates Of America Raleigh\, 2901 Trawick Rd.\, Raleigh\, NC\, 27604\, United States
CATEGORIES:Adult Events,Public Skates
ATTACH;FMTTYPE=image/png:https://unitedskates-assets.sfo3.digitaloceanspaces.com/wp-content/uploads/sites/22/2024/09/Flashback-sunday-new.png
END:VEVENT
END:VCALENDAR