BEGIN:VCALENDAR
VERSION:2.0
PRODID:-//Rink 58 - Raleigh - ECPv6.15.20//NONSGML v1.0//EN
CALSCALE:GREGORIAN
METHOD:PUBLISH
X-ORIGINAL-URL:https://www.unitedskates.com/raleigh
X-WR-CALDESC:Events for Rink 58 - Raleigh
REFRESH-INTERVAL;VALUE=DURATION:PT1H
X-Robots-Tag:noindex
X-PUBLISHED-TTL:PT1H
BEGIN:VTIMEZONE
TZID:America/New_York
BEGIN:DAYLIGHT
TZOFFSETFROM:-0500
TZOFFSETTO:-0400
TZNAME:EDT
DTSTART:20240310T070000
END:DAYLIGHT
BEGIN:STANDARD
TZOFFSETFROM:-0400
TZOFFSETTO:-0500
TZNAME:EST
DTSTART:20241103T060000
END:STANDARD
BEGIN:DAYLIGHT
TZOFFSETFROM:-0500
TZOFFSETTO:-0400
TZNAME:EDT
DTSTART:20250309T070000
END:DAYLIGHT
BEGIN:STANDARD
TZOFFSETFROM:-0400
TZOFFSETTO:-0500
TZNAME:EST
DTSTART:20251102T060000
END:STANDARD
BEGIN:DAYLIGHT
TZOFFSETFROM:-0500
TZOFFSETTO:-0400
TZNAME:EDT
DTSTART:20260308T070000
END:DAYLIGHT
BEGIN:STANDARD
TZOFFSETFROM:-0400
TZOFFSETTO:-0500
TZNAME:EST
DTSTART:20261101T060000
END:STANDARD
END:VTIMEZONE
BEGIN:VEVENT
DTSTART;TZID=America/New_York:20250725T100000
DTEND;TZID=America/New_York:20250725T123000
DTSTAMP:20260425T100331
CREATED:20250522T160937Z
LAST-MODIFIED:20250522T160937Z
UID:20854-1753437600-1753446600@www.unitedskates.com
SUMMARY:Public Skating
DESCRIPTION:ALL ADULT SKATERS AND SPECTATORS MUST FILL OUT A WAIVER BEFORE ENTERING THE BUILDING.\n(For faster check in\, please have your waiver filled out before arrival)\nCLICK OR TAP HERE TO FILL OUT OUR WAIVER \nPurchase your tickets online!!!!\nCLICK OR TAP HERE TO PURCHASE TICKETS \n  \n$13.00 Admission \n$4.00 Spectator Admission for non-skating chaperones 18+ \n$6.00 Regular Skate Rental \n$7.00 Rollerblade Rental \n$6.00 Skatemate Rental \nFeaturing Billboard Hot 100 music….
URL:https://www.unitedskates.com/raleigh/event/public-skating-9/2025-07-25/
LOCATION:United Skates Of America Raleigh\, 2901 Trawick Rd.\, Raleigh\, NC\, 27604\, United States
CATEGORIES:Family Events,Public Skates
ATTACH;FMTTYPE=image/jpeg:https://unitedskates-assets.sfo3.digitaloceanspaces.com/wp-content/uploads/sites/22/2023/05/Summer-Fun-Skate-1200x1200-1.jpg
END:VEVENT
BEGIN:VEVENT
DTSTART;TZID=America/New_York:20250725T130000
DTEND;TZID=America/New_York:20250725T153000
DTSTAMP:20260425T100331
CREATED:20250522T160937Z
LAST-MODIFIED:20250522T160937Z
UID:20855-1753448400-1753457400@www.unitedskates.com
SUMMARY:Public Skating
DESCRIPTION:ALL ADULT SKATERS AND SPECTATORS MUST FILL OUT A WAIVER BEFORE ENTERING THE BUILDING.\n(For faster check in\, please have your waiver filled out before arrival)\nCLICK OR TAP HERE TO FILL OUT OUR WAIVER \nPurchase your tickets online!!!!\nCLICK OR TAP HERE TO PURCHASE TICKETS \n  \n$13.00 Admission \n$4.00 Spectator Admission for non-skating chaperones 18+ \n$6.00 Regular Skate Rental \n$7.00 Rollerblade Rental \n$6.00 Skatemate Rental \nFeaturing Billboard Hot 100 music….
URL:https://www.unitedskates.com/raleigh/event/public-skating-9/2025-07-25/8/
LOCATION:United Skates Of America Raleigh\, 2901 Trawick Rd.\, Raleigh\, NC\, 27604\, United States
CATEGORIES:Family Events,Public Skates
ATTACH;FMTTYPE=image/jpeg:https://unitedskates-assets.sfo3.digitaloceanspaces.com/wp-content/uploads/sites/22/2023/05/Summer-Fun-Skate-1200x1200-1.jpg
END:VEVENT
BEGIN:VEVENT
DTSTART;TZID=America/New_York:20250725T210000
DTEND;TZID=America/New_York:20250725T233000
DTSTAMP:20260425T100331
CREATED:20250721T174528Z
LAST-MODIFIED:20250725T130604Z
UID:21289-1753477200-1753486200@www.unitedskates.com
SUMMARY:Hip Hop Late Skate
DESCRIPTION:This Friday night\, we’re turning up the heat 🔥 with a Hip Hop Late Skate from 9PM–11:30PM! \n🎶 Non-stop hip hop beats🛼 Late night skating vibes💰 $10 Admission👟 Skate Rental: $6 (regular) | $7 (rollerblades) \nGrab your crew and roll through—let’s make it a night to remember! No pre-sale\, just pay at the door and skate. 🎧🛼💃
URL:https://www.unitedskates.com/raleigh/event/hip-hop-late-skate/
LOCATION:United Skates Of America Raleigh\, 2901 Trawick Rd.\, Raleigh\, NC\, 27604\, United States
CATEGORIES:Family Events,Public Skates,Special Events
ATTACH;FMTTYPE=image/png:https://unitedskates-assets.sfo3.digitaloceanspaces.com/wp-content/uploads/sites/22/2025/07/Copy-of-Sober-Skate.png
END:VEVENT
END:VCALENDAR