BEGIN:VCALENDAR
VERSION:2.0
PRODID:-//Rink 58 - Raleigh - ECPv6.15.20//NONSGML v1.0//EN
CALSCALE:GREGORIAN
METHOD:PUBLISH
X-ORIGINAL-URL:https://www.unitedskates.com/raleigh
X-WR-CALDESC:Events for Rink 58 - Raleigh
REFRESH-INTERVAL;VALUE=DURATION:PT1H
X-Robots-Tag:noindex
X-PUBLISHED-TTL:PT1H
BEGIN:VTIMEZONE
TZID:America/New_York
BEGIN:DAYLIGHT
TZOFFSETFROM:-0500
TZOFFSETTO:-0400
TZNAME:EDT
DTSTART:20240310T070000
END:DAYLIGHT
BEGIN:STANDARD
TZOFFSETFROM:-0400
TZOFFSETTO:-0500
TZNAME:EST
DTSTART:20241103T060000
END:STANDARD
BEGIN:DAYLIGHT
TZOFFSETFROM:-0500
TZOFFSETTO:-0400
TZNAME:EDT
DTSTART:20250309T070000
END:DAYLIGHT
BEGIN:STANDARD
TZOFFSETFROM:-0400
TZOFFSETTO:-0500
TZNAME:EST
DTSTART:20251102T060000
END:STANDARD
BEGIN:DAYLIGHT
TZOFFSETFROM:-0500
TZOFFSETTO:-0400
TZNAME:EDT
DTSTART:20260308T070000
END:DAYLIGHT
BEGIN:STANDARD
TZOFFSETFROM:-0400
TZOFFSETTO:-0500
TZNAME:EST
DTSTART:20261101T060000
END:STANDARD
END:VTIMEZONE
BEGIN:VEVENT
DTSTART;VALUE=DATE:20250523
DTEND;VALUE=DATE:20250528
DTSTAMP:20260425T185256
CREATED:20250519T145016Z
LAST-MODIFIED:20250519T145016Z
UID:20790-1747976400-1748321999@www.unitedskates.com
SUMMARY:2025 Memorial Day Roller Skate Weekend
DESCRIPTION:Friday\, May 23\n6:00 PM – 8:30 PM🔹 Public Skate💵 $13 Online | $14 at the door \nSaturday\, May 24\n10:00 AM – 12:30 PM🔹 Kids Bop Skate💵 $14 Online | $15 at the door \n1:00 PM – 3:30 PM🔹 Public Skate💵 $14 Online | $15 at the door \n4:00 PM – 6:30 PM🔹 Public Skate💵 $14 Online | $15 at the door \n7:00 PM – 9:30 PM🔹 Hip Hop Saturday💵 $14 Online | $15 at the door \nSunday\, May 25\n1:00 PM – 3:30 PM🔹 Skate with Stitch💵 $13 Online | $14 at the door \n4:00 PM – 6:30 PM🔹 Retro Skate💵 $13 Online | $14 at the door \n7:00 PM – 10:30 PM🔹 Flashback Sunday💵 $13 Online | $13 at the door \nMonday\, May 26 (Memorial Day)\n10:00 AM – 12:00 PM🔹 Kids Bop Skate💵 $13 Online | $13 at the door \n12:30 PM – 2:30 PM🔹 Public Skate💵 $13 Online | $13 at the door \n3:00 PM – 5:00 PM🔹 Public Skate💵 $13 Online | $13 at the door \n6:00 PM – 8:30 PM🔹 $6 Monday Night Skate💵 $6 Online | $6 at the door
URL:https://www.unitedskates.com/raleigh/event/2025-memorial-day-roller-skate-weekend/
LOCATION:United Skates Of America Raleigh\, 2901 Trawick Rd.\, Raleigh\, NC\, 27604\, United States
CATEGORIES:Family Events,Public Skates,Special Events
ATTACH;FMTTYPE=image/png:https://unitedskates-assets.sfo3.digitaloceanspaces.com/wp-content/uploads/sites/22/2025/05/Screenshot-74.png
END:VEVENT
END:VCALENDAR