BEGIN:VCALENDAR
VERSION:2.0
PRODID:-//Rink 58 - Raleigh - ECPv6.15.20//NONSGML v1.0//EN
CALSCALE:GREGORIAN
METHOD:PUBLISH
X-ORIGINAL-URL:https://www.unitedskates.com/raleigh
X-WR-CALDESC:Events for Rink 58 - Raleigh
REFRESH-INTERVAL;VALUE=DURATION:PT1H
X-Robots-Tag:noindex
X-PUBLISHED-TTL:PT1H
BEGIN:VTIMEZONE
TZID:America/New_York
BEGIN:DAYLIGHT
TZOFFSETFROM:-0500
TZOFFSETTO:-0400
TZNAME:EDT
DTSTART:20240310T070000
END:DAYLIGHT
BEGIN:STANDARD
TZOFFSETFROM:-0400
TZOFFSETTO:-0500
TZNAME:EST
DTSTART:20241103T060000
END:STANDARD
BEGIN:DAYLIGHT
TZOFFSETFROM:-0500
TZOFFSETTO:-0400
TZNAME:EDT
DTSTART:20250309T070000
END:DAYLIGHT
BEGIN:STANDARD
TZOFFSETFROM:-0400
TZOFFSETTO:-0500
TZNAME:EST
DTSTART:20251102T060000
END:STANDARD
BEGIN:DAYLIGHT
TZOFFSETFROM:-0500
TZOFFSETTO:-0400
TZNAME:EDT
DTSTART:20260308T070000
END:DAYLIGHT
BEGIN:STANDARD
TZOFFSETFROM:-0400
TZOFFSETTO:-0500
TZNAME:EST
DTSTART:20261101T060000
END:STANDARD
BEGIN:DAYLIGHT
TZOFFSETFROM:-0500
TZOFFSETTO:-0400
TZNAME:EDT
DTSTART:20270314T070000
END:DAYLIGHT
BEGIN:STANDARD
TZOFFSETFROM:-0400
TZOFFSETTO:-0500
TZNAME:EST
DTSTART:20271107T060000
END:STANDARD
END:VTIMEZONE
BEGIN:VEVENT
DTSTART;VALUE=DATE:20251219
DTEND;VALUE=DATE:20260106
DTSTAMP:20260419T111516
CREATED:20251202T154447Z
LAST-MODIFIED:20251202T154447Z
UID:22285-1766120400-1767589199@www.unitedskates.com
SUMMARY:Winter Break Skate Schedule — School’s Out\, Time to Roll!
DESCRIPTION:School’s out and the fun begins! Join us every day of Winter Break for themed skate sessions\, great music\, family events\, and special holiday celebrations. \nFrom Christmas Eve Skate to New Year’s Eve Parties\, we’ve got something for everyone. \nGet your tickets early and roll into the holiday fun! \nGET TICKETS HERE
URL:https://www.unitedskates.com/raleigh/event/winter-break-skate-schedule-schools-out-time-to-roll/
LOCATION:NC
CATEGORIES:Family Events,Public Skates,Special Events
ATTACH;FMTTYPE=image/jpeg:https://unitedskates-assets.sfo3.digitaloceanspaces.com/wp-content/uploads/sites/22/2025/12/Rink-58-Winter-Break-2025-1.jpg
END:VEVENT
BEGIN:VEVENT
DTSTART;TZID=America/New_York:20251230T100000
DTEND;TZID=America/New_York:20251230T120000
DTSTAMP:20260419T111516
CREATED:20251023T182301Z
LAST-MODIFIED:20251023T182301Z
UID:22305-1767088800-1767096000@www.unitedskates.com
SUMMARY:Winter Break Kidz Bop Skate
DESCRIPTION:CLICK OR TAP HERE TO PURCHASE TICKETS \nCLICK OR TAP HERE TO FILL OUT OUR WAIVER \nSuper Clean Kidz Bop Music \nFree Skatemate with paid admission \nAdmission $13 Online/$15 @ the door \nRegular Skate Rental $6 \nRollerblade Rental $7 \nNon-Skating Adult Chaperone $4
URL:https://www.unitedskates.com/raleigh/event/winter-break-kidz-bop-skate/2025-12-30/
LOCATION:United Skates Of America Raleigh\, 2901 Trawick Rd.\, Raleigh\, NC\, 27604\, United States
CATEGORIES:Family Events,Public Skates,Special Events
ATTACH;FMTTYPE=image/jpeg:https://unitedskates-assets.sfo3.digitaloceanspaces.com/wp-content/uploads/sites/22/2025/10/WB-skate-2022-1200x1200-1.jpg
END:VEVENT
BEGIN:VEVENT
DTSTART;TZID=America/New_York:20251230T123000
DTEND;TZID=America/New_York:20251230T143000
DTSTAMP:20260419T111516
CREATED:20251023T182625Z
LAST-MODIFIED:20251023T182625Z
UID:22310-1767097800-1767105000@www.unitedskates.com
SUMMARY:Winter Break Public Skating
DESCRIPTION:CLICK OR TAP HERE TO PURCHASE TICKETS \nCLICK OR TAP HERE TO FILL OUT OUR WAIVER \nWinter Break Public Skating \nAdmission $13 Online/$15 @ the door \nRegular Skate Rental $6 \nRollerblade Rental $7 \nSkate Mate Rental $6 \nNon-skating adult admission $4
URL:https://www.unitedskates.com/raleigh/event/winter-break-public-skating-2/2025-12-30/
LOCATION:United Skates Of America Raleigh\, 2901 Trawick Rd.\, Raleigh\, NC\, 27604\, United States
CATEGORIES:Family Events,Public Skates,Special Events
ATTACH;FMTTYPE=image/jpeg:https://unitedskates-assets.sfo3.digitaloceanspaces.com/wp-content/uploads/sites/22/2025/10/WB-skate-2022-1200x1200-1.jpg
END:VEVENT
BEGIN:VEVENT
DTSTART;TZID=America/New_York:20251230T150000
DTEND;TZID=America/New_York:20251230T170000
DTSTAMP:20260419T111516
CREATED:20251023T183010Z
LAST-MODIFIED:20251023T183010Z
UID:22315-1767106800-1767114000@www.unitedskates.com
SUMMARY:Winter Break Public Skate
DESCRIPTION:CLICK OR TAP HERE TO PURCHASE TICKETS \nCLICK OR TAP HERE TO FILL OUT OUR WAIVER \nWinter Break Public Skate \nAdmission $13 Online/$15 @ the door \nRegular Skate Rental $6 \nRollerblade Rental $7 \nSkate Mate Rental $6 \nNon-Skating Adult Chaperone $4
URL:https://www.unitedskates.com/raleigh/event/winter-break-public-skate-3/2025-12-30/
LOCATION:United Skates Of America Raleigh\, 2901 Trawick Rd.\, Raleigh\, NC\, 27604\, United States
CATEGORIES:Family Events,Public Skates,Special Events
ATTACH;FMTTYPE=image/jpeg:https://unitedskates-assets.sfo3.digitaloceanspaces.com/wp-content/uploads/sites/22/2025/10/WB-skate-2022-1200x1200-1.jpg
END:VEVENT
BEGIN:VEVENT
DTSTART;TZID=America/New_York:20251230T180000
DTEND;TZID=America/New_York:20251230T210000
DTSTAMP:20260419T111516
CREATED:20230127T222613Z
LAST-MODIFIED:20251024T191101Z
UID:22093-1767117600-1767128400@www.unitedskates.com
SUMMARY:All You Can Eat with our Characters
DESCRIPTION:  \nCLICK OR TAP HERE TO FILL OUT OUR WAIVER \nALL GUESTS ENTERING THE FACILITY MUST FILL OUT A WAIVER \n(Adults must enter the name of all children they are bringing to the facility on their waiver) \nAdmission $20 Online/$25 @ the door \n\n\n\nIncludes Regular Skate Rental\, All You Can Eat Cheese Pizza and Drink.  \nSkatemate Rental – $6 \nEveryone must pay for admission. \nNon-skating adult admission $15 includes pizza and drink.  \n  \n\n\n\n 
URL:https://www.unitedskates.com/raleigh/event/thursday-adult-night-3-2024-02-29-2024-12-26-2025-12-23/
LOCATION:United Skates Of America Raleigh\, 2901 Trawick Rd.\, Raleigh\, NC\, 27604\, United States
CATEGORIES:Family Events,Public Skates,Special Events
ATTACH;FMTTYPE=image/png:https://unitedskates-assets.sfo3.digitaloceanspaces.com/wp-content/uploads/sites/22/2023/01/Screenshot-2024-08-23-at-2.53.13%E2%80%AFPM.png
END:VEVENT
END:VCALENDAR