BEGIN:VCALENDAR
VERSION:2.0
PRODID:-//Rink 58 - Raleigh - ECPv6.15.20//NONSGML v1.0//EN
CALSCALE:GREGORIAN
METHOD:PUBLISH
X-ORIGINAL-URL:https://www.unitedskates.com/raleigh
X-WR-CALDESC:Events for Rink 58 - Raleigh
REFRESH-INTERVAL;VALUE=DURATION:PT1H
X-Robots-Tag:noindex
X-PUBLISHED-TTL:PT1H
BEGIN:VTIMEZONE
TZID:America/New_York
BEGIN:DAYLIGHT
TZOFFSETFROM:-0500
TZOFFSETTO:-0400
TZNAME:EDT
DTSTART:20240310T070000
END:DAYLIGHT
BEGIN:STANDARD
TZOFFSETFROM:-0400
TZOFFSETTO:-0500
TZNAME:EST
DTSTART:20241103T060000
END:STANDARD
BEGIN:DAYLIGHT
TZOFFSETFROM:-0500
TZOFFSETTO:-0400
TZNAME:EDT
DTSTART:20250309T070000
END:DAYLIGHT
BEGIN:STANDARD
TZOFFSETFROM:-0400
TZOFFSETTO:-0500
TZNAME:EST
DTSTART:20251102T060000
END:STANDARD
BEGIN:DAYLIGHT
TZOFFSETFROM:-0500
TZOFFSETTO:-0400
TZNAME:EDT
DTSTART:20260308T070000
END:DAYLIGHT
BEGIN:STANDARD
TZOFFSETFROM:-0400
TZOFFSETTO:-0500
TZNAME:EST
DTSTART:20261101T060000
END:STANDARD
BEGIN:DAYLIGHT
TZOFFSETFROM:-0500
TZOFFSETTO:-0400
TZNAME:EDT
DTSTART:20270314T070000
END:DAYLIGHT
BEGIN:STANDARD
TZOFFSETFROM:-0400
TZOFFSETTO:-0500
TZNAME:EST
DTSTART:20271107T060000
END:STANDARD
END:VTIMEZONE
BEGIN:VEVENT
DTSTART;VALUE=DATE:20251219
DTEND;VALUE=DATE:20260106
DTSTAMP:20260419T093906
CREATED:20251202T154447Z
LAST-MODIFIED:20251202T154447Z
UID:22285-1766120400-1767589199@www.unitedskates.com
SUMMARY:Winter Break Skate Schedule — School’s Out\, Time to Roll!
DESCRIPTION:School’s out and the fun begins! Join us every day of Winter Break for themed skate sessions\, great music\, family events\, and special holiday celebrations. \nFrom Christmas Eve Skate to New Year’s Eve Parties\, we’ve got something for everyone. \nGet your tickets early and roll into the holiday fun! \nGET TICKETS HERE
URL:https://www.unitedskates.com/raleigh/event/winter-break-skate-schedule-schools-out-time-to-roll/
LOCATION:NC
CATEGORIES:Family Events,Public Skates,Special Events
ATTACH;FMTTYPE=image/jpeg:https://unitedskates-assets.sfo3.digitaloceanspaces.com/wp-content/uploads/sites/22/2025/12/Rink-58-Winter-Break-2025-1.jpg
END:VEVENT
BEGIN:VEVENT
DTSTART;TZID=America/New_York:20251223T100000
DTEND;TZID=America/New_York:20251223T120000
DTSTAMP:20260419T093906
CREATED:20251023T182301Z
LAST-MODIFIED:20251023T182301Z
UID:22302-1766484000-1766491200@www.unitedskates.com
SUMMARY:Winter Break Kidz Bop Skate
DESCRIPTION:CLICK OR TAP HERE TO PURCHASE TICKETS \nCLICK OR TAP HERE TO FILL OUT OUR WAIVER \nSuper Clean Kidz Bop Music \nFree Skatemate with paid admission \nAdmission $13 Online/$15 @ the door \nRegular Skate Rental $6 \nRollerblade Rental $7 \nNon-Skating Adult Chaperone $4
URL:https://www.unitedskates.com/raleigh/event/winter-break-kidz-bop-skate/2025-12-23/
LOCATION:United Skates Of America Raleigh\, 2901 Trawick Rd.\, Raleigh\, NC\, 27604\, United States
CATEGORIES:Family Events,Public Skates,Special Events
ATTACH;FMTTYPE=image/jpeg:https://unitedskates-assets.sfo3.digitaloceanspaces.com/wp-content/uploads/sites/22/2025/10/WB-skate-2022-1200x1200-1.jpg
END:VEVENT
BEGIN:VEVENT
DTSTART;TZID=America/New_York:20251223T123000
DTEND;TZID=America/New_York:20251223T143000
DTSTAMP:20260419T093906
CREATED:20251023T182625Z
LAST-MODIFIED:20251023T182625Z
UID:22307-1766493000-1766500200@www.unitedskates.com
SUMMARY:Winter Break Public Skating
DESCRIPTION:CLICK OR TAP HERE TO PURCHASE TICKETS \nCLICK OR TAP HERE TO FILL OUT OUR WAIVER \nWinter Break Public Skating \nAdmission $13 Online/$15 @ the door \nRegular Skate Rental $6 \nRollerblade Rental $7 \nSkate Mate Rental $6 \nNon-skating adult admission $4
URL:https://www.unitedskates.com/raleigh/event/winter-break-public-skating-2/2025-12-23/
LOCATION:United Skates Of America Raleigh\, 2901 Trawick Rd.\, Raleigh\, NC\, 27604\, United States
CATEGORIES:Family Events,Public Skates,Special Events
ATTACH;FMTTYPE=image/jpeg:https://unitedskates-assets.sfo3.digitaloceanspaces.com/wp-content/uploads/sites/22/2025/10/WB-skate-2022-1200x1200-1.jpg
END:VEVENT
BEGIN:VEVENT
DTSTART;TZID=America/New_York:20251223T150000
DTEND;TZID=America/New_York:20251223T170000
DTSTAMP:20260419T093906
CREATED:20251023T183010Z
LAST-MODIFIED:20251023T183010Z
UID:22312-1766502000-1766509200@www.unitedskates.com
SUMMARY:Winter Break Public Skate
DESCRIPTION:CLICK OR TAP HERE TO PURCHASE TICKETS \nCLICK OR TAP HERE TO FILL OUT OUR WAIVER \nWinter Break Public Skate \nAdmission $13 Online/$15 @ the door \nRegular Skate Rental $6 \nRollerblade Rental $7 \nSkate Mate Rental $6 \nNon-Skating Adult Chaperone $4
URL:https://www.unitedskates.com/raleigh/event/winter-break-public-skate-3/2025-12-23/
LOCATION:United Skates Of America Raleigh\, 2901 Trawick Rd.\, Raleigh\, NC\, 27604\, United States
CATEGORIES:Family Events,Public Skates,Special Events
ATTACH;FMTTYPE=image/jpeg:https://unitedskates-assets.sfo3.digitaloceanspaces.com/wp-content/uploads/sites/22/2025/10/WB-skate-2022-1200x1200-1.jpg
END:VEVENT
BEGIN:VEVENT
DTSTART;TZID=America/New_York:20251223T180000
DTEND;TZID=America/New_York:20251223T203000
DTSTAMP:20260419T093906
CREATED:20251024T192836Z
LAST-MODIFIED:20251028T191928Z
UID:22145-1766512800-1766521800@www.unitedskates.com
SUMMARY:Nightmare Before Christmas Pizza Skate
DESCRIPTION:CLICK OR TAP HERE TO PURCHASE TICKETS \nCLICK OR TAP HERE TO FILL OUT OUR WAIVER \nNightmare Before Christmas Pizza Skate \nAdmission $15 Online/$17 @ the door \nIncludes skate rental\, a slice of cheese pizza and a small drink. \nNon-skating adult admission $4 \nSkate Mate Rental $6 \nUnited Skates has a Clear Bag Policy \nAll Adults must fill out a waiver before entering the building
URL:https://www.unitedskates.com/raleigh/event/nightmare-before-christmas-pizza-skate/
LOCATION:United Skates Of America Raleigh\, 2901 Trawick Rd.\, Raleigh\, NC\, 27604\, United States
CATEGORIES:Family Events,Public Skates,Special Events
ATTACH;FMTTYPE=image/jpeg:https://unitedskates-assets.sfo3.digitaloceanspaces.com/wp-content/uploads/sites/22/2025/10/Copy-of-Nightmare-Before-Christmas-Skate-8.5-x-11-in.jpg
END:VEVENT
END:VCALENDAR