BEGIN:VCALENDAR
VERSION:2.0
PRODID:-//Rink 58 - Raleigh - ECPv6.15.20//NONSGML v1.0//EN
CALSCALE:GREGORIAN
METHOD:PUBLISH
X-WR-CALNAME:Rink 58 - Raleigh
X-ORIGINAL-URL:https://www.unitedskates.com/raleigh
X-WR-CALDESC:Events for Rink 58 - Raleigh
REFRESH-INTERVAL;VALUE=DURATION:PT1H
X-Robots-Tag:noindex
X-PUBLISHED-TTL:PT1H
BEGIN:VTIMEZONE
TZID:America/New_York
BEGIN:DAYLIGHT
TZOFFSETFROM:-0500
TZOFFSETTO:-0400
TZNAME:EDT
DTSTART:20240310T070000
END:DAYLIGHT
BEGIN:STANDARD
TZOFFSETFROM:-0400
TZOFFSETTO:-0500
TZNAME:EST
DTSTART:20241103T060000
END:STANDARD
BEGIN:DAYLIGHT
TZOFFSETFROM:-0500
TZOFFSETTO:-0400
TZNAME:EDT
DTSTART:20250309T070000
END:DAYLIGHT
BEGIN:STANDARD
TZOFFSETFROM:-0400
TZOFFSETTO:-0500
TZNAME:EST
DTSTART:20251102T060000
END:STANDARD
BEGIN:DAYLIGHT
TZOFFSETFROM:-0500
TZOFFSETTO:-0400
TZNAME:EDT
DTSTART:20260308T070000
END:DAYLIGHT
BEGIN:STANDARD
TZOFFSETFROM:-0400
TZOFFSETTO:-0500
TZNAME:EST
DTSTART:20261101T060000
END:STANDARD
END:VTIMEZONE
BEGIN:VEVENT
DTSTART;TZID=America/New_York:20250328T180000
DTEND;TZID=America/New_York:20250406T223000
DTSTAMP:20260425T230340
CREATED:20250306T132354Z
LAST-MODIFIED:20250306T132354Z
UID:19773-1743184800-1743978600@www.unitedskates.com
SUMMARY:🌟 School is Out! Time to Roll Into Spring Break Fun! 🌟
DESCRIPTION:Get ready for non-stop excitement this Spring Break at United Skates Raleigh! \nWe’ve packed the schedule with EPIC roller skating sessions\, glow skate parties\, themed events\, and more to keep the fun rolling all break long! \n🎶 Live DJ Sessions – Skate to the hottest beats all week!🎨 Themed Skates & Glow Parties – Dress up\, light up\, and roll into the fun!🍕 Delicious Café Specials – Enjoy amazing deals on pizza\, snacks\, and drinks!🎉 Special Spring Break Activities – Games\, prizes\, and unforgettable experiences await! \nDon’t miss out! Grab your friends\, lace up your skates\, and make this Spring Break one to remember! \n📍 Location: 2901 Trawick Rd. Raleigh\, NC📅 Spring Break Fun Starts March 28!
URL:https://www.unitedskates.com/raleigh/event/%f0%9f%8c%9f-school-is-out-time-to-roll-into-spring-break-fun-%f0%9f%8c%9f/
LOCATION:NC
CATEGORIES:Family Events,Public Skates,Special Events
ATTACH;FMTTYPE=image/jpeg:https://unitedskates-assets.sfo3.digitaloceanspaces.com/wp-content/uploads/sites/22/2025/03/Spring-Break-2025-Calendar-Front-rink-58.jpg
END:VEVENT
BEGIN:VEVENT
DTSTART;TZID=America/New_York:20250331T133000
DTEND;TZID=America/New_York:20250331T173000
DTSTAMP:20260425T230340
CREATED:20250226T195245Z
LAST-MODIFIED:20250226T195245Z
UID:19634-1743427800-1743442200@www.unitedskates.com
SUMMARY:Spring Break Skate
DESCRIPTION:ALL ADULT SKATERS AND SPECTATORS MUST FILL OUT A WAIVER BEFORE ENTERING THE BUILDING.\n(For faster check in\, please have your waiver filled out before arrival)\nCLICK OR TAP HERE TO FILL OUT OUR WAIVER \nPurchase your tickets online and save!!!!\n(Tickets purchased online save $1 per admission and have a priority check in line)\nCLICK OR TAP HERE TO PURCHASE TICKETS \n  \nSpring Break Skate \nAdmission $13 when purchased online in advanced\, $14 at the door \nRegular Skate Rental $6 \nRollerblade Rental $7 \nSkatemate Rental $6
URL:https://www.unitedskates.com/raleigh/event/spring-break-skate/
LOCATION:United Skates Of America Raleigh\, 2901 Trawick Rd.\, Raleigh\, NC\, 27604\, United States
CATEGORIES:Family Events,Public Skates,Special Events
ATTACH;FMTTYPE=image/png:https://unitedskates-assets.sfo3.digitaloceanspaces.com/wp-content/uploads/sites/22/2025/02/Screenshot-26.png
END:VEVENT
END:VCALENDAR