BEGIN:VCALENDAR
VERSION:2.0
PRODID:-//Rink 58 - Raleigh - ECPv6.15.20//NONSGML v1.0//EN
CALSCALE:GREGORIAN
METHOD:PUBLISH
X-ORIGINAL-URL:https://www.unitedskates.com/raleigh
X-WR-CALDESC:Events for Rink 58 - Raleigh
REFRESH-INTERVAL;VALUE=DURATION:PT1H
X-Robots-Tag:noindex
X-PUBLISHED-TTL:PT1H
BEGIN:VTIMEZONE
TZID:America/New_York
BEGIN:DAYLIGHT
TZOFFSETFROM:-0500
TZOFFSETTO:-0400
TZNAME:EDT
DTSTART:20240310T070000
END:DAYLIGHT
BEGIN:STANDARD
TZOFFSETFROM:-0400
TZOFFSETTO:-0500
TZNAME:EST
DTSTART:20241103T060000
END:STANDARD
BEGIN:DAYLIGHT
TZOFFSETFROM:-0500
TZOFFSETTO:-0400
TZNAME:EDT
DTSTART:20250309T070000
END:DAYLIGHT
BEGIN:STANDARD
TZOFFSETFROM:-0400
TZOFFSETTO:-0500
TZNAME:EST
DTSTART:20251102T060000
END:STANDARD
BEGIN:DAYLIGHT
TZOFFSETFROM:-0500
TZOFFSETTO:-0400
TZNAME:EDT
DTSTART:20260308T070000
END:DAYLIGHT
BEGIN:STANDARD
TZOFFSETFROM:-0400
TZOFFSETTO:-0500
TZNAME:EST
DTSTART:20261101T060000
END:STANDARD
END:VTIMEZONE
BEGIN:VEVENT
DTSTART;TZID=America/New_York:20250328T180000
DTEND;TZID=America/New_York:20250406T223000
DTSTAMP:20260426T000841
CREATED:20250306T132354Z
LAST-MODIFIED:20250306T132354Z
UID:19773-1743184800-1743978600@www.unitedskates.com
SUMMARY:🌟 School is Out! Time to Roll Into Spring Break Fun! 🌟
DESCRIPTION:Get ready for non-stop excitement this Spring Break at United Skates Raleigh! \nWe’ve packed the schedule with EPIC roller skating sessions\, glow skate parties\, themed events\, and more to keep the fun rolling all break long! \n🎶 Live DJ Sessions – Skate to the hottest beats all week!🎨 Themed Skates & Glow Parties – Dress up\, light up\, and roll into the fun!🍕 Delicious Café Specials – Enjoy amazing deals on pizza\, snacks\, and drinks!🎉 Special Spring Break Activities – Games\, prizes\, and unforgettable experiences await! \nDon’t miss out! Grab your friends\, lace up your skates\, and make this Spring Break one to remember! \n📍 Location: 2901 Trawick Rd. Raleigh\, NC📅 Spring Break Fun Starts March 28!
URL:https://www.unitedskates.com/raleigh/event/%f0%9f%8c%9f-school-is-out-time-to-roll-into-spring-break-fun-%f0%9f%8c%9f/
LOCATION:NC
CATEGORIES:Family Events,Public Skates,Special Events
ATTACH;FMTTYPE=image/jpeg:https://unitedskates-assets.sfo3.digitaloceanspaces.com/wp-content/uploads/sites/22/2025/03/Spring-Break-2025-Calendar-Front-rink-58.jpg
END:VEVENT
BEGIN:VEVENT
DTSTART;TZID=America/New_York:20250401T180000
DTEND;TZID=America/New_York:20250401T203000
DTSTAMP:20260426T000841
CREATED:20250226T210258Z
LAST-MODIFIED:20250226T210258Z
UID:19763-1743530400-1743539400@www.unitedskates.com
SUMMARY:All You Can Eat Character Extravaganza
DESCRIPTION:CLICK OR TAP HERE TO PURCHASE TICKETS \nCLICK OR TAP HERE TO FILL OUT OUR WAIVER \nALL GUESTS ENTERING THE FACILITY MUST FILL OUT A WAIVER \n(Adults must enter the name of all children they are bringing to the facility on their waiver) \n$20.00 Admission \nIncludes Regular Skate Rental\, All You Can Eat Cheese Pizza and Drink. \nRollerblade Rental $1 \nSkatemate Rental – $6 \nEveryone must pay for admission.
URL:https://www.unitedskates.com/raleigh/event/all-you-can-eat-character-extravaganza/
LOCATION:United Skates Of America Raleigh\, 2901 Trawick Rd.\, Raleigh\, NC\, 27604\, United States
CATEGORIES:Family Events,Public Skates,Special Events
ATTACH;FMTTYPE=image/png:https://unitedskates-assets.sfo3.digitaloceanspaces.com/wp-content/uploads/sites/22/2023/01/Screenshot-2024-08-23-at-2.53.13%E2%80%AFPM.png
END:VEVENT
BEGIN:VEVENT
DTSTART;TZID=America/New_York:20250402T133000
DTEND;TZID=America/New_York:20250402T173000
DTSTAMP:20260426T000841
CREATED:20250226T195245Z
LAST-MODIFIED:20250327T152059Z
UID:19637-1743600600-1743615000@www.unitedskates.com
SUMMARY:Spring Break Skate
DESCRIPTION:ALL ADULT SKATERS AND SPECTATORS MUST FILL OUT A WAIVER BEFORE ENTERING THE BUILDING.\n(For faster check in\, please have your waiver filled out before arrival)\nCLICK OR TAP HERE TO FILL OUT OUR WAIVER \nPurchase your tickets online and save!!!!\n(Tickets purchased online save $1 per admission and have a priority check in line)\nCLICK OR TAP HERE TO PURCHASE TICKETS \n  \nSpring Break Skate \nAdmission $13 when purchased online in advanced\, $14 at the door \nRegular Skate Rental $6 \nRollerblade Rental $7 \nSkatemate Rental $6
URL:https://www.unitedskates.com/raleigh/event/spring-break-skate-2025-04-02/2025-04-02/
LOCATION:United Skates Of America Raleigh\, 2901 Trawick Rd.\, Raleigh\, NC\, 27604\, United States
CATEGORIES:Family Events,Public Skates,Special Events
ATTACH;FMTTYPE=image/png:https://unitedskates-assets.sfo3.digitaloceanspaces.com/wp-content/uploads/sites/22/2025/02/Screenshot-26.png
END:VEVENT
BEGIN:VEVENT
DTSTART;TZID=America/New_York:20250403T100000
DTEND;TZID=America/New_York:20250403T130000
DTSTAMP:20260426T000841
CREATED:20250226T195245Z
LAST-MODIFIED:20250410T190713Z
UID:19638-1743674400-1743685200@www.unitedskates.com
SUMMARY:Kidz Pop Skate
DESCRIPTION:ALL ADULT SKATERS AND SPECTATORS MUST FILL OUT A WAIVER BEFORE ENTERING THE BUILDING.\n(For faster check in\, please have your waiver filled out before arrival)\nCLICK OR TAP HERE TO FILL OUT OUR WAIVER \nPurchase your tickets online and save!!!!\n(Tickets purchased online save $1 per admission and have a priority check in line)\nCLICK OR TAP HERE TO PURCHASE TICKETS \n  \nKidz Bop Skate \nAdmission $13 when purchased online in advanced\, $14 at the door \nRegular Skate Rental $6 \nRollerblade Rental $7 \nNon-skating Spectator Admission $4 \nFree Skatemate with Paid Admission
URL:https://www.unitedskates.com/raleigh/event/spring-break-skate-2025-04-03/
LOCATION:United Skates Of America Raleigh\, 2901 Trawick Rd.\, Raleigh\, NC\, 27604\, United States
CATEGORIES:Family Events,Public Skates,Special Events
ATTACH;FMTTYPE=image/png:https://unitedskates-assets.sfo3.digitaloceanspaces.com/wp-content/uploads/sites/22/2025/02/Screenshot-33.png
END:VEVENT
BEGIN:VEVENT
DTSTART;TZID=America/New_York:20250406T130000
DTEND;TZID=America/New_York:20250406T153000
DTSTAMP:20260426T000841
CREATED:20230127T230717Z
LAST-MODIFIED:20260204T171642Z
UID:19412-1743944400-1743953400@www.unitedskates.com
SUMMARY:Stitch Skate
DESCRIPTION:CLICK OR TAP HERE TO PURCHASE TICKETS \nCLICK OR TAP HERE TO FILL OUT OUR WAIVER \nALL GUESTS ENTERING THE FACILITY MUST FILL OUT A WAIVER \n(Adults must enter the name of all children they are bringing to the facility on their waiver) \nAdmission $13 online and $14 at the door \nSkate Rental $6 \nRollerblade Rental $7 \nSkatemate Rental $6 \n\n\n\nNon-skating Spectator fee $4
URL:https://www.unitedskates.com/raleigh/event/retro-sunday-skate-2024-03-03-2024-10-27-2024-12-22-2025-01-26-2025-04-06/2025-04-06/
LOCATION:United Skates Of America Raleigh\, 2901 Trawick Rd.\, Raleigh\, NC\, 27604\, United States
CATEGORIES:Family Events,Public Skates,Special Events
ATTACH;FMTTYPE=image/jpeg:https://unitedskates-assets.sfo3.digitaloceanspaces.com/wp-content/uploads/sites/22/2023/01/Copy-of-Adult-Skate-Lessons.jpg
END:VEVENT
BEGIN:VEVENT
DTSTART;TZID=America/New_York:20250413T130000
DTEND;TZID=America/New_York:20250413T153000
DTSTAMP:20260426T000841
CREATED:20250327T172311Z
LAST-MODIFIED:20250410T215108Z
UID:19806-1744549200-1744558200@www.unitedskates.com
SUMMARY:Sonic Skate
DESCRIPTION:Skate with United Skates and Meet SONIC!!! \nCLICK OR TAP HERE TO PURCHASE TICKETS \nCLICK OR TAP HERE TO FILL OUT OUR WAIVER \nALL GUESTS ENTERING THE FACILITY MUST FILL OUT A WAIVER \n(Adults must enter the name of all children they are bringing to the facility on their waiver) \nAdmission $13 when purchased online in advance\, $14 at the door \nSkate Rental $6 \nRollerblade Rental $7 \nSkatemate Rental $6 \n\n\n \nNon-skating Spectator fee $4
URL:https://www.unitedskates.com/raleigh/event/sonic-skate/
LOCATION:United Skates Of America Raleigh\, 2901 Trawick Rd.\, Raleigh\, NC\, 27604\, United States
CATEGORIES:Family Events,Public Skates,Special Events
ATTACH;FMTTYPE=image/jpeg:https://unitedskates-assets.sfo3.digitaloceanspaces.com/wp-content/uploads/sites/22/2025/03/Sonic-Birthday-Template-Made-with-PosterMyWall-1.jpg
END:VEVENT
BEGIN:VEVENT
DTSTART;TZID=America/New_York:20250418T100000
DTEND;TZID=America/New_York:20250418T150000
DTSTAMP:20260426T000841
CREATED:20250226T202943Z
LAST-MODIFIED:20250410T212726Z
UID:19737-1744970400-1744988400@www.unitedskates.com
SUMMARY:Good Friday Skate
DESCRIPTION:ALL ADULT SKATERS AND SPECTATORS MUST FILL OUT A WAIVER BEFORE ENTERING THE BUILDING.\n(For faster check in\, please have your waiver filled out before arrival)\nCLICK OR TAP HERE TO FILL OUT OUR WAIVER \nPurchase your tickets online!!!!\nCLICK OR TAP HERE TO PURCHASE TICKETS \n  \n$6.00 Admission \n$6.00 Regular Skate Rental \n$7.00 Rollerblade Rental \n$6.00 Skatemate Rental \nFeaturing Billboard Hot 100 music….
URL:https://www.unitedskates.com/raleigh/event/good-friday-skate/
LOCATION:United Skates Of America Raleigh\, 2901 Trawick Rd.\, Raleigh\, NC\, 27604\, United States
CATEGORIES:Family Events,Public Skates,Special Events
ATTACH;FMTTYPE=image/jpeg:https://unitedskates-assets.sfo3.digitaloceanspaces.com/wp-content/uploads/sites/22/2025/02/good-friday-Made-with-PosterMyWall.jpg
END:VEVENT
BEGIN:VEVENT
DTSTART;TZID=America/New_York:20250418T180000
DTEND;TZID=America/New_York:20250418T203000
DTSTAMP:20260426T000841
CREATED:20240924T183545Z
LAST-MODIFIED:20250418T175944Z
UID:19368-1744999200-1745008200@www.unitedskates.com
SUMMARY:Glow Bunny Jam Skate
DESCRIPTION:CLICK OR TAP HERE TO PURCHASE TICKETS \nCLICK OR TAP HERE TO FILL OUT OUR WAIVER \nALL GUESTS ENTERING THE FACILITY MUST FILL OUT A WAIVER \n(Adults must enter the name of all children they are bringing to the facility on their waiver) \nAdmission $22 \nIncludes regular skate rental\, a glow necklace\, Easter egg grab\, and visit from the Easter Bunny \nRollerblade Rental $1 \nSkatemate Rental $6 \nNon-skating Spectator $4
URL:https://www.unitedskates.com/raleigh/event/friday-night-glow-skate-2024-12-27-2025-01-03-2025-04-18/
LOCATION:United Skates Of America Raleigh\, 2901 Trawick Rd.\, Raleigh\, NC\, 27604\, United States
CATEGORIES:Family Events,Public Skates,Special Events
ATTACH;FMTTYPE=image/png:https://unitedskates-assets.sfo3.digitaloceanspaces.com/wp-content/uploads/sites/22/2024/09/Screenshot-28.png
END:VEVENT
BEGIN:VEVENT
DTSTART;TZID=America/New_York:20250418T210000
DTEND;TZID=America/New_York:20250419T000000
DTSTAMP:20260426T000841
CREATED:20250226T205140Z
LAST-MODIFIED:20250418T140606Z
UID:19761-1745010000-1745020800@www.unitedskates.com
SUMMARY:Gospel Night
DESCRIPTION:CLICK OR TAP HERE TO PURCHASE TICKETS \nCLICK OR TAP HERE TO FILL OUT OUR WAIVER \nALL GUESTS ENTERING THE FACILITY MUST FILL OUT A WAIVER \n(Adults must enter the name of all children they are bringing to the facility on their waiver) \nCome skate to the best in Christian Hip Hop \nAdmission $10 when purchased online in advanced\, $11 at the door \nRegular Skate Rental $6 \nRollerblade Rental $7 \nAdult Spectator Admission $4
URL:https://www.unitedskates.com/raleigh/event/gospel-night-5/
LOCATION:United Skates Of America Raleigh\, 2901 Trawick Rd.\, Raleigh\, NC\, 27604\, United States
CATEGORIES:Family Events,Public Skates,Special Events
ATTACH;FMTTYPE=image/png:https://unitedskates-assets.sfo3.digitaloceanspaces.com/wp-content/uploads/sites/22/2024/07/Screenshot-2024-08-23-at-9.31.53%E2%80%AFAM.png
END:VEVENT
BEGIN:VEVENT
DTSTART;TZID=America/New_York:20250419T100000
DTEND;TZID=America/New_York:20250419T123000
DTSTAMP:20260426T000841
CREATED:20240924T184130Z
LAST-MODIFIED:20250418T180140Z
UID:19480-1745056800-1745065800@www.unitedskates.com
SUMMARY:Roller Skate with The Easter Bunny
DESCRIPTION:ALL ADULT SKATERS AND SPECTATORS MUST FILL OUT A WAIVER BEFORE ENTERING THE BUILDING.\n(For faster check in\, please have your waiver filled out before arrival)\nCLICK OR TAP HERE TO FILL OUT OUR WAIVER \nPurchase your tickets online and save!!!!\n(Tickets purchased online save $1 per admission and have a priority check in line)\nCLICK OR TAP HERE TO PURCHASE TICKETS \n  \nKidz Bop and Disney Super Clean music \nAdmission $22 \nIncludes Regular Skate Rental\, a free Skatemate\, 1 free Adult Spectator\, Easter Egg Grab\, and a visit from The Easter Bunny \nRollerblade Rental $1 \nNon-skating Adult Spectator $4
URL:https://www.unitedskates.com/raleigh/event/kidz-bop-skate-2024-12-21-2025-01-11-2025-01-18-2025-04-19/
LOCATION:United Skates Of America Raleigh\, 2901 Trawick Rd.\, Raleigh\, NC\, 27604\, United States
CATEGORIES:Family Events,Public Skates,Special Events
ATTACH;FMTTYPE=image/png:https://unitedskates-assets.sfo3.digitaloceanspaces.com/wp-content/uploads/sites/22/2024/09/Screenshot-29.png
END:VEVENT
BEGIN:VEVENT
DTSTART;TZID=America/New_York:20250420T130000
DTEND;TZID=America/New_York:20250420T153000
DTSTAMP:20260426T000841
CREATED:20230127T230717Z
LAST-MODIFIED:20250226T204309Z
UID:19414-1745154000-1745163000@www.unitedskates.com
SUMMARY:Easter Sunday Skate
DESCRIPTION:CLICK OR TAP HERE TO PURCHASE TICKETS \nCLICK OR TAP HERE TO FILL OUT OUR WAIVER \nALL GUESTS ENTERING THE FACILITY MUST FILL OUT A WAIVER \n(Adults must enter the name of all children they are bringing to the facility on their waiver) \nAdmission $6 \nSkate Rental $6 \nRollerblade Rental $7 \nSkatemate Rental $6 \n\n\n\nNon-skating Spectator fee $4
URL:https://www.unitedskates.com/raleigh/event/retro-sunday-skate-2024-03-03-2024-10-27-2024-12-22-2025-01-26-2025-04-20/
LOCATION:United Skates Of America Raleigh\, 2901 Trawick Rd.\, Raleigh\, NC\, 27604\, United States
CATEGORIES:Family Events,Public Skates,Special Events
ATTACH;FMTTYPE=image/png:https://unitedskates-assets.sfo3.digitaloceanspaces.com/wp-content/uploads/sites/22/2023/01/Screenshot-27.png
END:VEVENT
BEGIN:VEVENT
DTSTART;TZID=America/New_York:20250420T160000
DTEND;TZID=America/New_York:20250420T183000
DTSTAMP:20260426T000841
CREATED:20230127T230717Z
LAST-MODIFIED:20250226T204849Z
UID:19660-1745164800-1745173800@www.unitedskates.com
SUMMARY:Easter Sunday Skate
DESCRIPTION:CLICK OR TAP HERE TO PURCHASE TICKETS \nCLICK OR TAP HERE TO FILL OUT OUR WAIVER \nALL GUESTS ENTERING THE FACILITY MUST FILL OUT A WAIVER \n(Adults must enter the name of all children they are bringing to the facility on their waiver) \nAdmission $6 \n\n\n $4.00 Spectator Admission for non-skating chaperones 18+ \n\n\n $6.00 Regular Skate Rental  \n$7.00 Rollerblade Rental \n  \n\n\n\n 
URL:https://www.unitedskates.com/raleigh/event/retro-sunday-skate-2024-03-03-3-2024-03-24-2024-09-08-2024-12-22-2025-01-12-2025-04-20/
LOCATION:United Skates Of America Raleigh\, 2901 Trawick Rd.\, Raleigh\, NC\, 27604\, United States
CATEGORIES:Family Events,Public Skates,Special Events
ATTACH;FMTTYPE=image/png:https://unitedskates-assets.sfo3.digitaloceanspaces.com/wp-content/uploads/sites/22/2023/01/Screenshot-27.png
END:VEVENT
BEGIN:VEVENT
DTSTART;TZID=America/New_York:20250427T130000
DTEND;TZID=America/New_York:20250427T153000
DTSTAMP:20260426T000841
CREATED:20250327T173803Z
LAST-MODIFIED:20260128T183525Z
UID:19819-1745758800-1745767800@www.unitedskates.com
SUMMARY:Minions Skate
DESCRIPTION:CLICK OR TAP HERE TO PURCHASE TICKETS \nCLICK OR TAP HERE TO FILL OUT OUR WAIVER \nALL GUESTS ENTERING THE FACILITY MUST FILL OUT A WAIVER \n(Adults must enter the name of all children they are bringing to the facility on their waiver) \nAdmission $13 when purchased online in advance\, $15 at the door \nSkate Rental $6 \nRollerblade Rental $7 \nSkatemate Rental $6 \n\n\n \nNon-skating Spectator fee $4
URL:https://www.unitedskates.com/raleigh/event/minions-skate/2025-04-27/
LOCATION:United Skates Of America Raleigh\, 2901 Trawick Rd.\, Raleigh\, NC\, 27604\, United States
CATEGORIES:Family Events,Public Skates,Special Events
ATTACH;FMTTYPE=image/png:https://unitedskates-assets.sfo3.digitaloceanspaces.com/wp-content/uploads/sites/22/2025/03/Screenshot-2026-01-07-at-2.37.13-PM.png
END:VEVENT
END:VCALENDAR