BEGIN:VCALENDAR
VERSION:2.0
PRODID:-//Rink 58 - Raleigh - ECPv6.15.20//NONSGML v1.0//EN
CALSCALE:GREGORIAN
METHOD:PUBLISH
X-WR-CALNAME:Rink 58 - Raleigh
X-ORIGINAL-URL:https://www.unitedskates.com/raleigh
X-WR-CALDESC:Events for Rink 58 - Raleigh
REFRESH-INTERVAL;VALUE=DURATION:PT1H
X-Robots-Tag:noindex
X-PUBLISHED-TTL:PT1H
BEGIN:VTIMEZONE
TZID:America/New_York
BEGIN:DAYLIGHT
TZOFFSETFROM:-0500
TZOFFSETTO:-0400
TZNAME:EDT
DTSTART:20240310T070000
END:DAYLIGHT
BEGIN:STANDARD
TZOFFSETFROM:-0400
TZOFFSETTO:-0500
TZNAME:EST
DTSTART:20241103T060000
END:STANDARD
BEGIN:DAYLIGHT
TZOFFSETFROM:-0500
TZOFFSETTO:-0400
TZNAME:EDT
DTSTART:20250309T070000
END:DAYLIGHT
BEGIN:STANDARD
TZOFFSETFROM:-0400
TZOFFSETTO:-0500
TZNAME:EST
DTSTART:20251102T060000
END:STANDARD
BEGIN:DAYLIGHT
TZOFFSETFROM:-0500
TZOFFSETTO:-0400
TZNAME:EDT
DTSTART:20260308T070000
END:DAYLIGHT
BEGIN:STANDARD
TZOFFSETFROM:-0400
TZOFFSETTO:-0500
TZNAME:EST
DTSTART:20261101T060000
END:STANDARD
BEGIN:DAYLIGHT
TZOFFSETFROM:-0500
TZOFFSETTO:-0400
TZNAME:EDT
DTSTART:20270314T070000
END:DAYLIGHT
BEGIN:STANDARD
TZOFFSETFROM:-0400
TZOFFSETTO:-0500
TZNAME:EST
DTSTART:20271107T060000
END:STANDARD
END:VTIMEZONE
BEGIN:VEVENT
DTSTART;TZID=America/New_York:20260102T150000
DTEND;TZID=America/New_York:20260102T170000
DTSTAMP:20260421T153829
CREATED:20251023T183010Z
LAST-MODIFIED:20251023T183010Z
UID:22316-1767366000-1767373200@www.unitedskates.com
SUMMARY:Winter Break Public Skate
DESCRIPTION:CLICK OR TAP HERE TO PURCHASE TICKETS \nCLICK OR TAP HERE TO FILL OUT OUR WAIVER \nWinter Break Public Skate \nAdmission $13 Online/$15 @ the door \nRegular Skate Rental $6 \nRollerblade Rental $7 \nSkate Mate Rental $6 \nNon-Skating Adult Chaperone $4
URL:https://www.unitedskates.com/raleigh/event/winter-break-public-skate-3/2026-01-02/
LOCATION:United Skates Of America Raleigh\, 2901 Trawick Rd.\, Raleigh\, NC\, 27604\, United States
CATEGORIES:Family Events,Public Skates,Special Events
ATTACH;FMTTYPE=image/jpeg:https://unitedskates-assets.sfo3.digitaloceanspaces.com/wp-content/uploads/sites/22/2025/10/WB-skate-2022-1200x1200-1.jpg
END:VEVENT
BEGIN:VEVENT
DTSTART;TZID=America/New_York:20251230T150000
DTEND;TZID=America/New_York:20251230T170000
DTSTAMP:20260421T153829
CREATED:20251023T183010Z
LAST-MODIFIED:20251023T183010Z
UID:22315-1767106800-1767114000@www.unitedskates.com
SUMMARY:Winter Break Public Skate
DESCRIPTION:CLICK OR TAP HERE TO PURCHASE TICKETS \nCLICK OR TAP HERE TO FILL OUT OUR WAIVER \nWinter Break Public Skate \nAdmission $13 Online/$15 @ the door \nRegular Skate Rental $6 \nRollerblade Rental $7 \nSkate Mate Rental $6 \nNon-Skating Adult Chaperone $4
URL:https://www.unitedskates.com/raleigh/event/winter-break-public-skate-3/2025-12-30/
LOCATION:United Skates Of America Raleigh\, 2901 Trawick Rd.\, Raleigh\, NC\, 27604\, United States
CATEGORIES:Family Events,Public Skates,Special Events
ATTACH;FMTTYPE=image/jpeg:https://unitedskates-assets.sfo3.digitaloceanspaces.com/wp-content/uploads/sites/22/2025/10/WB-skate-2022-1200x1200-1.jpg
END:VEVENT
BEGIN:VEVENT
DTSTART;TZID=America/New_York:20251229T150000
DTEND;TZID=America/New_York:20251229T170000
DTSTAMP:20260421T153829
CREATED:20251023T183010Z
LAST-MODIFIED:20251023T183010Z
UID:22314-1767020400-1767027600@www.unitedskates.com
SUMMARY:Winter Break Public Skate
DESCRIPTION:CLICK OR TAP HERE TO PURCHASE TICKETS \nCLICK OR TAP HERE TO FILL OUT OUR WAIVER \nWinter Break Public Skate \nAdmission $13 Online/$15 @ the door \nRegular Skate Rental $6 \nRollerblade Rental $7 \nSkate Mate Rental $6 \nNon-Skating Adult Chaperone $4
URL:https://www.unitedskates.com/raleigh/event/winter-break-public-skate-3/2025-12-29/
LOCATION:United Skates Of America Raleigh\, 2901 Trawick Rd.\, Raleigh\, NC\, 27604\, United States
CATEGORIES:Family Events,Public Skates,Special Events
ATTACH;FMTTYPE=image/jpeg:https://unitedskates-assets.sfo3.digitaloceanspaces.com/wp-content/uploads/sites/22/2025/10/WB-skate-2022-1200x1200-1.jpg
END:VEVENT
BEGIN:VEVENT
DTSTART;TZID=America/New_York:20251226T150000
DTEND;TZID=America/New_York:20251226T170000
DTSTAMP:20260421T153829
CREATED:20251023T183010Z
LAST-MODIFIED:20251023T183010Z
UID:22313-1766761200-1766768400@www.unitedskates.com
SUMMARY:Winter Break Public Skate
DESCRIPTION:CLICK OR TAP HERE TO PURCHASE TICKETS \nCLICK OR TAP HERE TO FILL OUT OUR WAIVER \nWinter Break Public Skate \nAdmission $13 Online/$15 @ the door \nRegular Skate Rental $6 \nRollerblade Rental $7 \nSkate Mate Rental $6 \nNon-Skating Adult Chaperone $4
URL:https://www.unitedskates.com/raleigh/event/winter-break-public-skate-3/2025-12-26/
LOCATION:United Skates Of America Raleigh\, 2901 Trawick Rd.\, Raleigh\, NC\, 27604\, United States
CATEGORIES:Family Events,Public Skates,Special Events
ATTACH;FMTTYPE=image/jpeg:https://unitedskates-assets.sfo3.digitaloceanspaces.com/wp-content/uploads/sites/22/2025/10/WB-skate-2022-1200x1200-1.jpg
END:VEVENT
BEGIN:VEVENT
DTSTART;TZID=America/New_York:20251223T150000
DTEND;TZID=America/New_York:20251223T170000
DTSTAMP:20260421T153829
CREATED:20251023T183010Z
LAST-MODIFIED:20251023T183010Z
UID:22312-1766502000-1766509200@www.unitedskates.com
SUMMARY:Winter Break Public Skate
DESCRIPTION:CLICK OR TAP HERE TO PURCHASE TICKETS \nCLICK OR TAP HERE TO FILL OUT OUR WAIVER \nWinter Break Public Skate \nAdmission $13 Online/$15 @ the door \nRegular Skate Rental $6 \nRollerblade Rental $7 \nSkate Mate Rental $6 \nNon-Skating Adult Chaperone $4
URL:https://www.unitedskates.com/raleigh/event/winter-break-public-skate-3/2025-12-23/
LOCATION:United Skates Of America Raleigh\, 2901 Trawick Rd.\, Raleigh\, NC\, 27604\, United States
CATEGORIES:Family Events,Public Skates,Special Events
ATTACH;FMTTYPE=image/jpeg:https://unitedskates-assets.sfo3.digitaloceanspaces.com/wp-content/uploads/sites/22/2025/10/WB-skate-2022-1200x1200-1.jpg
END:VEVENT
BEGIN:VEVENT
DTSTART;TZID=America/New_York:20251222T150000
DTEND;TZID=America/New_York:20251222T170000
DTSTAMP:20260421T153829
CREATED:20251023T183010Z
LAST-MODIFIED:20251215T192242Z
UID:22090-1766415600-1766422800@www.unitedskates.com
SUMMARY:Winter Break Public Skate
DESCRIPTION:CLICK OR TAP HERE TO PURCHASE TICKETS \nCLICK OR TAP HERE TO FILL OUT OUR WAIVER \nWinter Break Public Skate \nAdmission $13 Online/$15 @ the door \nRegular Skate Rental $6 \nRollerblade Rental $7 \nSkate Mate Rental $6 \nNon-Skating Adult Chaperone $4
URL:https://www.unitedskates.com/raleigh/event/winter-break-public-skate-3/2025-12-22/
LOCATION:United Skates Of America Raleigh\, 2901 Trawick Rd.\, Raleigh\, NC\, 27604\, United States
CATEGORIES:Family Events,Public Skates,Special Events
ATTACH;FMTTYPE=image/jpeg:https://unitedskates-assets.sfo3.digitaloceanspaces.com/wp-content/uploads/sites/22/2025/10/WB-skate-2022-1200x1200-1.jpg
END:VEVENT
END:VCALENDAR