BEGIN:VCALENDAR
VERSION:2.0
PRODID:-//Rink 46 - MLK Skating - ECPv6.15.20//NONSGML v1.0//EN
CALSCALE:GREGORIAN
METHOD:PUBLISH
X-WR-CALNAME:Rink 46 - MLK Skating
X-ORIGINAL-URL:https://www.unitedskates.com/mlk-skating
X-WR-CALDESC:Events for Rink 46 - MLK Skating
REFRESH-INTERVAL;VALUE=DURATION:PT1H
X-Robots-Tag:noindex
X-PUBLISHED-TTL:PT1H
BEGIN:VTIMEZONE
TZID:America/Chicago
BEGIN:DAYLIGHT
TZOFFSETFROM:-0600
TZOFFSETTO:-0500
TZNAME:CDT
DTSTART:20250309T080000
END:DAYLIGHT
BEGIN:STANDARD
TZOFFSETFROM:-0500
TZOFFSETTO:-0600
TZNAME:CST
DTSTART:20251102T070000
END:STANDARD
BEGIN:DAYLIGHT
TZOFFSETFROM:-0600
TZOFFSETTO:-0500
TZNAME:CDT
DTSTART:20260308T080000
END:DAYLIGHT
BEGIN:STANDARD
TZOFFSETFROM:-0500
TZOFFSETTO:-0600
TZNAME:CST
DTSTART:20261101T070000
END:STANDARD
BEGIN:DAYLIGHT
TZOFFSETFROM:-0600
TZOFFSETTO:-0500
TZNAME:CDT
DTSTART:20270314T080000
END:DAYLIGHT
BEGIN:STANDARD
TZOFFSETFROM:-0500
TZOFFSETTO:-0600
TZNAME:CST
DTSTART:20271107T070000
END:STANDARD
END:VTIMEZONE
BEGIN:VEVENT
DTSTART;TZID=America/Chicago:20260704T103000
DTEND;TZID=America/Chicago:20260704T113000
DTSTAMP:20260421T143151
CREATED:20260421T183158Z
LAST-MODIFIED:20260421T183158Z
UID:20743-1783161000-1783164600@www.unitedskates.com
SUMMARY:🛼✨ SKATE LESSONS - SKATE SECRET SATURDAYS ✨🛼
DESCRIPTION:Learn from the one and only 👟🔥 Josh “Batsmoke” Smith \nAll ages are welcome! Whether you’re just learning how to stand on skates\, trying to get off the wall\, or ready to level up your footwork — this class is for YOU. \nThis is your chance to:\n✔️ Build confidence✔️ Learn real techniques✔️ Improve your balance✔️ Unlock those skate secrets 👀✨ \nParents\, kids\, beginners\, and future pros — pull up and roll with us! \nRegular Admission: $10 \nRegular Skate Rental $5.00 (Bring your own skates or rent ours!)
URL:https://www.unitedskates.com/mlk-skating/event/%f0%9f%9b%bc%e2%9c%a8-skate-lessons-skate-secret-saturdays-%e2%9c%a8%f0%9f%9b%bc/2026-07-04/
LOCATION:Dr. Martin Luther King\, Jr. Park & Family Entertainment Center\, 1219 W. 76th St.\, Chicago\, IL\, 6020\, United States
CATEGORIES:Family Events,Lessons,Special Events
ATTACH;FMTTYPE=image/jpeg:https://unitedskates-assets.sfo3.digitaloceanspaces.com/wp-content/uploads/sites/18/2026/04/Skate-Secrets-Skate-Lessons-Official-Flyer-2026.jpg
END:VEVENT
END:VCALENDAR