BEGIN:VCALENDAR
VERSION:2.0
PRODID:-//Rink 46 - MLK Skating - ECPv6.15.20//NONSGML v1.0//EN
CALSCALE:GREGORIAN
METHOD:PUBLISH
X-WR-CALNAME:Rink 46 - MLK Skating
X-ORIGINAL-URL:https://www.unitedskates.com/mlk-skating
X-WR-CALDESC:Events for Rink 46 - MLK Skating
REFRESH-INTERVAL;VALUE=DURATION:PT1H
X-Robots-Tag:noindex
X-PUBLISHED-TTL:PT1H
BEGIN:VTIMEZONE
TZID:America/Chicago
BEGIN:DAYLIGHT
TZOFFSETFROM:-0600
TZOFFSETTO:-0500
TZNAME:CDT
DTSTART:20250309T080000
END:DAYLIGHT
BEGIN:STANDARD
TZOFFSETFROM:-0500
TZOFFSETTO:-0600
TZNAME:CST
DTSTART:20251102T070000
END:STANDARD
BEGIN:DAYLIGHT
TZOFFSETFROM:-0600
TZOFFSETTO:-0500
TZNAME:CDT
DTSTART:20260308T080000
END:DAYLIGHT
BEGIN:STANDARD
TZOFFSETFROM:-0500
TZOFFSETTO:-0600
TZNAME:CST
DTSTART:20261101T070000
END:STANDARD
BEGIN:DAYLIGHT
TZOFFSETFROM:-0600
TZOFFSETTO:-0500
TZNAME:CDT
DTSTART:20270314T080000
END:DAYLIGHT
BEGIN:STANDARD
TZOFFSETFROM:-0500
TZOFFSETTO:-0600
TZNAME:CST
DTSTART:20271107T070000
END:STANDARD
END:VTIMEZONE
BEGIN:VEVENT
DTSTART;VALUE=DATE:20260515
DTEND;VALUE=DATE:20260607
DTSTAMP:20260421T065703
CREATED:20260410T213415Z
LAST-MODIFIED:20260410T213415Z
UID:20727-1778821200-1780721999@www.unitedskates.com
SUMMARY:🎓🛼 GRADUATION ROLLER SKATING PARTIES - RESERVATIONS AVAILABLE! 🛼🎓
DESCRIPTION:🎓🛼 ATTENTION PARENTS OF 2026 GRADUATES! 🛼🎓 \nThe school year is almost over… and it’s time to celebrate your graduates in the most fun way possible! 🎉 Bring your class\, grade\, or group to the Dr. Martin Luther King Jr. Skating & Bowling Center for an unforgettable Graduation Skate Party! \n📅 Dates Available:May 15 – June 5\, 2026 \n🎉 Book Your Graduation Party Now!Celebrate with skating\, food\, games\, music\, and tons of fun with classmates! \n👥 Group Minimum: 20 Guests \n✨ Party Package Options: \n💰 $25 PER PERSON🍕 2 Slices of Pizza🥤 Tower of Drinks🎮 21 Game Credits💡 10oz LED Cup🌟 Glow Necklace \nOR \n💰 $18.99 PER PERSON🛼 Admission🎟 Skate Rental🍕 One Slice of Pizza🥤 One Drink🎮 10 Game Credits \n🎓 Perfect for:✔ Elementary School Graduations✔ 8th Grade Graduations✔ Kindergarten Graduations✔ Class Celebrations \n⚠️ Dates will fill up quickly — reserve your graduation party today! \n📞 Call 312-747-2602 to reserve your date now📍 1219 W. 76th St. Chicago
URL:https://www.unitedskates.com/mlk-skating/event/%f0%9f%8e%93%f0%9f%9b%bc-graduation-roller-skating-parties-reservations-available-%f0%9f%9b%bc%f0%9f%8e%93/
LOCATION:Dr. Martin Luther King\, Jr. Park & Family Entertainment Center\, 1219 W. 76th St.\, Chicago\, IL\, 6020\, United States
CATEGORIES:Family Events,Special Events
ATTACH;FMTTYPE=image/jpeg:https://unitedskates-assets.sfo3.digitaloceanspaces.com/wp-content/uploads/sites/18/2026/04/Graduation-Skate-Party-Editable-3.jpg
END:VEVENT
BEGIN:VEVENT
DTSTART;TZID=America/Chicago:20260523T120000
DTEND;TZID=America/Chicago:20260523T150000
DTSTAMP:20260421T065703
CREATED:20260228T014236Z
LAST-MODIFIED:20260410T205053Z
UID:19138-1779537600-1779548400@www.unitedskates.com
SUMMARY:🍫✨ 🍭 WILLY WONKA SKATE OR BOWL ADVENTURE 🍭 ✨🍫
DESCRIPTION:Step into a world of candy\, color\, and roller skating magic at MLK Skating & Bowling Center! 🎩🛼 Get ready to roll with Oompa Loompa for a sweet skating adventure you won’t want to miss! \n🎭 Special Event Features:🍬 Meet Oompa Loompa📸 Fun photo opportunities🎶 Music\, skating\, and colorful Wonka vibes \n🍫 BONUS SWEET SURPRISE!Visit the Dr. MLK Chocolate Factory Café and purchase a Wonka Bar… because one lucky bar could contain the GOLDEN TICKET! \n🎉 Golden Ticket Winners May Receive:🍭 Candy surprises🎁 Special prizes🎊 Fun giveaways \n$14.00 Admission Includes: 1 Slice of delicious🍕cheese pizza $5.00 Skate Rental OR \n$14.00 1 Game of Bowling Includes: 1 Slice of delicious🍕cheese pizza $5.00 Shoe Rental \n$11.00 Spectator fee for Non-Skating OR Non-Bowling Adults \nEach Activity will need to be paid for separately. \n*All Guest\, ages 2-17 Must pay for admission and rental whether skating or not. \n*TAXES ARE NOT INCLUDED
URL:https://www.unitedskates.com/mlk-skating/event/public-skate-bowl-session-i-2-2026-05-23/
LOCATION:Dr. Martin Luther King\, Jr. Park & Family Entertainment Center\, 1219 W. 76th St.\, Chicago\, IL\, 6020\, United States
CATEGORIES:Family Events,Public Skates,Special Events
ATTACH;FMTTYPE=image/png:https://unitedskates-assets.sfo3.digitaloceanspaces.com/wp-content/uploads/sites/18/2026/02/Willie-Wonka-Skate.png
END:VEVENT
END:VCALENDAR