BEGIN:VCALENDAR
VERSION:2.0
PRODID:-//Rink 46 - MLK Skating - ECPv6.15.20//NONSGML v1.0//EN
CALSCALE:GREGORIAN
METHOD:PUBLISH
X-ORIGINAL-URL:https://www.unitedskates.com/mlk-skating
X-WR-CALDESC:Events for Rink 46 - MLK Skating
REFRESH-INTERVAL;VALUE=DURATION:PT1H
X-Robots-Tag:noindex
X-PUBLISHED-TTL:PT1H
BEGIN:VTIMEZONE
TZID:America/Chicago
BEGIN:DAYLIGHT
TZOFFSETFROM:-0600
TZOFFSETTO:-0500
TZNAME:CDT
DTSTART:20240310T080000
END:DAYLIGHT
BEGIN:STANDARD
TZOFFSETFROM:-0500
TZOFFSETTO:-0600
TZNAME:CST
DTSTART:20241103T070000
END:STANDARD
BEGIN:DAYLIGHT
TZOFFSETFROM:-0600
TZOFFSETTO:-0500
TZNAME:CDT
DTSTART:20250309T080000
END:DAYLIGHT
BEGIN:STANDARD
TZOFFSETFROM:-0500
TZOFFSETTO:-0600
TZNAME:CST
DTSTART:20251102T070000
END:STANDARD
BEGIN:DAYLIGHT
TZOFFSETFROM:-0600
TZOFFSETTO:-0500
TZNAME:CDT
DTSTART:20260308T080000
END:DAYLIGHT
BEGIN:STANDARD
TZOFFSETFROM:-0500
TZOFFSETTO:-0600
TZNAME:CST
DTSTART:20261101T070000
END:STANDARD
END:VTIMEZONE
BEGIN:VEVENT
DTSTART;TZID=America/Chicago:20251103T130000
DTEND;TZID=America/Chicago:20251103T160000
DTSTAMP:20260422T171631
CREATED:20251002T194240Z
LAST-MODIFIED:20251002T194240Z
UID:17957-1762174800-1762185600@www.unitedskates.com
SUMMARY:✨🎳Seniors Bowl Monday ✨🎳
DESCRIPTION:🎳✨ Calling All Ages 50+! ✨🎳 \nCome out and join us for fun\, friends\, and bowling every first and third Monday of the month! \n🕐 1:00 PM – 4:00 PM \n🎟 Special Offer:✔ $10 = 1 game of bowling 🎳 + shoe rental 👟 (+tax)✔ Additional games just $6 each (+tax) \n👥 Bringing a group? If you have 10 or more friends\, call us at 312-747-2602 to reserve your lanes! \n📌 Valid only on the first and third Monday of each month. \nDon’t miss this chance to stay active\, socialize\, and enjoy a great time at an unbeatable price! 🎉
URL:https://www.unitedskates.com/mlk-skating/event/%e2%9c%a8%f0%9f%8e%b3seniors-bowl-monday-%e2%9c%a8%f0%9f%8e%b3/2025-11-03/
LOCATION:IL
CATEGORIES:Adult Events,Special Events
ATTACH;FMTTYPE=image/jpeg:https://unitedskates-assets.sfo3.digitaloceanspaces.com/wp-content/uploads/sites/18/2025/10/Senior-Bowl-Mondays-1.jpg
END:VEVENT
END:VCALENDAR